{"text_format":"1","workbook":"xlsx","n_sheets":35,"sheets":["Общая информация","Информация для регулирования","корректировка","Текущие расходы","Расчет тарифа методом ЭОТ","Смета расходов","Расчет водного налога","Нат. показатели по МО","Баланс ВС","modServiceModule","et_union","Объемы","Сырье и материалы"," ЭЭ","ТЭ","ТН","Топливо","Покупная вода","Оплата труда","Оплата труда 2","Амортизация","Амортизация 2","Услуги сторонних организаций","Цех и Администр расх","Аренда, лизинг, концессия","Нормативная прибыль","Охр.труда и Авто","Налоги","Динамика","Отчет по исп ПП","Расходы на ремонт и ТО","Сомнительные долги","Штатка","Объекты","Лист1"],"not_rendered":{"charts":0,"images":1,"macros":1,"external_links":1,"defined_names":106,"comments":1,"pivot_tables":0},"unopened":[],"bounds":{"document_bytes":16777216,"sheet_cells":100000,"rows_first":2000,"rows_last":500,"rows_between":2000,"halvings":0,"cell_chars":16384,"cell_head_chars":4096},"cells_cut":0,"cells_raw":0,"read":"whole","date_system":"1900"}

{"sheet":"Общая информация","index":0,"n_rows":30,"n_cols":7,"rows_kept":30,"cut":false,"hidden":false,"merged":[[1,0,1,3],[16,0,16,1],[16,2,16,3],[17,1,17,3],[7,0,9,0],[5,1,5,3],[6,1,6,3],[7,2,7,3],[3,1,3,3],[4,1,4,3],[29,1,29,2],[8,2,8,3],[9,2,9,3],[12,1,12,3],[27,1,27,2],[23,0,23,1],[25,0,25,3],[19,0,22,0],[24,1,24,3],[20,2,20,3],[21,2,21,3],[22,2,22,3],[23,2,23,3],[19,2,19,3]]}
[null,null,null,"Приложение А"]
["Общая информация о регулируемой организации"]
[]
["Фирменное наименование регулируемой организации (согласно Уставу)","БЕЙСУЖЕКСКОЕ МНОГООТРАСЛЕВОЕ МУНИЦИПАЛЬНОЕ УНИТАРНОЕ ПРЕДПРИЯТИЕ ЖИЛИЩНО-КОММУНАЛЬНОГО ХОЗЯЙСТВА"]
["Сокращенное фирменное наименование","Бейсужекское ММУП ЖКХ"]
["Муниципальный район","Выселковский"]
["Муниципальное образование","Бейсужекское"]
["Адрес","Юридический","353136 Краснодарский край,, Выселковский район, хутор Бейсужек Второй,ул. Октябрьская, дом№20"]
[null,"Фактический","353136 Краснодарский край,, Выселковский район, хутор Бейсужек Второй,ул. Октябрьская, дом№20"]
[null,"Почтовый","353136 Краснодарский край,, Выселковский район, хутор Бейсужек Второй,ул. Октябрьская, дом№20"]
["Телефон организации (с кодом)",89002774581,"Факс (с кодом)"]
["Адрес электронной почты (e-mail)","jkcha@mail.ru","Адрес  WEB-сайта (при наличии)"]
["Реквизиты утверждения устава","Утверждено Постановлением главы Бейсужекского сельского поселения Выселкоского района от 29.01.2013 №3"]
["ИНН",2328016005,"КПП",232801001]
["Код налогового органа",2328,"Наименование налогового органа"]
["ОГРН (форма Р51001)",1052315826914,"Дата присвоения ОГРН","27.12.2005г"]
["Наименование регистрирующего органа, выдавшего свидетельство о государственной регистрации юридического лица",null,"Инспекция Федеральной налоговой службы Выселковского района Краснодарского края"]
["ФИО руководителя регулируемой организации (полностью)","Белозерский Сергей Анатольевич"]
["Должность руководителя","Директор","Контактный телефон руководителя",89615969804]
["Банковские реквизиты","Расчетный счет *",4.0702810700049998E+19]
[null,"Кор. Счет *",3.0101810499999998E+19]
[null,"БИК",40349516]
[null,"Наименование банка","ПАО \"Крайивест\" г. Краснодар"]
["Доля участия государства (РФ, субъекта, МО) в уставном капитале",null,100]
["Субъект предпринимательства","малый",null,null,null,null,"малый"]
["               * Перед номерами счетов ставим значок № для корректного отображения всех цифр",null,null,null,null,null,"средний"]
[null,null,null,null,null,null,"крупный"]
["Руководитель организации","______________________________________"]
[]
["Ответственный за составление формы","______________________________________"]

{"sheet":"Информация для регулирования","index":1,"n_rows":40,"n_cols":9,"rows_kept":40,"cut":false,"hidden":false,"merged":[[11,1,11,4],[29,0,31,0],[31,2,31,4],[12,1,12,4],[21,1,21,4],[24,1,24,4],[22,1,22,4],[23,1,23,4],[28,1,28,4],[16,1,16,4],[15,1,15,4],[14,1,14,4],[13,3,13,4],[1,0,1,4],[37,1,37,2],[37,3,37,4],[20,1,20,4],[19,1,19,4],[18,1,18,4],[8,1,8,4],[6,1,6,4],[27,1,27,4],[17,1,17,4],[3,3,3,4],[4,3,4,4],[5,1,5,4],[7,1,7,4],[10,1,10,4],[9,1,9,4],[39,1,39,2],[39,3,39,4],[25,0,26,0],[32,1,32,4],[33,1,33,4],[34,1,34,4],[25,3,26,3],[29,3,30,3]]}
[null,null,null,null,"Приложение Б"]
["Информация для расчета тарифа"]
[]
["Является ли организация гарантирующей","нет","реквизиты документа",null,null,null,null,null,"да"]
["Утверждены ли схемы водоснабжения","да","реквизиты документа",null,null,null,null,null,"нет"]
["Источник с размещением схем водоснабжения","Приложение №3 к лицензии КРД 04091 ВЭ"]
["Основной вид деятельности организации","Распределение воды"]
["Количество видов деятельности (всех), ед.",1]
["Применяемая система налогообложения","Упрощенная система налогообложения (доходы-расходы)",null,null,null,null,null,null,"Общая система налогообложения"]
["Право владения объектами водоснабжения","Хозяйственное ведение",null,null,null,null,null,null,"Общая система налогообложения (освобождение от уплаты НДС в соответствии со ст. 145 НК РФ)"]
["Реквизиты документов (наименование, № и дата), подтверждающие право владения объектами коммунальной инфраструктуры","Договора о закреплении муниципального имущества администрации Бейсужекского сельского поселения на праве хозяйственного ведения за Бейсужекским многоотраслевым муниципальным унитарным предприятием Жилищно-коммунального хозяйства от27.01.2007г и от 25.03.2015г",null,null,null,null,null,null,"Упрощенная система налогообложения (доходы)"]
["Срок владения объектами (с-по)","бессрочно",null,null,null,null,null,null,"Упрощенная система налогообложения (доходы-расходы)"]
["Поверхностные источники водозабора",null,null,null,null,null,null,null,"Единый сельскохозяйственный налог"]
["Подземные источники водозабора (количество артезианских скважин), ед.",3,"из них действующих",3,null,null,null,null,"Единый налог на вмененный доход"]
["Суммарная установленная производственная мощность водозабора, куб.м/час",57]
["Количество водонапорных башен, ед.",3]
["Протяженность сетей водоснабжения, км.",32.15]
["Суммарная установленная производственная мощность транспортирования воды, куб.м/час",57]
["Количество очистных сооружений для водоподготовки, ед."]
["Суммарная установленная производственная мощность очистных сооружений водоподготовки, куб.м/час"]
["Наименование обслуживаемых МО (населенных пунктов)"]
["Планируемый объем отпуска воды, тыс. куб.м",119.45]
["в том числе населению, исполнителям коммунальных услуг (УК, ТСЖ и пр.)",97.43]
["Наличие приборов учета у потребителей, %",100]
["Наличие приборов учета у организации","да"]
["Действующие тарифы без НДС, руб./куб.м.","с 01.01.16 по 30.06.16",22.76,"с НДС",22.76]
[null,"с 01.07.16 по 31.12.16",23.68,null,23.68]
["Реквизиты нормативного акта по установлению тарифов на 2016-2018 год, корректировка 2017-2018 год","Приказ №32/2015-ОКК от20.11.2015 РЕГИОНАЛЬНОЙ ЭНЕРГЕТИЧЕСКОЙ КОМИССИИ- ДЕПАРТАМЕНТ ЦЕН И ТАИФОВ КРАСНОДАРСКОГО КРАЯ"]
["Заявленный метод регулирования","метод индексации",null,null,null,null,null,null,"метод экономическм обоснованных расходов (затрат)"]
["Тарифы, руб./куб.м.","с 01.01.17 по 30.06.17",23.68,"с НДС",23.68,null,null,null,"метод индексации"]
[null,"с 01.07.17 по 31.12.17",24.44,null,24.44,null,null,null,"метод сравнения аналогов"]
[null,"план ОКК на 2018 без НДС",{"$f":"корректировка!O43","v":32.812107825034388},null,null,null,null,null,"метод доходности инвестированного капитала"]
["Наличие инвестиционной программы (период действия)","Нет"]
["Ответственный за работу с РЭК","Суменко Лидия Евгеньевна"]
["Контактный телефон ответственного",89002774581]
[]
[]
["Руководитель организации","______________________________________"]
[]
["Ответственный за составление формы","______________________________________"]

{"sheet":"корректировка","index":2,"n_rows":58,"n_cols":29,"rows_kept":58,"cut":false,"hidden":false,"merged":[[50,0,50,12],[3,8,4,8],[3,12,4,12],[3,15,4,15],[3,0,4,0],[3,1,4,1],[48,0,48,12],[0,8,0,16],[1,6,1,16],[3,13,4,13],[3,2,4,2],[3,3,3,4],[3,5,4,5],[3,6,3,7],[3,16,4,16],[1,0,1,3]]}
[null,null,null,null,null,null,null,null,"Приложение 7"]
["Расчет тарифа методом индексации на питьевую воду ",null,null,null,null,null,"Бейсужекское ММУП ЖКХ"]
[]
["№ п/п","Наименование","Ед. изм.",2014,null,"2014 факт РЭК",2015,null,"2015 ожид РЭК",2016,2016,2017,"2017 план РЭК первоначальный","2017 план РЭК корректировка",2018,"2018 план РЭК первоначальный","2018 план РЭК корректировка"]
[null,null,null,"утверждено","факт",null,"утверждено РЭК","ожид",null,"план","утверждено РЭК","утверждено РЭК",null,null,"план ОКК"]
[1,2,3,4,5,"5*",6,7,"7*",8,"8*",9,"9*","9**",10,"10*","10**"]
[1,"Необходимая валовая выручка","тыс. руб.",{"$f":"D8+D17+D18+D19+D22","v":{"$error":"#DIV/0!"}},{"$f":"E8+E17+E18+E19+E22","v":0},0,{"$error":"#DIV/0!"},0,0,{"$error":"#DIV/0!"},3039.4494044499088,3233.4141246944637,{"$error":"#DIV/0!"},{"$error":"#DIV/0!"},3493.943818792271,3357.1742388678999,3352.8165489296312,{"$f":"Q7-O7","v":-141.12726986263988}]
["1.1","Текущие расходы","тыс. руб.",{"$f":"D9+D13+D14","v":{"$error":"#DIV/0!"}},0,0,{"$error":"#DIV/0!"},0,0,{"$f":"J9+J13+J14","v":{"$error":"#DIV/0!"}},3039.4494044499088,3233.4141246944637,{"$error":"#DIV/0!"},{"$error":"#DIV/0!"},3493.943818792271,3357.1742388678999,3352.8165489296312,{"$f":"Q8-O8","v":-141.12726986263988}]
["1.1.1","Операционные расходы","тыс. руб.",{"$f":"'Текущие расходы'!D6","v":{"$error":"#DIV/0!"}},null,null,{"$f":"'Текущие расходы'!G6","v":{"$error":"#DIV/0!"}},null,null,{"$f":"'Текущие расходы'!J6","v":{"$error":"#DIV/0!"}},{"$f":"'Текущие расходы'!K6","v":2221.3994044499086},{"$f":"K9*(1-L10)*(1+L11%)*(1+L12)","v":2302.5471246944635},{"$f":"K9*(1-M10)*(1+M11%)*(1+M12)","v":2221.3994044499086},{"$f":"K9*(1-N10)*(1+N11%)*(1+N12)","v":2221.3994044499086},{"$f":"L9*(1-O10)*(1+O11%)*(1+O12)","v":2507.4738187922712},{"$f":"L9*(1-P10)*(1+P11%)*(1+P12)","v":2370.7059388678999},{"$f":"L9*(1-Q10)*(1+Q11%)*(1+Q12)","v":2363.863954625077},-143.60986416719425]
["1.1.1.1","индекс эффективности расходов",null,null,null,null,null,null,null,null,null,0.01,0,0,0.01,0.01,0.01,0]
["1.1.1.2","индекс потребительских цен",null,null,null,null,null,null,null,null,null,4.7,null,null,10,4.0001499999999997,3.7,-6.3]
["1.1.1.3","индекс количества активов",null,null,null,null,null,null,null,null,null,0,0,0,0,0,0,0]
["1.1.2","Расходы на электрическую энергию","тыс. руб.",{"$f":"'Текущие расходы'!D7","v":{"$error":"#DIV/0!"}},null,null,{"$f":"'Текущие расходы'!G7","v":{"$error":"#DIV/0!"}},null,null,{"$f":"'Текущие расходы'!J7","v":{"$error":"#DIV/0!"}},{"$f":"'Текущие расходы'!K7","v":776.71},{"$f":"'Текущие расходы'!L7","v":883.25699999999995},{"$f":"'Текущие расходы'!M7","v":{"$error":"#DIV/0!"}},{"$f":"'Текущие расходы'!N7","v":{"$error":"#DIV/0!"}},{"$f":"'Текущие расходы'!O7","v":931.83},{"$f":"'Текущие расходы'!P7","v":931.82830000000001},{"$f":"'Текущие расходы'!Q7","v":946.48198721999995},14.65198721999991]
["1.1.3","Неподконтрольные расходы, в том числе","тыс. руб.",{"$f":"'Текущие расходы'!D8","v":{"$error":"#DIV/0!"}},null,null,{"$f":"'Текущие расходы'!G8","v":{"$error":"#DIV/0!"}},null,null,{"$f":"'Текущие расходы'!J8","v":{"$error":"#DIV/0!"}},{"$f":"'Текущие расходы'!K8","v":41.34},{"$f":"'Текущие расходы'!L8","v":47.61},{"$f":"'Текущие расходы'!M8","v":{"$error":"#DIV/0!"}},{"$f":"'Текущие расходы'!N8","v":{"$error":"#DIV/0!"}},{"$f":"'Текущие расходы'!O8","v":54.64},{"$f":"'Текущие расходы'!P8","v":54.64},{"$f":"'Текущие расходы'!Q8","v":42.470607084554203},-12.169392915445798]
["1.1.3.1","возврат займов и кредитов","тыс. руб.",{"$f":"'Текущие расходы'!D59","v":{"$error":"#DIV/0!"}},null,null,{"$f":"'Текущие расходы'!G59","v":{"$error":"#DIV/0!"}},null,null,{"$f":"'Текущие расходы'!J59","v":{"$error":"#VALUE!"}},{"$f":"'Текущие расходы'!K59","v":0},{"$f":"'Текущие расходы'!L59","v":0},{"$f":"'Текущие расходы'!M59","v":{"$error":"#DIV/0!"}},{"$f":"'Текущие расходы'!N59","v":{"$error":"#DIV/0!"}},{"$f":"'Текущие расходы'!O59","v":0},{"$f":"'Текущие расходы'!P59","v":0},{"$f":"'Текущие расходы'!Q59","v":0},0]
["1.1.3.2","проценты по займам и кредитам","тыс. руб.",{"$f":"'Текущие расходы'!D60","v":{"$error":"#DIV/0!"}},null,null,{"$f":"'Текущие расходы'!G60","v":{"$error":"#DIV/0!"}},null,null,{"$f":"'Текущие расходы'!J60","v":{"$error":"#VALUE!"}},{"$f":"'Текущие расходы'!K60","v":0},{"$f":"'Текущие расходы'!L60","v":0},{"$f":"'Текущие расходы'!M60","v":{"$error":"#DIV/0!"}},{"$f":"'Текущие расходы'!N60","v":{"$error":"#DIV/0!"}},{"$f":"'Текущие расходы'!O60","v":0},{"$f":"'Текущие расходы'!P60","v":0},{"$f":"'Текущие расходы'!Q60","v":0},0]
["1.2","Амортизация","тыс. руб.",{"$f":"'Смета расходов'!D71*'Текущие расходы'!$D$68","v":{"$error":"#DIV/0!"}},null,null,{"$f":"'Смета расходов'!H71*'Текущие расходы'!$G$68","v":{"$error":"#DIV/0!"}},null,null,{"$f":"'Смета расходов'!K71*'Текущие расходы'!$J$68","v":{"$error":"#DIV/0!"}},{"$f":"'Смета расходов'!L71*'Текущие расходы'!$K$68","v":0},{"$f":"'Смета расходов'!Q71*'Текущие расходы'!$L$68","v":0},{"$f":"'Смета расходов'!R71*'Текущие расходы'!$M$68","v":{"$error":"#DIV/0!"}},{"$f":"'Смета расходов'!S71*'Текущие расходы'!$N$68","v":{"$error":"#DIV/0!"}},{"$f":"'Смета расходов'!T71*'Текущие расходы'!$O$68","v":0},{"$f":"'Смета расходов'!U71*'Текущие расходы'!$P$68","v":0},{"$f":"'Смета расходов'!V71*'Текущие расходы'!$Q$68","v":0},0]
["1.3","Ремонтные расходы","тыс. руб.",0,null,null,0,null,null,0,0,0,0,0,0,0,0,0]
["1.3","Нормативная прибыль","тыс. руб.",{"$f":"D20+D21","v":0},{"$f":"E20+E21","v":0},0,0,0,0,{"$error":"#VALUE!"},0,0,0,0,0,0,0,0]
["1.3.1","Капитальные расходы","тыс. руб.",{"$f":"'Смета расходов'!D92","v":0},null,null,{"$f":"'Смета расходов'!H92","v":0},null,null,{"$f":"'Смета расходов'!K92","v":{"$error":"#VALUE!"}},{"$f":"'Смета расходов'!L92","v":0},{"$f":"'Смета расходов'!Q92","v":0},{"$f":"'Смета расходов'!R92","v":0},{"$f":"'Смета расходов'!S92","v":0},{"$f":"'Смета расходов'!T92","v":0},{"$f":"'Смета расходов'!U92","v":0},{"$f":"'Смета расходов'!V92","v":0},0]
["1.3.2","Иные экономически обоснованные расходы на социальные нужды, в соответствии с пунктом 86 методических указаний","тыс. руб.",{"$f":"'Смета расходов'!D93","v":0},null,null,{"$f":"'Смета расходов'!H93","v":0},null,null,{"$f":"'Смета расходов'!K93","v":{"$error":"#VALUE!"}},{"$f":"'Смета расходов'!L93","v":0},{"$f":"'Смета расходов'!Q93","v":0},{"$f":"'Смета расходов'!R93","v":0},{"$f":"'Смета расходов'!S93","v":0},{"$f":"'Смета расходов'!T93","v":0},{"$f":"'Смета расходов'!U93","v":0},{"$f":"'Смета расходов'!V93","v":0},0]
["1.4","Расчетная предпринимательская прибыль гарантирующей организации","тыс. руб.",{"$f":"'Смета расходов'!D94","v":0},null,null,{"$f":"'Смета расходов'!H94","v":0},null,null,{"$f":"'Смета расходов'!K94","v":0},{"$f":"'Смета расходов'!L94","v":0},{"$f":"'Смета расходов'!Q94","v":0},{"$f":"U22%*(M8-M15-M16+M17+M18)","v":{"$error":"#DIV/0!"}},{"$f":"'Смета расходов'!S94","v":0},{"$f":"'Смета расходов'!T94","v":0},{"$f":"U22%*(P8-P15-P16+P17+P18)","v":0},{"$f":"'Смета расходов'!V94","v":0},0,null,"процент прибыли ГО, %"]
["2","Корректировка НВВ","тыс. руб.",{"$f":"D24+D25+D26+D27+D28+D29+D30+D34+D35+D36-D37","v":0},0,0,0,0,0,{"$f":"J24+J25+J26+J27+J28+J29+J30+J34+J35+J36-J37","v":0},-296.33999999999997,0,0,0,0,0,-612.46589963054191,-612.46589963054191]
["2.1","Отклонение фактически достигнутого объема поданной воды (выпадающие доходы за отчетные периоды регулирования, связанные с изменением объемов реализации)",null,null,null,null,null,null,null,null,null,null,null,null,null,null,null,0]
["2.2","Отклонение фактических значений индекса потребительских цен и других индексов, предусмотренных прогнозом социально-экономического развития РФ",null,null,null,null,null,null,null,null,null,null,null,null,null,null,null,0]
["2.3","Отклонение фактически достигнутого уровня неподконтрольных расходов",null,null,null,null,null,null,null,null,null,null,null,null,null,null,{"$f":"'Текущие расходы'!S39","v":-16.361899630541874},-16.361899630541874]
["2.4","Ввод объектов системы водоснабжения в эксплуатацию и изменение утвержденной инвестиционной программы",null,null,null,null,null,null,null,null,null,null,null,null,null,null,null,0]
["2.5","Степень исполнения регулируемой организацией обязательств по созданию и (или) реконструкции объектов концессионного соглашения, по эксплуатации объектов по договору аренды централизованных систем холодного водоснабжения, отдельных объектов таких систем, находящихся в государственной или муниципальной собственности, по реализации инвестиционной программы, производственной программы при недостижении регулируемой организацией утвержденных плановых значений показателей надежности и качества объектов централизованных систем водоснабжения",null,null,null,null,null,null,null,null,null,null,null,null,null,null,null,0]
["2.6","Изменение доходности долгосрочных государственных обязательств",null,null,null,null,null,null,null,null,null,null,null,null,null,null,null,0]
["2.7","Экономически обоснованные расходы, не учтенные органом регулирования тарифов при установлении тарифов на ее товары (работы, услуги) в прошлом периоде","тыс. руб.",{"$f":"SUM(D31:D33)","v":0},{"$f":"SUM(E31:E33)","v":0},0,0,0,0,0,0,0,0,0,0,0,0,0]
["2.7.1","экономически обоснованные расходы, понесенные за отчетные периоды","тыс. руб.",null,null,null,null,null,null,null,null,null,null,null,null,null,null,0]
["2.7.2","по результатам рассмотрения ФСТ","тыс. руб.",null,null,null,null,null,null,null,null,null,null,null,null,null,null,0]
["2.7.3","по решению суда","тыс. руб.",null,null,null,null,null,null,null,null,null,null,null,null,null,null,0]
["2.8","Недополученные доходы прошлых периодов регулирования","тыс. руб.",null,null,null,null,null,null,null,null,null,null,null,null,null,null,0]
["2.9","Экономически не обоснованные доходы прошлых периодов регулирования, включая доходы, связанные с нарушениями законодательства РФ при установлении и применении регулируемых тарифов","тыс. руб.",null,null,null,null,null,null,null,null,null,null,null,null,null,null,0]
["2.10","Расходы, связанные с приобретением регулируемой организацией товаров (работ, услуг), используемых при осуществлении регулируемых видов деятельности, по завышенным ценам и в завышенных объемах","тыс. руб.",{"$f":"'Смета расходов'!D98","v":0},null,null,{"$f":"'Смета расходов'!H98","v":0},null,null,{"$f":"'Смета расходов'!K98","v":0},{"$f":"'Смета расходов'!L98","v":-296.33999999999997},null,null,null,null,null,{"$f":"'Смета расходов'!N98","v":-596.10400000000004},-596.10400000000004]
["2.11","Субсидии из бюджета","тыс. руб.",{"$f":"'Смета расходов'!D99","v":0},null,null,{"$f":"'Смета расходов'!H99","v":0},null,null,{"$f":"'Смета расходов'!K99","v":0},{"$f":"'Смета расходов'!L99","v":0},{"$f":"'Смета расходов'!Q99","v":0},{"$f":"'Смета расходов'!R99","v":0},{"$f":"'Смета расходов'!S99","v":0},{"$f":"'Смета расходов'!T99","v":0},{"$f":"'Смета расходов'!U99","v":0},{"$f":"'Смета расходов'!V99","v":0},0]
["3","Налог на прибыль","тыс. руб.",{"$f":"'Смета расходов'!D96","v":0},null,null,{"$f":"'Смета расходов'!H96","v":0},null,null,{"$f":"'Смета расходов'!K96","v":0},{"$f":"'Смета расходов'!L96","v":0},null,null,null,null,null,null,0]
["4","Налог, уплачиваемый в связи с применением упрощенной системы налогообложения","тыс. руб.",{"$f":"'Смета расходов'!D97","v":0},null,null,{"$f":"'Смета расходов'!H97","v":0},null,null,{"$f":"'Смета расходов'!K97","v":0},{"$f":"'Смета расходов'!L97","v":30.39},32.332000000000001,null,null,33.57,33.57,27.68,-5.8900000000000006]
["5","Итого НВВ",null,{"$f":"D7+D23+D38+D39","v":{"$error":"#DIV/0!"}},{"$f":"E7+E23+E38+E39","v":0},0,{"$error":"#DIV/0!"},0,0,{"$error":"#DIV/0!"},2773.4994044499085,3265.7461246944636,{"$error":"#DIV/0!"},{"$error":"#DIV/0!"},3527.5138187922712,3390.7442388679001,2768.030649299089,-759.48316949318223]
["6","ΔНВВ",null,null,null,null,null,null,null,null,null,-391.89,null,null,391.89,391.89,{"$f":"391.89-182.14","v":209.75},-182.14,"На сл. период 182,14"]
["7","Итого НВВ для расчета тарифа","тыс. руб.",{"$f":"D40","v":{"$error":"#DIV/0!"}},{"$f":"E7+E23+E38+E39","v":0},{"$f":"F7+F23+F38+F39","v":0},{"$f":"G40","v":{"$error":"#DIV/0!"}},{"$f":"H7+H23+H38+H39","v":0},{"$f":"I7+I23+I38+I39","v":0},{"$f":"J40+J41","v":{"$error":"#DIV/0!"}},2773.4994044499085,2873.8561246944637,{"$error":"#DIV/0!"},{"$error":"#DIV/0!"},3919.4038187922711,3782.6342388679,2977.780649299089,-941.6231694931821,null,null,"2016 средний","с 01.01.16","с 01.07.16","2017 средний","с 01.01.17","с 01.07.17","2018 средний","с 01.01.18","с 01.07.18"]
["8","Тариф на водоснабжение ","руб. /куб. м",{"$f":"D42/D46","v":{"$error":"#DIV/0!"}},{"$error":"#DIV/0!"},{"$error":"#DIV/0!"},{"$error":"#DIV/0!"},{"$error":"#DIV/0!"},{"$error":"#DIV/0!"},{"$f":"J42/J46","v":{"$error":"#DIV/0!"}},23.218929643111188,24.059086890966768,{"$error":"#DIV/0!"},{"$error":"#DIV/0!"},32.812107825034388,31.66711271579199,24.929112758330227,-7.8829950667041615,null,"Объем реализации",{"$f":"K46","v":119.44992500000001},{"$f":"U43/2","v":59.724962500000004},{"$f":"U43-V43","v":59.724962500000004},{"$f":"L46","v":119.44992500000001},{"$f":"X43/2","v":59.724962500000004},{"$f":"X43-Y43","v":59.724962500000004},{"$f":"P46","v":119.44992500000001},{"$f":"AA43/2","v":59.724962500000004},{"$f":"AA43-AB43","v":59.724962500000004}]
[null,"с 01.01.ХХ до 30.06.ХХ","руб. /куб. м",{"$f":"'Расчет тарифа методом ЭОТ'!D27","v":0},null,null,0,null,null,null,{"$f":"V45","v":22.76},{"$f":"Y45","v":23.677859286222379},{"$f":"Y45","v":23.677859286222379},{"$f":"Y54","v":23.677859286222379},null,{"$f":"AB45","v":24.440314495711156},{"$f":"AB54","v":24.440314495711156},24.440314495711156,null,"НВВ",{"$f":"K42","v":2773.4994044499085},{"$f":"V45*V43","v":1359.3401465000002},{"$f":"U44-V44","v":1414.1592579499084},{"$f":"L42","v":2873.8561246944637},{"$f":"Y45*Y43","v":1414.1592579499084},{"$f":"X44-Y44","v":1459.6968667445553},{"$f":"P42","v":3782.6342388679},{"$f":"AB45*AB43","v":1459.6968667445553},{"$f":"AA44-AB44","v":2322.9373721233446}]
[null,"с 01.07.ХХ до 31.12.ХХ","руб. /куб. м",{"$f":"'Расчет тарифа методом ЭОТ'!D28","v":0},null,null,0,null,null,null,{"$f":"W45","v":23.677859286222379},{"$f":"Z45","v":24.440314495711156},{"$f":"Z45","v":24.440314495711156},{"$f":"Z54","v":24.440314495711156},null,{"$f":"AC45","v":38.893910935872825},{"$f":"AC54","v":25.417911020949298},25.417911020949298,null,"тариф",{"$f":"K43","v":23.218929643111188},22.76,{"$f":"W44/W43","v":23.677859286222379},{"$f":"L43","v":24.059086890966768},{"$f":"W45","v":23.677859286222379},{"$f":"Z44/Z43","v":24.440314495711156},{"$f":"P43","v":31.66711271579199},{"$f":"Z45","v":24.440314495711156},{"$f":"AC44/AC43","v":38.893910935872825}]
["9","Объем водоснабжения (реализация)","тыс. куб. м.",{"$f":"'Смета расходов'!D121","v":0},{"$f":"'Смета расходов'!E121","v":0},{"$f":"'Смета расходов'!F121","v":0},{"$f":"'Смета расходов'!H121","v":0},{"$f":"'Смета расходов'!I121","v":0},{"$f":"'Смета расходов'!J121","v":0},{"$f":"'Смета расходов'!K121","v":0},{"$f":"'Смета расходов'!L121","v":119.44992500000001},{"$f":"'Смета расходов'!Q121","v":119.44992500000001},{"$f":"'Смета расходов'!R121","v":0},{"$f":"'Смета расходов'!S121","v":0},{"$f":"'Смета расходов'!T121","v":119.44992500000001},{"$f":"'Смета расходов'!U121","v":119.44992500000001},{"$f":"'Смета расходов'!V121","v":119.44992500000001},0,null,"тариф с НДС",null,{"$f":"V45","v":22.76},{"$f":"W45","v":23.677859286222379},null,{"$f":"Y45","v":23.677859286222379},{"$f":"Z45","v":24.440314495711156},null,{"$f":"AB45","v":24.440314495711156},{"$f":"AC45","v":38.893910935872825}]
["10","Темп роста тарифа","%",{"$f":"D45/D44*100","v":{"$error":"#DIV/0!"}},null,null,{"$f":"G45/D45*100","v":{"$error":"#DIV/0!"}},null,null,null,{"$f":"K45/K44*100","v":104.03277366530044},{"$f":"L45/K45*100","v":103.22011884719846},{"$f":"M45/K45*100","v":103.22011884719846},{"$f":"N45/N44*100","v":103.22011884719846},null,{"$f":"P45/M45*100","v":159.13834064082121},{"$f":"Q45/Q44*100","v":103.99993431103225},103.99993431103225,null,"Рост,%"]
[]
[]
[null,"Ведущий консультант",null,null,null,null,null,null,null,null,null,"Н.Н.Потапова",null,null,null,null,null,null,null,null,null,null,null,null,null,"после корректировки"]
[null,null,null,null,null,null,null,null,null,null,null,null,null,null,null,null,null,null,null,null,"2016 средний","с 01.01.16","с 01.07.16","2017 средний","с 01.01.17","с 01.07.17","2018 средний","с 01.01.18","с 01.07.18"]
[null,null,null,null,null,null,null,null,null,null,null,null,null,null,null,null,null,null,null,"Объем реализации",{"$f":"U43","v":119.44992500000001},59.724962500000004,59.724962500000004,{"$f":"X43","v":119.44992500000001},{"$f":"X52/2","v":59.724962500000004},{"$f":"X52-Y52","v":59.724962500000004},{"$f":"Q46","v":119.44992500000001},{"$f":"AA52/2","v":59.724962500000004},{"$f":"AA52-AB52","v":59.724962500000004}]
[null,null,null,null,null,null,null,null,null,null,null,null,null,null,null,null,null,null,null,"НВВ",2773.4994044499085,1359.3401465000002,1414.1592579499084,{"$f":"X44","v":2873.8561246944637},{"$f":"Y54*Y52","v":1414.1592579499084},{"$f":"X53-Y53","v":1459.6968667445553},{"$f":"Q42","v":2977.780649299089},{"$f":"AB54*AB52","v":1459.6968667445553},{"$f":"AA53-AB53","v":1518.0837825545336}]
[null,null,null,null,null,null,null,null,null,null,null,null,null,null,null,null,null,null,null,"тариф",23.218929643111188,22.76,23.677859286222379,{"$f":"X45","v":24.059086890966768},{"$f":"W54","v":23.677859286222379},{"$f":"Z53/Z52","v":24.440314495711156},{"$f":"Q43","v":24.929112758330227},{"$f":"Z54","v":24.440314495711156},{"$f":"AC53/AC52","v":25.417911020949298}]
[null,null,null,null,null,null,null,null,null,null,null,null,null,null,null,null,null,null,null,"тариф с НДС",null,{"$f":"V46","v":22.76},{"$f":"W46","v":23.677859286222379},null,{"$f":"Y54","v":23.677859286222379},{"$f":"Z54","v":24.440314495711156},null,{"$f":"AB54","v":24.440314495711156},{"$f":"AC54","v":25.417911020949298}]
[null,null,null,null,null,null,null,null,null,null,null,null,null,null,null,null,null,null,null,"Рост,%"]
[]
[null,null,null,null,null,null,null,null,null,null,null,null,null,null,null,null,null,null,null,null,null,null,null,null,null,null,null,{"$f":"AB54*1.04*AB52-AC53","v":9.5885980385901348E-4}]

{"sheet":"Текущие расходы","index":3,"n_rows":72,"n_cols":19,"rows_kept":72,"cut":false,"hidden":false,"merged":[[0,2,0,14],[35,13,36,13],[35,14,36,14],[35,15,36,15],[35,16,36,16],[35,11,36,11],[35,12,36,12],[11,10,12,10],[35,10,36,10],[1,0,1,3],[9,0,9,10],[11,0,12,0],[35,5,36,5],[11,5,12,5],[11,8,12,8],[35,3,35,4],[65,0,65,1],[35,0,36,0],[35,1,36,1],[35,2,36,2],[11,3,11,4],[33,0,33,14],[35,8,36,8],[11,1,12,1],[11,2,12,2],[35,6,36,7],[11,6,12,7],[61,0,61,1]]}
[null,null,"Приложение В"]
["Составляющие текущих расходов"]
[]
["№ п/п","Виды расходов","ед. изм.","утверждено на 2014",null,null,"утверждено РЭК на 2015",null,null,"план ОКК на 2016","утверждено РЭК на 2016","утверждено РЭК на 2017","план РЭК на 2017 первоначальный","план РЭК на 2017 корректировка","план ОКК на 2018","план РЭК на 2018 первоначальный","план РЭК на 2018 корректировка"]
[1,"Текущие расходы","тыс. руб.",{"$f":"SUM(D6:D8)","v":{"$error":"#DIV/0!"}},0,0,{"$error":"#DIV/0!"},0,0,{"$f":"SUM(J6:J8)","v":{"$error":"#DIV/0!"}},3039.4494044499088,3233.4141246944637,{"$error":"#DIV/0!"},{"$error":"#DIV/0!"},3493.943818792271,3357.1742388678999,3352.8165489296312]
["1.1","Операционные расходы","тыс. руб.",{"$f":"D15","v":{"$error":"#DIV/0!"}},null,null,{"$f":"G15","v":{"$error":"#DIV/0!"}},null,null,{"$f":"J15","v":{"$error":"#DIV/0!"}},{"$f":"K15","v":2221.3994044499086},{"$f":"корректировка!L9","v":2302.5471246944635},{"$f":"корректировка!M9","v":2221.3994044499086},{"$f":"корректировка!N9","v":2221.3994044499086},{"$f":"корректировка!O9","v":2507.4738187922712},{"$f":"корректировка!P9","v":2370.7059388678999},{"$f":"корректировка!Q9","v":2363.863954625077}]
["1.2","Расходы на электрическую энергию","тыс. руб.",{"$f":"'Смета расходов'!D14*'Текущие расходы'!$D$68","v":{"$error":"#DIV/0!"}},null,null,{"$f":"'Смета расходов'!H14*'Текущие расходы'!$G$68","v":{"$error":"#DIV/0!"}},null,null,{"$f":"'Смета расходов'!K14*'Текущие расходы'!$J$68","v":{"$error":"#DIV/0!"}},{"$f":"'Смета расходов'!L14*'Текущие расходы'!$K$68","v":776.71},{"$f":"'Смета расходов'!Q14*'Текущие расходы'!$L$68","v":883.25699999999995},{"$f":"'Смета расходов'!R14*'Текущие расходы'!$M$68","v":{"$error":"#DIV/0!"}},{"$f":"'Смета расходов'!S14*'Текущие расходы'!$N$68","v":{"$error":"#DIV/0!"}},{"$f":"'Смета расходов'!T14*'Текущие расходы'!$O$68","v":931.83},{"$f":"'Смета расходов'!U14*'Текущие расходы'!$P$68","v":931.82830000000001},{"$f":"'Смета расходов'!V14*'Текущие расходы'!$Q$68","v":946.48198721999995}]
["1.3","Неподконтрольные расходы","тыс. руб.",{"$f":"D39","v":{"$error":"#DIV/0!"}},null,null,{"$f":"G39","v":{"$error":"#DIV/0!"}},null,null,{"$f":"J39","v":{"$error":"#DIV/0!"}},41.34,47.61,{"$error":"#DIV/0!"},{"$error":"#DIV/0!"},54.64,54.64,42.470607084554203]
[]
["1.1 Базовый уровень операционных расходов"]
[]
["№ п/п","Наименование","Ед. изм.",2014,null,"2014 факт РЭК","2015 утверждено РЭК",null,"2015 ожид РЭК",2016,"2016 утверждено РЭК"]
[null,null,null,"утверждено","факт",null,null,null,null,"план"]
[1,2,3,4,5,"5*",6,7,"7*",8,"8*"]
[null,"Операционные расходы","тыс. руб.",{"$f":"D16+D31+D32","v":{"$error":"#DIV/0!"}},{"$f":"E16+E31+E32","v":0},0,{"$error":"#DIV/0!"},0,0,{"$error":"#DIV/0!"},2221.3994044499086]
[1,"Производственные расходы","тыс. руб.",{"$f":"SUM(D17:D19,D22:D23)","v":{"$error":"#DIV/0!"}},0,0,{"$error":"#DIV/0!"},0,0,{"$error":"#DIV/0!"},985.35979999999995]
["1.1","Расходы на приобретение сырья и материалов и их хранение","тыс. руб.",{"$f":"'Смета расходов'!D8*'Текущие расходы'!$D$68","v":{"$error":"#DIV/0!"}},null,null,{"$f":"'Смета расходов'!H8*'Текущие расходы'!$G$68","v":{"$error":"#DIV/0!"}},null,null,{"$f":"'Смета расходов'!K8*'Текущие расходы'!$J$68","v":{"$error":"#DIV/0!"}},{"$f":"'Смета расходов'!L8*'Текущие расходы'!$K$68","v":75.569999999999993}]
["1.2","Расходы на оплату регулируемыми организациями выполняемых сторонними организациями работ и (или) услуг","тыс. руб.",{"$f":"'Смета расходов'!D19*'Текущие расходы'!$D$68","v":{"$error":"#DIV/0!"}},null,null,{"$f":"'Смета расходов'!H19*'Текущие расходы'!$G$68","v":{"$error":"#DIV/0!"}},null,null,{"$f":"'Смета расходов'!K19*'Текущие расходы'!$J$68","v":{"$error":"#DIV/0!"}},{"$f":"'Смета расходов'!L19*'Текущие расходы'!$K$68","v":22.09}]
["1.3","Расходы на оплату труда и отчисления на социальные нужды основного производственного персонала, в том числе :","тыс. руб.",{"$f":"D20+D21","v":{"$error":"#DIV/0!"}},{"$f":"E20+E21","v":0},0,{"$error":"#DIV/0!"},0,0,{"$error":"#DIV/0!"},787.57979999999998]
["1.3.1","расходы на оплату труда основного производственного персонала","тыс. руб.",{"$f":"'Смета расходов'!D21*'Текущие расходы'!$D$68","v":{"$error":"#DIV/0!"}},null,null,{"$f":"'Смета расходов'!H21*'Текущие расходы'!$G$68","v":{"$error":"#DIV/0!"}},null,null,{"$f":"'Смета расходов'!K21*'Текущие расходы'!$J$68","v":{"$error":"#DIV/0!"}},{"$f":"'Смета расходов'!L21*'Текущие расходы'!$K$68","v":604.9}]
["1.3.2","налоги и сборы с ФОТ","тыс. руб.",{"$f":"'Смета расходов'!D22*'Текущие расходы'!$D$68","v":{"$error":"#DIV/0!"}},null,null,{"$f":"'Смета расходов'!H22*'Текущие расходы'!$G$68","v":{"$error":"#DIV/0!"}},null,null,{"$f":"'Смета расходов'!K22*'Текущие расходы'!$J$68","v":{"$error":"#DIV/0!"}},{"$f":"'Смета расходов'!L22*'Текущие расходы'!$K$68","v":182.6798}]
["1.4","Общехозяйственные расходы ","тыс. руб.",{"$f":"'Смета расходов'!D25*'Текущие расходы'!$D$68","v":{"$error":"#DIV/0!"}},null,null,{"$f":"'Смета расходов'!H25*'Текущие расходы'!$G$68","v":{"$error":"#DIV/0!"}},null,null,{"$f":"'Смета расходов'!K25*'Текущие расходы'!$J$68","v":{"$error":"#DIV/0!"}},{"$f":"'Смета расходов'!L25*'Текущие расходы'!$K$68","v":0}]
["1.5","Прочие производственные расходы","тыс. руб.",{"$f":"SUM(D24:D30)","v":{"$error":"#DIV/0!"}},{"$f":"SUM(E24:E30)","v":0},0,{"$error":"#DIV/0!"},0,0,{"$error":"#DIV/0!"},100.11999999999999]
["1.5.1","расходы на амортизацию автотранспорта","тыс. руб.",{"$f":"'Смета расходов'!D31*'Текущие расходы'!$D$68","v":{"$error":"#DIV/0!"}},null,null,{"$f":"'Смета расходов'!H31*'Текущие расходы'!$G$68","v":{"$error":"#DIV/0!"}},null,null,{"$f":"'Смета расходов'!K31*'Текущие расходы'!$J$68","v":{"$error":"#DIV/0!"}},{"$f":"'Смета расходов'!L31*'Текущие расходы'!$K$68","v":0}]
["1.5.2","контроль качества воды ","тыс. руб.",{"$f":"'Смета расходов'!D32*'Текущие расходы'!$D$68","v":{"$error":"#DIV/0!"}},null,null,{"$f":"'Смета расходов'!H32*'Текущие расходы'!$G$68","v":{"$error":"#DIV/0!"}},null,null,{"$f":"'Смета расходов'!K32*'Текущие расходы'!$J$68","v":{"$error":"#DIV/0!"}},{"$f":"'Смета расходов'!L32*'Текущие расходы'!$K$68","v":78.569999999999993}]
["1.5.3","расходы на аварийно-диспетчерское обслуживание ","тыс. руб.",{"$f":"'Смета расходов'!D33*'Текущие расходы'!$D$68","v":{"$error":"#DIV/0!"}},null,null,{"$f":"'Смета расходов'!H33*'Текущие расходы'!$G$68","v":{"$error":"#DIV/0!"}},null,null,{"$f":"'Смета расходов'!K33*'Текущие расходы'!$J$68","v":{"$error":"#DIV/0!"}},{"$f":"'Смета расходов'!L33*'Текущие расходы'!$K$68","v":0}]
["1.5.4","расходы на приобретение (использование) вспомогательных материалов, запасных частей ","тыс. руб.",{"$f":"'Смета расходов'!D34*'Текущие расходы'!$D$68","v":{"$error":"#DIV/0!"}},null,null,{"$f":"'Смета расходов'!H34*'Текущие расходы'!$G$68","v":{"$error":"#DIV/0!"}},null,null,{"$f":"'Смета расходов'!K34*'Текущие расходы'!$J$68","v":{"$error":"#DIV/0!"}},{"$f":"'Смета расходов'!L34*'Текущие расходы'!$K$68","v":0}]
["1.5.5","расходы на эксплуатацию, техническое обслуживание и ремонт автотранспорта","тыс. руб.",{"$f":"'Смета расходов'!D35*'Текущие расходы'!$D$68","v":{"$error":"#DIV/0!"}},null,null,{"$f":"'Смета расходов'!H35*'Текущие расходы'!$G$68","v":{"$error":"#DIV/0!"}},null,null,{"$f":"'Смета расходов'!K35*'Текущие расходы'!$J$68","v":{"$error":"#DIV/0!"}},{"$f":"'Смета расходов'!L35*'Текущие расходы'!$K$68","v":0}]
["1.5.6","расходы на охрану труда ОПП","тыс. руб.",{"$f":"'Смета расходов'!D36*'Текущие расходы'!$D$68","v":{"$error":"#DIV/0!"}},null,null,{"$f":"'Смета расходов'!H36*'Текущие расходы'!$G$68","v":{"$error":"#DIV/0!"}},null,null,{"$f":"'Смета расходов'!K36*'Текущие расходы'!$J$68","v":{"$error":"#DIV/0!"}},{"$f":"'Смета расходов'!L36*'Текущие расходы'!$K$68","v":21.55}]
["1.5.7","расходы головной организации","тыс. руб.",{"$f":"'Смета расходов'!D40*'Текущие расходы'!$D$68","v":{"$error":"#DIV/0!"}},null,null,{"$f":"'Смета расходов'!H40*'Текущие расходы'!$G$68","v":{"$error":"#DIV/0!"}},null,null,{"$f":"'Смета расходов'!K40*'Текущие расходы'!$J$68","v":{"$error":"#DIV/0!"}},{"$f":"'Смета расходов'!L40*'Текущие расходы'!$K$68","v":0}]
["2","Административные расходы","тыс. руб.",{"$f":"'Смета расходов'!D51*'Текущие расходы'!$D$68","v":{"$error":"#DIV/0!"}},null,null,{"$f":"'Смета расходов'!H51*'Текущие расходы'!$G$68","v":{"$error":"#DIV/0!"}},null,null,{"$f":"'Смета расходов'!K51*'Текущие расходы'!$J$68","v":{"$error":"#DIV/0!"}},{"$f":"'Смета расходов'!L51*'Текущие расходы'!$K$68","v":424.39960444990885}]
["3","Ремонтные расходы","тыс. руб.",{"$f":"'Смета расходов'!D41*'Текущие расходы'!$D$68","v":{"$error":"#DIV/0!"}},null,null,{"$f":"'Смета расходов'!H41*'Текущие расходы'!$G$68","v":{"$error":"#DIV/0!"}},null,null,{"$f":"'Смета расходов'!K41*'Текущие расходы'!$J$68","v":{"$error":"#DIV/0!"}},{"$f":"'Смета расходов'!L41*'Текущие расходы'!$K$68","v":811.64}]
[]
["1.3 Неподконтрольные расходы"]
[]
["№ п/п","Наименование","Ед. изм.",2014,null,"2014 факт РЭК","2015 утверждено РЭК",null,"2015 ожид РЭК",2016,"2016 утвержденоРЭК","2017 утверждено РЭК","план РЭК на 2017 первоначальный","план РЭК на 2017 корректировка","план ОКК на 2018","план РЭК на 2018 первоначальный","план РЭК на 2018 корректировка"]
[null,null,null,"утверждено","факт",null,null,null,null,"план",null,null,null,null,null,null,null,"Факт 2016","Корр."]
[1,2,3,4,5,"5*",6,7,"7*",8,"8*",9,"9*",null,10,"10*"]
[null,"Неподконтрольные расходы","тыс. руб.",{"$f":"D40+D46+D54+D55+D57+D58","v":{"$error":"#DIV/0!"}},0,0,{"$error":"#DIV/0!"},0,0,{"$f":"J40+J46+J54+J55+J57+J58","v":{"$error":"#DIV/0!"}},41.34,47.61,{"$error":"#DIV/0!"},{"$error":"#DIV/0!"},54.64,54.64,42.470607084554203,{"$f":"R49","v":24.978100369458129},{"$f":"R39-K39","v":-16.361899630541874}]
["1","Расходы на оплату товаров (услуг, работ), приобретаемых у других организаций","тыс. руб.",{"$f":"SUM(D41:D45)","v":{"$error":"#DIV/0!"}},0,0,{"$error":"#DIV/0!"},0,0,{"$error":"#DIV/0!"},0,0,{"$error":"#DIV/0!"},{"$error":"#DIV/0!"},0,0,0]
["1.1","Расходы на тепловую энергию","тыс. руб.",{"$f":"'Смета расходов'!D15*'Текущие расходы'!$D$68","v":{"$error":"#DIV/0!"}},null,null,{"$f":"'Смета расходов'!H15*'Текущие расходы'!$G$68","v":{"$error":"#DIV/0!"}},null,null,{"$f":"'Смета расходов'!K15*'Текущие расходы'!$J$68","v":{"$error":"#DIV/0!"}},{"$f":"'Смета расходов'!L15*'Текущие расходы'!$K$68","v":0},{"$f":"'Смета расходов'!Q15*'Текущие расходы'!$L$68","v":0},{"$f":"'Смета расходов'!R15*'Текущие расходы'!$M$68","v":{"$error":"#DIV/0!"}},{"$f":"'Смета расходов'!S15*'Текущие расходы'!$N$68","v":{"$error":"#DIV/0!"}},{"$f":"'Смета расходов'!T15*'Текущие расходы'!$O$68","v":0},{"$f":"'Смета расходов'!U15*'Текущие расходы'!$P$68","v":0},{"$f":"'Смета расходов'!V15*'Текущие расходы'!$Q$68","v":0}]
["1.2","Расходы на теплоноситель","тыс. руб.",{"$f":"'Смета расходов'!D16*'Текущие расходы'!$D$68","v":{"$error":"#DIV/0!"}},null,null,{"$f":"'Смета расходов'!H16*'Текущие расходы'!$G$68","v":{"$error":"#DIV/0!"}},null,null,{"$f":"'Смета расходов'!K16*'Текущие расходы'!$J$68","v":{"$error":"#DIV/0!"}},{"$f":"'Смета расходов'!L16*'Текущие расходы'!$K$68","v":0},{"$f":"'Смета расходов'!Q16*'Текущие расходы'!$L$68","v":0},{"$f":"'Смета расходов'!R16*'Текущие расходы'!$M$68","v":{"$error":"#DIV/0!"}},{"$f":"'Смета расходов'!S16*'Текущие расходы'!$N$68","v":{"$error":"#DIV/0!"}},{"$f":"'Смета расходов'!T16*'Текущие расходы'!$O$68","v":0},{"$f":"'Смета расходов'!U16*'Текущие расходы'!$P$68","v":0},{"$f":"'Смета расходов'!V16*'Текущие расходы'!$Q$68","v":0}]
["1.3","Расходы на топливо","тыс. руб.",{"$f":"'Смета расходов'!D17*'Текущие расходы'!$D$68","v":{"$error":"#DIV/0!"}},null,null,{"$f":"'Смета расходов'!H17*'Текущие расходы'!$G$68","v":{"$error":"#DIV/0!"}},null,null,{"$f":"'Смета расходов'!K17*'Текущие расходы'!$J$68","v":{"$error":"#DIV/0!"}},{"$f":"'Смета расходов'!L17*'Текущие расходы'!$K$68","v":0},{"$f":"'Смета расходов'!Q17*'Текущие расходы'!$L$68","v":0},{"$f":"'Смета расходов'!R17*'Текущие расходы'!$M$68","v":{"$error":"#DIV/0!"}},{"$f":"'Смета расходов'!S17*'Текущие расходы'!$N$68","v":{"$error":"#DIV/0!"}},{"$f":"'Смета расходов'!T17*'Текущие расходы'!$O$68","v":0},{"$f":"'Смета расходов'!U17*'Текущие расходы'!$P$68","v":0},{"$f":"'Смета расходов'!V17*'Текущие расходы'!$Q$68","v":0}]
["1.4","Расходы на покупку воды","тыс. руб.",{"$f":"'Смета расходов'!D18*'Текущие расходы'!$D$68","v":{"$error":"#DIV/0!"}},null,null,{"$f":"'Смета расходов'!H18*'Текущие расходы'!$G$68","v":{"$error":"#DIV/0!"}},null,null,{"$f":"'Смета расходов'!K18*'Текущие расходы'!$J$68","v":{"$error":"#DIV/0!"}},{"$f":"'Смета расходов'!L18*'Текущие расходы'!$K$68","v":0},{"$f":"'Смета расходов'!Q18*'Текущие расходы'!$L$68","v":0},{"$f":"'Смета расходов'!R18*'Текущие расходы'!$M$68","v":{"$error":"#DIV/0!"}},{"$f":"'Смета расходов'!S18*'Текущие расходы'!$N$68","v":{"$error":"#DIV/0!"}},{"$f":"'Смета расходов'!T18*'Текущие расходы'!$O$68","v":0},{"$f":"'Смета расходов'!U18*'Текущие расходы'!$P$68","v":0},{"$f":"'Смета расходов'!V18*'Текущие расходы'!$Q$68","v":0}]
["1.5","Расходы на транспортировку воды","тыс. руб.",{"$f":"'Смета расходов'!D38*'Текущие расходы'!$D$68","v":{"$error":"#DIV/0!"}},null,null,{"$f":"'Смета расходов'!H38*'Текущие расходы'!$G$68","v":{"$error":"#DIV/0!"}},null,null,{"$f":"'Смета расходов'!K38*'Текущие расходы'!$J$68","v":{"$error":"#DIV/0!"}},{"$f":"'Смета расходов'!L38*'Текущие расходы'!$K$68","v":0},{"$f":"'Смета расходов'!Q38*'Текущие расходы'!$L$68","v":0},{"$f":"'Смета расходов'!R38*'Текущие расходы'!$M$68","v":{"$error":"#DIV/0!"}},{"$f":"'Смета расходов'!S38*'Текущие расходы'!$N$68","v":{"$error":"#DIV/0!"}},{"$f":"'Смета расходов'!T38*'Текущие расходы'!$O$68","v":0},{"$f":"'Смета расходов'!U38*'Текущие расходы'!$P$68","v":0},{"$f":"'Смета расходов'!V38*'Текущие расходы'!$Q$68","v":0}]
["2","Налоги и сборы","тыс. руб.",{"$f":"SUM(D47:D52)","v":{"$error":"#DIV/0!"}},0,0,{"$error":"#DIV/0!"},0,0,{"$error":"#DIV/0!"},41.34,47.61,{"$error":"#DIV/0!"},{"$error":"#DIV/0!"},54.64,54.64,{"$f":"SUM(Q47:Q52)","v":42.470607084554203}]
["2.1","Налог на имущество организаций","тыс. руб.",{"$f":"'Смета расходов'!D79*'Текущие расходы'!$D$68","v":{"$error":"#DIV/0!"}},null,null,{"$f":"'Смета расходов'!H79*'Текущие расходы'!$G$68","v":{"$error":"#DIV/0!"}},null,null,{"$f":"'Смета расходов'!K79*'Текущие расходы'!$J$68","v":{"$error":"#DIV/0!"}},{"$f":"'Смета расходов'!L79*'Текущие расходы'!$K$68","v":0},{"$f":"'Смета расходов'!Q79*'Текущие расходы'!$L$68","v":0},{"$f":"'Смета расходов'!R79*'Текущие расходы'!$M$68","v":{"$error":"#DIV/0!"}},{"$f":"'Смета расходов'!S79*'Текущие расходы'!$N$68","v":{"$error":"#DIV/0!"}},{"$f":"'Смета расходов'!T79*'Текущие расходы'!$O$68","v":0},{"$f":"'Смета расходов'!U79*'Текущие расходы'!$P$68","v":0},{"$f":"'Смета расходов'!V79*'Текущие расходы'!$Q$68","v":0}]
["2.2","Земельный налог и арендная плата за землю","тыс. руб.",{"$f":"'Смета расходов'!D82*'Текущие расходы'!$D$68","v":{"$error":"#DIV/0!"}},null,null,{"$f":"'Смета расходов'!H82*'Текущие расходы'!$G$68","v":{"$error":"#DIV/0!"}},null,null,{"$f":"'Смета расходов'!K82*'Текущие расходы'!$J$68","v":{"$error":"#DIV/0!"}},{"$f":"'Смета расходов'!L82*'Текущие расходы'!$K$68","v":0},{"$f":"'Смета расходов'!Q82*'Текущие расходы'!$L$68","v":0},{"$f":"'Смета расходов'!R82*'Текущие расходы'!$M$68","v":{"$error":"#DIV/0!"}},{"$f":"'Смета расходов'!S82*'Текущие расходы'!$N$68","v":{"$error":"#DIV/0!"}},{"$f":"'Смета расходов'!T82*'Текущие расходы'!$O$68","v":0},{"$f":"'Смета расходов'!U82*'Текущие расходы'!$P$68","v":0},{"$f":"'Смета расходов'!V82*'Текущие расходы'!$Q$68","v":0}]
["2.3","Водный налог и плата за пользование водным объектом","тыс. руб.",{"$f":"'Смета расходов'!D81*'Текущие расходы'!$D$68","v":{"$error":"#DIV/0!"}},null,null,{"$f":"'Смета расходов'!H81*'Текущие расходы'!$G$68","v":{"$error":"#DIV/0!"}},null,null,{"$f":"'Смета расходов'!K81*'Текущие расходы'!$J$68","v":{"$error":"#DIV/0!"}},{"$f":"'Смета расходов'!L81*'Текущие расходы'!$K$68","v":41.34},{"$f":"'Смета расходов'!Q81*'Текущие расходы'!$L$68","v":47.61},{"$f":"'Смета расходов'!R81*'Текущие расходы'!$M$68","v":{"$error":"#DIV/0!"}},{"$f":"'Смета расходов'!S81*'Текущие расходы'!$N$68","v":{"$error":"#DIV/0!"}},{"$f":"'Смета расходов'!T81*'Текущие расходы'!$O$68","v":54.64},{"$f":"'Смета расходов'!U81*'Текущие расходы'!$P$68","v":54.64},{"$f":"'Смета расходов'!V81*'Текущие расходы'!$Q$68","v":42.470607084554203},{"$f":"'Смета расходов'!N81/'Смета расходов'!N114*'Смета расходов'!L114","v":24.978100369458129},"В пересчете на объемы"]
["2.4","Транспортный налог","тыс. руб.",{"$f":"'Смета расходов'!D83*'Текущие расходы'!$D$68","v":{"$error":"#DIV/0!"}},null,null,{"$f":"'Смета расходов'!H83*'Текущие расходы'!$G$68","v":{"$error":"#DIV/0!"}},null,null,{"$f":"'Смета расходов'!K83*'Текущие расходы'!$J$68","v":{"$error":"#DIV/0!"}},{"$f":"'Смета расходов'!L83*'Текущие расходы'!$K$68","v":0},{"$f":"'Смета расходов'!Q83*'Текущие расходы'!$L$68","v":0},{"$f":"'Смета расходов'!R83*'Текущие расходы'!$M$68","v":{"$error":"#DIV/0!"}},{"$f":"'Смета расходов'!S83*'Текущие расходы'!$N$68","v":{"$error":"#DIV/0!"}},{"$f":"'Смета расходов'!T83*'Текущие расходы'!$O$68","v":0},{"$f":"'Смета расходов'!U83*'Текущие расходы'!$P$68","v":0},{"$f":"'Смета расходов'!V83*'Текущие расходы'!$Q$68","v":0}]
["2.5","Плата за негативное воздействие на окружающую среду","тыс. руб.",{"$f":"'Смета расходов'!D80*'Текущие расходы'!$D$68","v":{"$error":"#DIV/0!"}},null,null,{"$f":"'Смета расходов'!H80*'Текущие расходы'!$G$68","v":{"$error":"#DIV/0!"}},null,null,{"$f":"'Смета расходов'!K80*'Текущие расходы'!$J$68","v":{"$error":"#DIV/0!"}},{"$f":"'Смета расходов'!L80*'Текущие расходы'!$K$68","v":0},{"$f":"'Смета расходов'!Q80*'Текущие расходы'!$L$68","v":0},{"$f":"'Смета расходов'!R80*'Текущие расходы'!$M$68","v":{"$error":"#DIV/0!"}},{"$f":"'Смета расходов'!S80*'Текущие расходы'!$N$68","v":{"$error":"#DIV/0!"}},{"$f":"'Смета расходов'!T80*'Текущие расходы'!$O$68","v":0},{"$f":"'Смета расходов'!U80*'Текущие расходы'!$P$68","v":0},{"$f":"'Смета расходов'!V80*'Текущие расходы'!$Q$68","v":0}]
["2.6","Прочие налоги и сборы","тыс. руб.",{"$f":"'Смета расходов'!D84*'Текущие расходы'!$D$68","v":{"$error":"#DIV/0!"}},null,null,{"$f":"'Смета расходов'!H84*'Текущие расходы'!$G$68","v":{"$error":"#DIV/0!"}},null,null,{"$f":"'Смета расходов'!K84*'Текущие расходы'!$J$68","v":{"$error":"#DIV/0!"}},{"$f":"'Смета расходов'!L84*'Текущие расходы'!$K$68","v":0},{"$f":"'Смета расходов'!Q84*'Текущие расходы'!$L$68","v":0},{"$f":"'Смета расходов'!R84*'Текущие расходы'!$M$68","v":{"$error":"#DIV/0!"}},{"$f":"'Смета расходов'!S84*'Текущие расходы'!$N$68","v":{"$error":"#DIV/0!"}},{"$f":"'Смета расходов'!T84*'Текущие расходы'!$O$68","v":0},{"$f":"'Смета расходов'!U84*'Текущие расходы'!$P$68","v":0},{"$f":"'Смета расходов'!V84*'Текущие расходы'!$Q$68","v":0}]
["3","Обязательное страхование объектов ВКХ","тыс. руб.",{"$f":"'Смета расходов'!D37*'Текущие расходы'!$D$68","v":{"$error":"#DIV/0!"}},null,null,{"$f":"'Смета расходов'!H37*'Текущие расходы'!$G$68","v":{"$error":"#DIV/0!"}},null,null,{"$f":"'Смета расходов'!K37*'Текущие расходы'!$J$68","v":{"$error":"#DIV/0!"}},{"$f":"'Смета расходов'!L37*'Текущие расходы'!$K$68","v":0},{"$f":"'Смета расходов'!Q37*'Текущие расходы'!$L$68","v":0},{"$f":"'Смета расходов'!R37*'Текущие расходы'!$M$68","v":{"$error":"#DIV/0!"}},{"$f":"'Смета расходов'!S37*'Текущие расходы'!$N$68","v":{"$error":"#DIV/0!"}},{"$f":"'Смета расходов'!T37*'Текущие расходы'!$O$68","v":0},{"$f":"'Смета расходов'!U37*'Текущие расходы'!$P$68","v":0},{"$f":"'Смета расходов'!V37*'Текущие расходы'!$Q$68","v":0}]
["4","Арендная и концессионная плата, лизинговые платежи","тыс. руб.",{"$f":"'Смета расходов'!D73*'Текущие расходы'!$D$68","v":{"$error":"#DIV/0!"}},null,null,{"$f":"'Смета расходов'!H73*'Текущие расходы'!$G$68","v":{"$error":"#DIV/0!"}},null,null,{"$f":"'Смета расходов'!K73*'Текущие расходы'!$J$68","v":{"$error":"#DIV/0!"}},{"$f":"'Смета расходов'!L73*'Текущие расходы'!$K$68","v":0},{"$f":"'Смета расходов'!Q73*'Текущие расходы'!$L$68","v":0},{"$f":"'Смета расходов'!R73*'Текущие расходы'!$M$68","v":{"$error":"#DIV/0!"}},{"$f":"'Смета расходов'!S73*'Текущие расходы'!$N$68","v":{"$error":"#DIV/0!"}},{"$f":"'Смета расходов'!T73*'Текущие расходы'!$O$68","v":0},{"$f":"'Смета расходов'!U73*'Текущие расходы'!$P$68","v":0},{"$f":"'Смета расходов'!V73*'Текущие расходы'!$Q$68","v":0}]
["5","Резерв по сомнительным долгам гарантирующей организации","тыс. руб.",{"$f":"D56","v":{"$error":"#DIV/0!"}},0,0,{"$error":"#DIV/0!"},0,0,{"$f":"J56","v":{"$error":"#DIV/0!"}},0,0,{"$error":"#DIV/0!"},{"$error":"#DIV/0!"},0,0,0]
["5.1","Сбытовые расходы гарантирующей организации","тыс. руб.",{"$f":"'Смета расходов'!D70*'Текущие расходы'!$D$68","v":{"$error":"#DIV/0!"}},null,null,{"$f":"'Смета расходов'!H70*'Текущие расходы'!$G$68","v":{"$error":"#DIV/0!"}},null,null,{"$f":"'Смета расходов'!K70*'Текущие расходы'!$J$68","v":{"$error":"#DIV/0!"}},{"$f":"'Смета расходов'!L70*'Текущие расходы'!$K$68","v":0},{"$f":"'Смета расходов'!Q70*'Текущие расходы'!$L$68","v":0},{"$f":"'Смета расходов'!R70*'Текущие расходы'!$M$68","v":{"$error":"#DIV/0!"}},{"$f":"'Смета расходов'!S70*'Текущие расходы'!$N$68","v":{"$error":"#DIV/0!"}},{"$f":"'Смета расходов'!T70*'Текущие расходы'!$O$68","v":0},{"$f":"'Смета расходов'!U70*'Текущие расходы'!$P$68","v":0},{"$f":"'Смета расходов'!V70*'Текущие расходы'!$Q$68","v":0}]
["6","Расходы на обслуживание бесхозяйных сетей","тыс. руб.",{"$f":"'Смета расходов'!D39*'Текущие расходы'!$D$68","v":{"$error":"#DIV/0!"}},null,null,{"$f":"'Смета расходов'!H39*'Текущие расходы'!$G$68","v":{"$error":"#DIV/0!"}},null,null,{"$f":"'Смета расходов'!K39*'Текущие расходы'!$J$68","v":{"$error":"#DIV/0!"}},{"$f":"'Смета расходов'!L39*'Текущие расходы'!$K$68","v":0},{"$f":"'Смета расходов'!Q39*'Текущие расходы'!$L$68","v":0},{"$f":"'Смета расходов'!R39*'Текущие расходы'!$M$68","v":{"$error":"#DIV/0!"}},{"$f":"'Смета расходов'!S39*'Текущие расходы'!$N$68","v":{"$error":"#DIV/0!"}},{"$f":"'Смета расходов'!T39*'Текущие расходы'!$O$68","v":0},{"$f":"'Смета расходов'!U39*'Текущие расходы'!$P$68","v":0},{"$f":"'Смета расходов'!V39*'Текущие расходы'!$Q$68","v":0}]
["7","Займы и кредиты (для метода индексации)","тыс. руб.",{"$f":"D59+D60","v":{"$error":"#DIV/0!"}},0,0,{"$error":"#DIV/0!"},0,0,{"$f":"J59+J60","v":{"$error":"#VALUE!"}},0,0,{"$error":"#DIV/0!"},{"$error":"#DIV/0!"},0,0,{"$f":"Q59+Q60","v":0}]
["7.1","Возврат займов и кредитов","тыс. руб.",{"$f":"'Смета расходов'!D90*'Текущие расходы'!$D$68","v":{"$error":"#DIV/0!"}},null,null,{"$f":"'Смета расходов'!H90*'Текущие расходы'!$G$68","v":{"$error":"#DIV/0!"}},null,null,{"$f":"'Смета расходов'!K90*'Текущие расходы'!$J$68","v":{"$error":"#VALUE!"}},{"$f":"'Смета расходов'!L90*'Текущие расходы'!$K$68","v":0},{"$f":"'Смета расходов'!Q90*'Текущие расходы'!$L$68","v":0},{"$f":"'Смета расходов'!R90*'Текущие расходы'!$M$68","v":{"$error":"#DIV/0!"}},{"$f":"'Смета расходов'!S90*'Текущие расходы'!$N$68","v":{"$error":"#DIV/0!"}},{"$f":"'Смета расходов'!T90*'Текущие расходы'!$O$68","v":0},{"$f":"'Смета расходов'!U90*'Текущие расходы'!$P$68","v":0},{"$f":"'Смета расходов'!V90*'Текущие расходы'!$Q$68","v":0}]
["7.2","Проценты по займам и кредитам","тыс. руб.",{"$f":"'Смета расходов'!D91*'Текущие расходы'!$D$68","v":{"$error":"#DIV/0!"}},null,null,{"$f":"'Смета расходов'!H91*'Текущие расходы'!$G$68","v":{"$error":"#DIV/0!"}},null,null,{"$f":"'Смета расходов'!K91*'Текущие расходы'!$J$68","v":{"$error":"#VALUE!"}},{"$f":"'Смета расходов'!L91*'Текущие расходы'!$K$68","v":0},{"$f":"'Смета расходов'!Q91*'Текущие расходы'!$L$68","v":0},{"$f":"'Смета расходов'!R91*'Текущие расходы'!$M$68","v":{"$error":"#DIV/0!"}},{"$f":"'Смета расходов'!S91*'Текущие расходы'!$N$68","v":{"$error":"#DIV/0!"}},{"$f":"'Смета расходов'!T91*'Текущие расходы'!$O$68","v":0},{"$f":"'Смета расходов'!U91*'Текущие расходы'!$P$68","v":0},{"$f":"'Смета расходов'!V91*'Текущие расходы'!$Q$68","v":0}]
[]
[null,null,null,"утверждено на 2014","утверждено на 2015","утверждено на 2016","утверждено РЭК на 2015",null,null,"план ОКК на 2016","утверждено РЭК на 2016","утверждено РЭК на 2017","план РЭК на 2017 первоначальный","план РЭК на 2017 корректировка","план ОКК на 2018","план РЭК на 2018 первоначальный","план РЭК на 2018 корректировка"]
["полезный отпуск",null,null,{"$f":"'Смета расходов'!D119","v":0},null,null,{"$f":"'Смета расходов'!H119","v":0},null,null,{"$f":"'Смета расходов'!K119","v":0},{"$f":"'Смета расходов'!L119","v":119.44992500000001},{"$f":"'Смета расходов'!Q119","v":119.44992500000001},{"$f":"'Смета расходов'!R119","v":0},{"$f":"'Смета расходов'!S119","v":0},{"$f":"'Смета расходов'!T119","v":119.44992500000001},{"$f":"'Смета расходов'!U119","v":119.44992500000001},{"$f":"'Смета расходов'!V119","v":119.44992500000001}]
["внутрихозяйственный оборот",null,null,{"$f":"'Смета расходов'!D120","v":0},null,null,{"$f":"'Смета расходов'!H120","v":0},null,null,{"$f":"'Смета расходов'!K120","v":0},{"$f":"'Смета расходов'!L120","v":0},{"$f":"'Смета расходов'!Q120","v":0},{"$f":"'Смета расходов'!R120","v":0},{"$f":"'Смета расходов'!S120","v":0},{"$f":"'Смета расходов'!T120","v":0},{"$f":"'Смета расходов'!U120","v":0},{"$f":"'Смета расходов'!V120","v":0}]
["реализация",null,null,{"$f":"'Смета расходов'!D121","v":0},null,null,{"$f":"'Смета расходов'!H121","v":0},null,null,{"$f":"'Смета расходов'!K121","v":0},{"$f":"'Смета расходов'!L121","v":119.44992500000001},{"$f":"'Смета расходов'!Q121","v":119.44992500000001},{"$f":"'Смета расходов'!R121","v":0},{"$f":"'Смета расходов'!S121","v":0},{"$f":"'Смета расходов'!T121","v":119.44992500000001},{"$f":"'Смета расходов'!U121","v":119.44992500000001},{"$f":"'Смета расходов'!V121","v":119.44992500000001}]
[null,null,null,"коэф. распр.",null,null,"коэф. распр.",null,null,"коэф. распр. ","коэф. распр.","коэф. распр.","коэф. распр.","коэф. распр.","коэф. распр.","коэф. распр.","коэф. распр."]
["внутрихозяйственный оборот",null,null,{"$f":"D64/D63","v":{"$error":"#DIV/0!"}},null,null,{"$f":"G64/G63","v":{"$error":"#DIV/0!"}},null,null,{"$f":"J64/J63","v":{"$error":"#DIV/0!"}},0,0,{"$error":"#DIV/0!"},{"$error":"#DIV/0!"},0,0,0]
["реализация",null,null,{"$f":"D65/D63","v":{"$error":"#DIV/0!"}},null,null,{"$f":"G65/G63","v":{"$error":"#DIV/0!"}},null,null,{"$f":"J65/J63","v":{"$error":"#DIV/0!"}},1,1,{"$error":"#DIV/0!"},{"$error":"#DIV/0!"},1,1,1]
[]
["Руководитель организации    ____________________________________"]
[]
["Ответственный за составление формы   ______________________________________"]

{"sheet":"Расчет тарифа методом ЭОТ","index":4,"n_rows":35,"n_cols":17,"rows_kept":35,"cut":false,"hidden":true,"merged":[[0,6,0,10],[3,11,4,11],[31,2,31,4],[33,2,33,4],[31,5,31,9],[1,0,1,10],[3,0,4,0],[3,1,4,1],[3,2,4,2],[3,3,3,4],[3,5,4,5],[3,6,3,7],[3,8,4,8],[3,10,4,10],[33,5,33,9]]}
[null,null,null,null,null,null,"Приложение 4"]
["Расчет тарифа на услуги холодного водоснабжения методом экономически обоснованных расходов (затрат)"]
[]
["№ п/п","Наименование","Ед. изм.",2014,null,"2014 факт РЭК",2015,null,"2015 ожид РЭК",2016,"2016 план РЭК","Отклонение"]
[null,null,null,"план","факт",null,"план","ожид",null,"план"]
[1,2,3,4,5,"5*",6,7,"7*",8,"8*","8**"]
[1,"Необходимая валовая выручка","тыс. руб.",{"$f":"SUM(D8:D16)","v":{"$error":"#DIV/0!"}},{"$error":"#DIV/0!"},{"$error":"#DIV/0!"},{"$error":"#DIV/0!"},{"$error":"#DIV/0!"},{"$error":"#DIV/0!"},{"$error":"#DIV/0!"},3069.8394044499087,{"$f":"K7-J7","v":{"$error":"#DIV/0!"}}]
["1.1","Производственные расходы","тыс. руб.",{"$f":"'Смета расходов'!D7*'Смета расходов'!D131%","v":{"$error":"#DIV/0!"}},{"$f":"'Смета расходов'!E7*'Смета расходов'!E131%","v":{"$error":"#DIV/0!"}},{"$f":"'Смета расходов'!F7*'Смета расходов'!F131%","v":{"$error":"#DIV/0!"}},{"$f":"'Смета расходов'!H7*'Смета расходов'!H131%","v":{"$error":"#DIV/0!"}},{"$f":"'Смета расходов'!I7*'Смета расходов'!I131%","v":{"$error":"#DIV/0!"}},{"$f":"'Смета расходов'!J7*'Смета расходов'!J131%","v":{"$error":"#DIV/0!"}},{"$f":"'Смета расходов'!K7*'Смета расходов'!K131%","v":{"$error":"#DIV/0!"}},{"$f":"'Смета расходов'!L7*'Смета расходов'!L131%","v":1762.0697999999998},{"$f":"K8-J8","v":{"$error":"#DIV/0!"}}]
["1.2","Ремонтные расходы","тыс. руб.",{"$f":"'Смета расходов'!D41*'Смета расходов'!D131%","v":{"$error":"#DIV/0!"}},{"$f":"'Смета расходов'!E41*'Смета расходов'!E131%","v":{"$error":"#DIV/0!"}},{"$f":"'Смета расходов'!F41*'Смета расходов'!F131%","v":{"$error":"#DIV/0!"}},{"$f":"'Смета расходов'!H41*'Смета расходов'!H131%","v":{"$error":"#DIV/0!"}},{"$f":"'Смета расходов'!I41*'Смета расходов'!I131%","v":{"$error":"#DIV/0!"}},{"$f":"'Смета расходов'!J41*'Смета расходов'!J131%","v":{"$error":"#DIV/0!"}},{"$f":"'Смета расходов'!K41*'Смета расходов'!K131%","v":{"$error":"#DIV/0!"}},{"$f":"'Смета расходов'!L41*'Смета расходов'!L131%","v":811.64},{"$error":"#DIV/0!"}]
["1.3","Административные расходы","тыс. руб.",{"$f":"'Смета расходов'!D51*'Смета расходов'!D131%","v":{"$error":"#DIV/0!"}},{"$f":"'Смета расходов'!E51*'Смета расходов'!E131%","v":{"$error":"#DIV/0!"}},{"$f":"'Смета расходов'!F51*'Смета расходов'!F131%","v":{"$error":"#DIV/0!"}},{"$f":"'Смета расходов'!H51*'Смета расходов'!H131%","v":{"$error":"#DIV/0!"}},{"$f":"'Смета расходов'!I51*'Смета расходов'!I131%","v":{"$error":"#DIV/0!"}},{"$f":"'Смета расходов'!J51*'Смета расходов'!J131%","v":{"$error":"#DIV/0!"}},{"$f":"'Смета расходов'!K51*'Смета расходов'!K131%","v":{"$error":"#DIV/0!"}},{"$f":"'Смета расходов'!L51*'Смета расходов'!L131%","v":424.39960444990885},{"$error":"#DIV/0!"}]
["1.4","Сбытовые расходы","тыс. руб.",{"$f":"'Смета расходов'!D69*'Смета расходов'!D131%","v":{"$error":"#DIV/0!"}},{"$f":"'Смета расходов'!E69*'Смета расходов'!E131%","v":{"$error":"#DIV/0!"}},{"$f":"'Смета расходов'!F69*'Смета расходов'!F131%","v":{"$error":"#DIV/0!"}},{"$f":"'Смета расходов'!H69*'Смета расходов'!H131%","v":{"$error":"#DIV/0!"}},{"$f":"'Смета расходов'!I69*'Смета расходов'!I131%","v":{"$error":"#DIV/0!"}},{"$f":"'Смета расходов'!J69*'Смета расходов'!J131%","v":{"$error":"#DIV/0!"}},{"$f":"'Смета расходов'!K69*'Смета расходов'!K131%","v":{"$error":"#DIV/0!"}},{"$f":"'Смета расходов'!L69*'Смета расходов'!L131%","v":0},{"$error":"#DIV/0!"}]
["1.5","Амортизация","тыс. руб.",{"$f":"'Смета расходов'!D71*'Смета расходов'!D131%","v":{"$error":"#DIV/0!"}},{"$f":"'Смета расходов'!E71*'Смета расходов'!E131%","v":{"$error":"#DIV/0!"}},{"$f":"'Смета расходов'!F71*'Смета расходов'!F131%","v":{"$error":"#DIV/0!"}},{"$f":"'Смета расходов'!H71*'Смета расходов'!H131%","v":{"$error":"#DIV/0!"}},{"$f":"'Смета расходов'!I71*'Смета расходов'!I131%","v":{"$error":"#DIV/0!"}},{"$f":"'Смета расходов'!J71*'Смета расходов'!J131%","v":{"$error":"#DIV/0!"}},{"$f":"'Смета расходов'!K71*'Смета расходов'!K131%","v":{"$error":"#DIV/0!"}},{"$f":"'Смета расходов'!L71*'Смета расходов'!L131%","v":0},{"$error":"#DIV/0!"}]
["1.6","Арендная и концессионная плата, лизинговые платежи","тыс. руб.",{"$f":"'Смета расходов'!D73*'Смета расходов'!D131%","v":{"$error":"#DIV/0!"}},{"$f":"'Смета расходов'!E73*'Смета расходов'!E131%","v":{"$error":"#DIV/0!"}},{"$f":"'Смета расходов'!F73*'Смета расходов'!F131%","v":{"$error":"#DIV/0!"}},{"$f":"'Смета расходов'!H73*'Смета расходов'!H131%","v":{"$error":"#DIV/0!"}},{"$f":"'Смета расходов'!I73*'Смета расходов'!I131%","v":{"$error":"#DIV/0!"}},{"$f":"'Смета расходов'!J73*'Смета расходов'!J131%","v":{"$error":"#DIV/0!"}},{"$f":"'Смета расходов'!K73*'Смета расходов'!K131%","v":{"$error":"#DIV/0!"}},{"$f":"'Смета расходов'!L73*'Смета расходов'!L131%","v":0},{"$error":"#DIV/0!"}]
["1.7","Налоги и сборы","тыс. руб.",{"$f":"'Смета расходов'!D78*'Смета расходов'!D131%+'Смета расходов'!D96+'Смета расходов'!D97","v":{"$error":"#DIV/0!"}},{"$f":"'Смета расходов'!E78*'Смета расходов'!E131%+'Смета расходов'!E96+'Смета расходов'!E97","v":{"$error":"#DIV/0!"}},{"$f":"'Смета расходов'!F78*'Смета расходов'!F131%+'Смета расходов'!F96+'Смета расходов'!F97","v":{"$error":"#DIV/0!"}},{"$f":"'Смета расходов'!H78*'Смета расходов'!H131%+'Смета расходов'!H96+'Смета расходов'!H97","v":{"$error":"#DIV/0!"}},{"$f":"'Смета расходов'!I78*'Смета расходов'!I131%+'Смета расходов'!I96+'Смета расходов'!I97","v":{"$error":"#DIV/0!"}},{"$f":"'Смета расходов'!J78*'Смета расходов'!J131%+'Смета расходов'!J96+'Смета расходов'!J97","v":{"$error":"#DIV/0!"}},{"$f":"'Смета расходов'!K78*'Смета расходов'!K131%+'Смета расходов'!K96+'Смета расходов'!K97","v":{"$error":"#DIV/0!"}},{"$f":"'Смета расходов'!L78*'Смета расходов'!L131%+'Смета расходов'!L96+'Смета расходов'!L97","v":71.73},{"$error":"#DIV/0!"}]
["1.8","Нормативная прибыль","тыс. руб.",{"$f":"'Смета расходов'!D88","v":0},{"$f":"'Смета расходов'!E95","v":0},{"$f":"'Смета расходов'!F95","v":0},{"$f":"'Смета расходов'!H88","v":0},{"$f":"'Смета расходов'!I95","v":0},{"$f":"'Смета расходов'!J95","v":-1055.727789838603},{"$f":"'Смета расходов'!K88","v":{"$error":"#VALUE!"}},{"$f":"'Смета расходов'!L88","v":0},{"$error":"#VALUE!"}]
["1.9","Расчетная предпринимательская прибыль гарантирующей организации","тыс. руб.",{"$f":"'Смета расходов'!D94","v":0},{"$f":"'Смета расходов'!E94","v":0},{"$f":"'Смета расходов'!F94","v":0},{"$f":"'Смета расходов'!H94","v":0},{"$f":"'Смета расходов'!I94","v":0},{"$f":"'Смета расходов'!J94","v":0},{"$f":"'Смета расходов'!K94","v":0},{"$f":"'Смета расходов'!L94","v":0},0]
[2,"Недополученные доходы/ расходы прошлых периодов","тыс. руб.",{"$f":"SUM(D18:D20)","v":0},{"$f":"SUM(E18:E20)","v":0},0,0,0,0,0,0,0]
["2.1","Экономически обоснованные расходы, не учтенные органом регулирования тарифов при установлении тарифов на ее товары (работы, услуги) в прошлом периоде","тыс. руб.",null,null,null,null,null,null,null,null,0]
["2.2","Недополученные доходы прошлых периодов регулирования","тыс. руб.",null,null,null,null,null,null,null,null,0]
["2.3","Расходы, связанные с обслуживанием заемных средств и собственных средств, направляемых на покрытие недостатка средств","тыс. руб.",null,null,null,null,null,null,null,null,0]
["3","Экономически не обоснованные доходы прошлых периодов регулирования, включая доходы, связанные с нарушениями законодательства РФ при установлении и применении регулируемых тарифов","тыс. руб.",null,null,null,null,null,null,null,null,0]
["4","Расходы, связанные с приобретением регулируемой организацией товаров (работ, услуг), используемых при осуществлении регулируемых видов деятельности, по завышенным ценам и в завышенных объемах","тыс. руб.",{"$f":"'Смета расходов'!D98","v":0},{"$f":"'Смета расходов'!E98","v":0},{"$f":"'Смета расходов'!F98","v":0},{"$f":"'Смета расходов'!H98","v":0},{"$f":"'Смета расходов'!I98","v":0},{"$f":"'Смета расходов'!J98","v":0},{"$f":"'Смета расходов'!K98","v":0},{"$f":"'Смета расходов'!L98","v":-296.33999999999997},-296.33999999999997]
["5","Субсидии из бюджета","тыс. руб.",{"$f":"'Смета расходов'!D99","v":0},{"$f":"'Смета расходов'!E99","v":0},{"$f":"'Смета расходов'!F99","v":0},{"$f":"'Смета расходов'!H99","v":0},{"$f":"'Смета расходов'!I99","v":0},{"$f":"'Смета расходов'!J99","v":0},{"$f":"'Смета расходов'!K99","v":0},{"$f":"'Смета расходов'!L99","v":0},0]
[6,"Итого НВВ","тыс. руб.",{"$f":"D7+D17+D21+D22-D23","v":{"$error":"#DIV/0!"}},{"$f":"E7+E17+E21+E22-E23","v":{"$error":"#DIV/0!"}},{"$error":"#DIV/0!"},{"$error":"#DIV/0!"},{"$error":"#DIV/0!"},{"$error":"#DIV/0!"},{"$error":"#DIV/0!"},2773.4994044499085,{"$error":"#DIV/0!"},null,null,"2016 средний","с 01.01.16","с 01.07.16"]
[7,"Объем реализации водоснабжения ","тыс. куб.м",{"$f":"'Смета расходов'!D121","v":0},{"$f":"'Смета расходов'!E121","v":0},{"$f":"'Смета расходов'!F121","v":0},{"$f":"'Смета расходов'!H121","v":0},{"$f":"'Смета расходов'!I121","v":0},{"$f":"'Смета расходов'!J121","v":0},{"$f":"'Смета расходов'!K121","v":0},{"$f":"'Смета расходов'!L121","v":119.44992500000001},119.44992500000001,null,"Объем реализации",{"$f":"K25","v":119.44992500000001},{"$f":"O25/2","v":59.724962500000004},{"$f":"O25-P25","v":59.724962500000004}]
[8,"Тариф на водоснабжение  среднегодовой","руб./куб.м.",{"$f":"D24/D25","v":{"$error":"#DIV/0!"}},{"$f":"E24/E25","v":{"$error":"#DIV/0!"}},{"$error":"#DIV/0!"},{"$error":"#DIV/0!"},{"$error":"#DIV/0!"},{"$error":"#DIV/0!"},{"$error":"#DIV/0!"},23.218929643111188,{"$f":"K26-J26","v":{"$error":"#DIV/0!"}},null,"НВВ",{"$f":"K24","v":2773.4994044499085},{"$f":"P27*P25","v":0},{"$f":"O26-P26","v":2773.4994044499085}]
["8.1","с 01.01.ХХ по 30.06.ХХ","руб./куб.м.",null,null,null,null,null,null,null,{"$f":"P27","v":0},null,null,"тариф",{"$f":"K26","v":23.218929643111188},null,{"$f":"Q26/Q25","v":46.437859286222377}]
["8.2","с 01.07.ХХ по 31.12.ХХ","руб./куб.м.",null,null,null,null,null,null,null,{"$f":"Q27","v":46.437859286222377},null,null,"тариф с НДС",null,{"$f":"P27*1.18","v":0},{"$f":"Q27*1.18","v":54.796673957742399}]
["8.3","Темп роста тарифа","%",{"$f":"D28/D27*100","v":{"$error":"#DIV/0!"}},null,null,{"$f":"G26/D26*100","v":{"$error":"#DIV/0!"}},null,null,{"$f":"J26/G26*100","v":{"$error":"#DIV/0!"}},{"$f":"K28/G28*100","v":{"$error":"#DIV/0!"}},null,null,"Рост,%",null,null,{"$f":"Q27/P27*100","v":{"$error":"#DIV/0!"}}]
[]
[]
[null,"Руководитель организации","______________________________________"]
[]
[null,"Ответственный за составление формы","______________________________________"]
[null,null,"МП"]

{"sheet":"Смета расходов","index":5,"n_rows":137,"n_cols":25,"rows_kept":137,"cut":false,"hidden":false,"merged":[[12,0,13,0],[110,3,110,4],[110,5,111,5],[104,0,104,15],[110,0,111,0],[110,22,111,22],[110,23,111,23],[3,18,4,18],[108,0,108,15],[110,14,111,14],[107,0,107,23],[3,21,4,21],[3,22,4,22],[3,10,4,10],[3,23,4,23],[110,2,111,2],[110,21,111,21],[3,20,4,20],[102,0,102,15],[12,1,13,1],[110,1,111,1],[1,3,1,23],[1,0,1,2],[3,0,4,0],[3,1,4,1],[3,3,3,4],[3,15,4,15],[0,7,0,23],[3,2,4,2],[135,0,135,15],[110,15,111,15],[116,1,117,1],[116,0,117,0],[110,6,111,6],[110,10,111,10],[110,20,111,20],[3,17,4,17],[3,14,4,14],[110,18,111,18],[110,17,111,17],[133,0,133,15],[3,5,4,5],[3,6,4,6]]}
[null,null,null,null,null,null,null,"Приложение 2"]
["Смета расходов на услуги холодного водоснабжения ",null,null,"Бейсужекское ММУП ЖКХ"]
[]
["№ п/п","Наименование","Ед. изм.",2014,null,"2014 факт РЭК","Отклонение",2015,2016,2016,"Отклонение факт РЭК от факт ОКК",2016,2016,2016,"Отклонение факт РЭК от факт ОКК","Отклонение факт РЭК от утверждено РЭК",2017,"2017 план РЭК первоначальный ","2017 план РЭК корректировка ",2018,"2018 план РЭК перв-ый","2018 план РЭК кор-ка ","Отклонение утверждено РЭК от план ОКК","Рост утверждено РЭК 2018/2017"]
[null,null,null,"план","факт",null,null,"утверждено РЭК","факт ОКК","факт РЭК",null,"утверждено РЭК","факт ОКК","факт РЭК",null,null,"утверждено РЭК",null,null,"план ОКК"]
[1,2,3,4,5,"5*","5**",6,7,"7*",8,"8*",null,null,null,"8**",9,"9*","9**",10,"10*","10**"]
[1,"Производственные расходы","тыс. руб.",{"$f":"D8+D12+D19+D20+D25+D30","v":{"$error":"#DIV/0!"}},{"$f":"E8+E12+E19+E20+E25+E30","v":{"$error":"#DIV/0!"}},0,{"$f":"F7-E7","v":{"$error":"#DIV/0!"}},{"$error":"#DIV/0!"},1829.5522242000002,1229.5671123411998,{"$f":"J7-I7","v":-599.98511185880034},1762.0697999999998,1885.8022242000002,1428.2641123412,{"$f":"N7-M7","v":-457.53811185880022},{"$f":"N7-L7","v":-333.8056876587998}]
["1.1","Расходы на приобретение сырья и материалов и их хранение","тыс. руб.",{"$f":"D9+D10+D11","v":0},{"$f":"E9+E10+E11","v":0},0,0,0,57.515624200000005,53.637,{"$f":"J8-I8","v":-3.8786242000000044},75.569999999999993,57.515624200000005,53.637,{"$f":"N8-M8","v":-3.8786242000000044},{"$f":"N8-L8","v":-21.932999999999993}]
["1.1.1","Реагенты","тыс. руб.",{"$f":"'Сырье и материалы'!D7","v":0},{"$f":"'Сырье и материалы'!E7","v":0},{"$f":"'Сырье и материалы'!F7","v":0},0,{"$f":"'Сырье и материалы'!G7","v":0},{"$f":"'Сырье и материалы'!H7","v":0},{"$f":"'Сырье и материалы'!I7","v":0},0,{"$f":"'Сырье и материалы'!L7","v":0.32},{"$f":"I9","v":0},0,0,-0.32]
["1.1.2","ГСМ","тыс. руб.",{"$f":"'Сырье и материалы'!D8","v":0},{"$f":"'Сырье и материалы'!E8","v":0},{"$f":"'Сырье и материалы'!F8","v":0},0,{"$f":"'Сырье и материалы'!G8","v":0},{"$f":"'Сырье и материалы'!H8","v":46.825624200000007},{"$f":"'Сырье и материалы'!I8","v":46.83},4.375799999991159E-3,{"$f":"'Сырье и материалы'!L8","v":65.260000000000005},46.825624200000007,46.83,4.375799999991159E-3,-18.430000000000007]
["1.1.3","Материалы и малоценные основные средства ","тыс. руб.",{"$f":"'Сырье и материалы'!D9","v":0},{"$f":"'Сырье и материалы'!E9","v":0},{"$f":"'Сырье и материалы'!F9","v":0},0,{"$f":"'Сырье и материалы'!G9","v":0},{"$f":"'Сырье и материалы'!H9","v":10.69},{"$f":"'Сырье и материалы'!I9","v":6.8070000000000004},-3.8829999999999991,{"$f":"'Сырье и материалы'!L9","v":9.99},10.69,6.8070000000000004,-3.8829999999999991,-3.1829999999999998]
["1.2","Расходы на энергетические ресурсы и холодную воду","тыс. руб.",{"$f":"D14+D15+D16+D17+D18","v":0},{"$f":"E14+E15+E16+E17+E18","v":0},0,0,0,1132.095,535.99099999999999,-596.10400000000004,776.71,1132.095,535.99099999999999,-596.10400000000004,-240.71900000000005,883.25699999999995,0,0,931.83,931.82830000000001,946.48198721999995,{"$f":"V12-T12","v":14.65198721999991},{"$f":"V12/Q12*100","v":107.15816429646185}]
["1.2.1","электроэнергия","тыс. кВт/ч",null,null,null,0,null,null,null,0,null,145.02000000000001,69.356999999999999,-75.663000000000011,69.356999999999999,null,null,null,null,null,107.39100000000001,107.39100000000001]
[null,null,"тыс. руб.",{"$f":"' ЭЭ'!D53","v":0},{"$f":"' ЭЭ'!E53","v":0},{"$f":"' ЭЭ'!F53","v":0},0,{"$f":"' ЭЭ'!G53","v":0},{"$f":"' ЭЭ'!H53","v":1132.095},{"$f":"' ЭЭ'!I53","v":535.99099999999999},-596.10400000000004,{"$f":"' ЭЭ'!L53","v":776.71},{"$f":"I14","v":1132.095},535.99099999999999,-596.10400000000004,-240.71900000000005,883.25699999999995,null,null,931.83,931.82830000000001,{"$f":"V13*7.469*1.18","v":946.48198721999995},14.65198721999991,107.15816429646185]
["1.2.2","теплоэнергия","тыс. руб.",{"$f":"ТЭ!D16","v":0},{"$f":"ТЭ!E16","v":0},{"$f":"ТЭ!F16","v":0},0,{"$f":"ТЭ!G16","v":0},{"$f":"ТЭ!H16","v":0},{"$f":"ТЭ!I16","v":0},0,{"$f":"ТЭ!L16","v":0},0,0,0,0,null,null,null,null,null,null,0,{"$error":"#DIV/0!"}]
["1.2.3","теплоноситель","тыс. руб.",{"$f":"ТН!D12","v":0},{"$f":"ТН!E12","v":0},{"$f":"ТН!F12","v":0},0,{"$f":"ТН!G12","v":0},{"$f":"ТН!H12","v":0},{"$f":"ТН!I12","v":0},0,{"$f":"ТН!L12","v":0},0,0,0,0,null,null,null,null,null,null,0,{"$error":"#DIV/0!"}]
["1.2.4","топливо","тыс. руб.",{"$f":"Топливо!D20","v":0},{"$f":"Топливо!E20","v":0},{"$f":"Топливо!F20","v":0},0,{"$f":"Топливо!G20","v":0},{"$f":"Топливо!H20","v":0},{"$f":"Топливо!I20","v":0},0,{"$f":"Топливо!L20","v":0},0,0,0,0,null,null,null,null,null,null,0,{"$error":"#DIV/0!"}]
["1.2.5","холодная вода","тыс. руб.",{"$f":"'Покупная вода'!D12","v":0},{"$f":"'Покупная вода'!E12","v":0},{"$f":"'Покупная вода'!F12","v":0},0,{"$f":"'Покупная вода'!G12","v":0},{"$f":"'Покупная вода'!H12","v":0},{"$f":"'Покупная вода'!I12","v":0},0,{"$f":"'Покупная вода'!L12","v":0},0,0,0,0,null,null,null,null,null,null,0,{"$error":"#DIV/0!"}]
["1.3","Расходы на оплату работ и услуг, выполняемых сторонними организациями и ИП, связанные с эксплуатацией централизованных систем, либо объектов в составе таких систем","тыс. руб.",{"$f":"'Услуги сторонних организаций'!F10","v":0},{"$f":"'Услуги сторонних организаций'!G10","v":0},{"$f":"'Услуги сторонних организаций'!H10","v":0},0,{"$f":"'Услуги сторонних организаций'!I10","v":0},{"$f":"'Услуги сторонних организаций'!J10","v":44.14},{"$f":"'Услуги сторонних организаций'!K10","v":44.137},-3.0000000000001137E-3,{"$f":"'Услуги сторонних организаций'!M10","v":22.09},44.14,44.137,-3.0000000000001137E-3,22.047000000000001]
["1.4","Расходы на оплату труда и отчисления на социальные нужды основного производственного персонала, в том числе налоги и сборы:","тыс. руб.",{"$f":"D21+D22","v":0},{"$f":"E21+E22","v":0},0,0,0,593.45159999999998,593.45211234120006,5.1234120007848105E-4,787.57979999999998,593.45159999999998,593.45211234120006,5.1234120007848105E-4,-194.12768765879991]
["1.4.1","расходы на оплату труда основного производственного персонала","тыс. руб.",{"$f":"'Оплата труда'!D8","v":0},{"$f":"'Оплата труда'!E8","v":0},{"$f":"'Оплата труда'!F8","v":0},0,{"$f":"'Оплата труда'!G8","v":0},{"$f":"'Оплата труда'!H8","v":455.8},{"$f":"'Оплата труда'!I8","v":455.80011234120002},1.1234120000835901E-4,{"$f":"'Оплата труда'!K8","v":604.9},{"$f":"I21","v":455.8},455.80011234120002,1.1234120000835901E-4,-149.09988765879996]
["1.4.2","отчисления на социальные нужды основного производственного персонала, в том числе налоги и сборы","тыс. руб.",{"$f":"D21*'Оплата труда'!D58%","v":0},{"$f":"E21*'Оплата труда'!E58%","v":0},{"$f":"F21*'Оплата труда'!F58%","v":0},0,{"$f":"H21*'Оплата труда'!G58%","v":0},{"$f":"I21*'Оплата труда'!H58%","v":137.6516},{"$f":"J21*'Оплата труда'!I58%","v":137.65199999999999},3.9999999998485691E-4,{"$f":"L21*'Оплата труда'!K58%","v":182.6798},137.6516,137.65199999999999,3.9999999998485691E-4,-45.027800000000013]
["1.4.3","численность основного производственного персонала, распределяемого на регулируемый вид деятельности","чел.",{"$f":"'Оплата труда'!D32","v":0},{"$f":"'Оплата труда'!E32","v":0},{"$f":"'Оплата труда'!F32","v":0},0,{"$f":"'Оплата труда'!G32","v":0},{"$f":"'Оплата труда'!H32","v":3},{"$f":"'Оплата труда'!I32","v":3},0,{"$f":"'Оплата труда'!K32","v":4},3,3,0,-1]
["1.4.4","среднемесячная оплата труда ОПП","руб./чел. в мес.",{"$f":"D21/D23/12*1000","v":{"$error":"#DIV/0!"}},{"$f":"E21/E23/12*1000","v":{"$error":"#DIV/0!"}},{"$error":"#DIV/0!"},{"$error":"#DIV/0!"},{"$error":"#DIV/0!"},12661.111111111111,12661.114231699999,3.1205888881231658E-3,12602.083333333332,12661.111111111111,12661.114231699999,3.1205888881231658E-3,59.030898366667316]
["1.5","Общехозяйственные расходы ","тыс. руб.",{"$f":"'Цех и Администр расх'!D14*'Цех и Администр расх'!H81%","v":{"$error":"#DIV/0!"}},{"$f":"'Цех и Администр расх'!E14*'Цех и Администр расх'!I81%","v":{"$error":"#DIV/0!"}},null,{"$error":"#DIV/0!"},{"$f":"'Цех и Администр расх'!G14*'Цех и Администр расх'!K81%","v":{"$error":"#DIV/0!"}},{"$f":"'Цех и Администр расх'!H14*'Цех и Администр расх'!L81%","v":0},null,0,{"$f":"'Цех и Администр расх'!M14","v":0},{"$f":"I25","v":0},null,0,0]
["1.5.1","расходы на оплату труда цех. персонала","тыс. руб.",{"$f":"'Цех и Администр расх'!D7*'Цех и Администр расх'!$H$81%","v":{"$error":"#DIV/0!"}},{"$f":"'Цех и Администр расх'!E7*'Цех и Администр расх'!$I$81%","v":{"$error":"#DIV/0!"}},null,{"$error":"#DIV/0!"},{"$f":"'Цех и Администр расх'!G7*'Цех и Администр расх'!$K$81%","v":{"$error":"#DIV/0!"}},{"$f":"'Цех и Администр расх'!H7*'Цех и Администр расх'!$L$81%","v":0},null,0,{"$f":"'Цех и Администр расх'!M7","v":0},{"$f":"I26","v":0},null,0,0]
["1.5.2","отчисления на социальные нужды цех. персонала, в том числе налоги и сборы","тыс. руб.",{"$f":"'Цех и Администр расх'!D8*'Цех и Администр расх'!$H$81%","v":{"$error":"#DIV/0!"}},{"$f":"'Цех и Администр расх'!E8*'Цех и Администр расх'!$I$81%","v":{"$error":"#DIV/0!"}},null,{"$error":"#DIV/0!"},{"$f":"'Цех и Администр расх'!G8*'Цех и Администр расх'!$K$81%","v":{"$error":"#DIV/0!"}},{"$f":"'Цех и Администр расх'!H8*'Цех и Администр расх'!$L$81%","v":0},null,0,{"$f":"'Цех и Администр расх'!M8","v":0},{"$f":"I27","v":0},null,0,0]
["1.5.3","численность цех. персонала, распределяемого на регулируемый вид деятельности","чел.",{"$f":"'Цех и Администр расх'!D9*'Цех и Администр расх'!$H$81%","v":{"$error":"#DIV/0!"}},{"$f":"'Цех и Администр расх'!E9*'Цех и Администр расх'!$I$81%","v":{"$error":"#DIV/0!"}},null,{"$error":"#DIV/0!"},{"$f":"'Цех и Администр расх'!G9*'Цех и Администр расх'!$K$81%","v":{"$error":"#DIV/0!"}},{"$f":"'Цех и Администр расх'!H9*'Цех и Администр расх'!$L$81%","v":0},null,0,{"$f":"'Цех и Администр расх'!M9","v":0},{"$f":"I28","v":0},null,0,0]
["1.5.4","среднемесячная оплата труда цех. персонала","руб./чел. в мес.",{"$f":"D26/D28/12*1000","v":{"$error":"#DIV/0!"}},{"$f":"E26/E28/12*1000","v":{"$error":"#DIV/0!"}},null,{"$error":"#DIV/0!"},{"$f":"H26/H28/12*1000","v":{"$error":"#DIV/0!"}},{"$f":"I26/I28/12*1000","v":{"$error":"#DIV/0!"}},null,{"$error":"#DIV/0!"},{"$f":"L26/L28/12*1000","v":{"$error":"#DIV/0!"}},{"$f":"I29","v":{"$error":"#DIV/0!"}},null,{"$error":"#DIV/0!"},{"$error":"#DIV/0!"}]
["1.6","Прочие производственные расходы","тыс. руб.",{"$f":"D31+D32+D33+D34+D35+D36+D37+D40","v":0},{"$f":"E31+E32+E33+E34+E35+E36+E37+E40","v":0},{"$f":"F31+F32+F33+F34+F35+F36+F37+F40","v":0},0,{"$f":"H31+H32+H33+H34+H35+H36+H37+H40","v":0},{"$f":"I31+I32+I33+I34+I35+I36+I37+I40","v":2.35},{"$f":"J31+J32+J33+J34+J35+J36+J37+J40","v":2.35},0,{"$f":"L31+L32+L33+L34+L35+L36+L37+L40","v":100.11999999999999},{"$f":"M31+M32+M33+M34+M35+M36+M37+M40","v":58.6},{"$f":"N31+N32+N33+N34+N35+N36+N37+N40","v":201.047},142.447,100.92700000000001]
["1.6.1","расходы на амортизацию автотранспорта","тыс. руб.",null,{"$f":"'Амортизация 2'!K15","v":0},{"$f":"'Амортизация 2'!L15","v":0},0,null,{"$f":"'Амортизация 2'!K87","v":0},{"$f":"'Амортизация 2'!L87","v":0},0,{"$f":"'Амортизация 2'!L160","v":0},{"$f":"I31","v":0},{"$f":"J31","v":0},0,0]
["1.6.2","контроль качества воды ","тыс. руб.",null,null,null,0,null,null,null,0,78.569999999999993,56.25,56.250999999999998,9.9999999999766942E-4,-22.318999999999996]
["1.6.3","прочие расходы","тыс. руб.",null,null,null,0,null,null,null,0,null,null,7.9569999999999999,7.9569999999999999,7.9569999999999999]
["1.6.4","расходы на приобретение (использование) вспомогательных материалов, запасных частей ","тыс. руб.",null,null,null,0,null,null,null,0,null,null,134.489,134.489,134.489]
["1.6.5","расходы на эксплуатацию, техническое обслуживание и ремонт автотранспорта","тыс. руб.",{"$f":"'Охр.труда и Авто'!D30","v":0},{"$f":"'Охр.труда и Авто'!E30","v":0},{"$f":"'Охр.труда и Авто'!F30","v":0},0,{"$f":"'Охр.труда и Авто'!G30","v":0},{"$f":"'Охр.труда и Авто'!H30","v":0},{"$f":"'Охр.труда и Авто'!I30","v":0},0,{"$f":"'Охр.труда и Авто'!K30","v":0},{"$f":"I35","v":0},{"$f":"J35","v":0},0,0]
["1.6.6","расходы на охрану труда ОПП","тыс. руб.",{"$f":"'Охр.труда и Авто'!D13","v":0},{"$f":"'Охр.труда и Авто'!E13","v":0},{"$f":"'Охр.труда и Авто'!F13","v":0},0,{"$f":"'Охр.труда и Авто'!G13","v":0},{"$f":"'Охр.труда и Авто'!H13","v":2.35},{"$f":"'Охр.труда и Авто'!I13","v":2.35},0,{"$f":"'Охр.труда и Авто'!K13","v":21.55},{"$f":"I36","v":2.35},{"$f":"J36","v":2.35},0,-19.2]
["1.6.7","обязательное страхование объектов ВКХ","тыс. руб.",null,null,null,0,null,null,null,0,null,null,null,0,0,null,null,null,null,null,null,{"$f":"V37-T37","v":0},{"$f":"V37/Q37*100","v":{"$error":"#DIV/0!"}}]
["1.6.8","расходы на транспортировку воды","тыс. руб.",null,null,null,null,null,null,null,0,null,null,null,0,0,null,null,null,null,null,null,{"$f":"V38-T38","v":0},{"$f":"V38/Q38*100","v":{"$error":"#DIV/0!"}}]
["1.6.9","расходы на обслуживание бесхозяйных сетей","тыс. руб.",null,null,null,null,null,null,null,0,null,null,null,0,0,null,null,null,null,null,null,{"$f":"V39-T39","v":0},{"$f":"V39/Q39*100","v":{"$error":"#DIV/0!"}}]
["1.6.10","расходы головной организации","тыс. руб.",null,null,null,0,null,null,null,0,null,null,null,0,0]
["2","Ремонтные расходы","тыс. руб.",{"$f":"D42+D43+D44+D45+D50","v":0},{"$f":"E42+E43+E44+E45+E50","v":0},0,0,0,0,0,0,811.64,134.49,1.53,-132.96,-810.11,{"$f":"Q42+Q43+Q44+Q50","v":0},0,0,903.91,0,0,{"$f":"V41-T41","v":-903.91}]
["2.1","Расходы на текущий ремонт централизованных систем водоснабжения либо объектов, входящих в состав таких систем","тыс. руб.",null,null,null,0,null,null,null,0,811.64,0,null,0,-811.64,null,null,null,533.63,null,null,{"$f":"V42-T42","v":-533.63}]
["2.2","Расходы на капитальный ремонт централизованных систем водоснабжения  либо объектов, входящих в состав таких систем","тыс. руб.",null,null,null,0,null,null,null,0,0,0,null,0,0,null,null,null,null,null,null,{"$f":"V43-T43","v":0}]
["2.3","Расходы на выполнение мероприятий по энергосбережению и повышению энергетической эффективности","тыс. руб.",null,null,null,0,null,null,null,0,0,0,null,0,0,null,null,null,null,null,null,{"$f":"V44-T44","v":0}]
["2.4","Расходы на оплату труда и отчисления на социальные нужды ремонтного персонала, в том числе налоги и сборы","тыс. руб.",{"$f":"D46+D47","v":0},{"$f":"E46+E47","v":0},0,0,0,0,0,0,0,0,0,0,0]
["2.4.1","расходы на оплату труда ремонтного персонала","тыс. руб.",{"$f":"'Оплата труда'!D12","v":0},{"$f":"'Оплата труда'!E12","v":0},{"$f":"'Оплата труда'!F12","v":0},0,{"$f":"'Оплата труда'!G12","v":0},{"$f":"'Оплата труда'!H12","v":0},{"$f":"'Оплата труда'!I12","v":0},0,{"$f":"'Оплата труда'!K12","v":0},{"$f":"I46","v":0},0,0,0]
["2.4.2","отчисления на социальные нужды ремонтного персонала, в том числе налоги и сборы","тыс. руб.",{"$f":"D46*'Оплата труда'!D87%","v":0},{"$f":"E46*'Оплата труда'!E87%","v":0},{"$f":"F46*'Оплата труда'!F87%","v":0},0,{"$f":"H46*'Оплата труда'!G87%","v":0},{"$f":"I46*'Оплата труда'!H87%","v":0},{"$f":"J46*'Оплата труда'!I87%","v":0},0,{"$f":"L46*'Оплата труда'!K87%","v":0},0,0,0,0]
["2.4.3","численность ремонтного персонала, распределяемого на регулируемый вид деятельности","чел.",{"$f":"'Оплата труда'!D61","v":0},{"$f":"'Оплата труда'!E61","v":0},{"$f":"'Оплата труда'!F61","v":0},0,{"$f":"'Оплата труда'!G61","v":0},{"$f":"'Оплата труда'!H61","v":0},{"$f":"'Оплата труда'!I61","v":0},0,{"$f":"'Оплата труда'!K61","v":0},0,0,0,0]
["2.4.4","среднемесячная оплата труда РП","руб./чел. в мес.",{"$f":"D46/D48/12*1000","v":{"$error":"#DIV/0!"}},{"$f":"E46/E48/12*1000","v":{"$error":"#DIV/0!"}},{"$error":"#DIV/0!"},{"$error":"#DIV/0!"},{"$error":"#DIV/0!"},{"$error":"#DIV/0!"},{"$error":"#DIV/0!"},{"$error":"#DIV/0!"},{"$error":"#DIV/0!"},{"$error":"#DIV/0!"},{"$error":"#DIV/0!"},{"$error":"#DIV/0!"},{"$error":"#DIV/0!"}]
["2.5","Расходы на АВР","тыс. руб.",null,null,null,0,null,null,null,0,0,134.49,{"$f":"1.53","v":1.53},-132.96,1.53,null,null,null,370.28,null,null,{"$f":"V50-T50","v":-370.28}]
["3","Административные расходы","тыс. руб.",{"$f":"D52+D59+D64+D65+D66+D67+D68","v":{"$error":"#DIV/0!"}},{"$f":"E52+E59+E64+E65+E66+E67+E68","v":{"$error":"#DIV/0!"}},{"$f":"F52+F59+F64+F65+F66+F67+F68","v":{"$error":"#DIV/0!"}},{"$error":"#DIV/0!"},{"$f":"H52+H59+H64+H65+H66+H67+H68","v":{"$error":"#DIV/0!"}},{"$f":"I52+I59+I64+I65+I66+I67+I68","v":689.74352172076487},{"$f":"J52+J59+J64+J65+J66+J67+J68","v":0},-689.74352172076487,{"$f":"L52+L59+L64+L65+L66+L67+L68","v":424.39960444990885},{"$f":"M52+M59+M64+M65+M66+M67+M68","v":689.74352172076487},{"$f":"N52+N59+N64+N65+N66+N67+N68","v":689.29067749740295},-0.45284422336192165,264.8910730474941]
["3.1","Расходы на оплату работ и услуг, выполняемых сторонними организациями","тыс. руб.",{"$f":"D53+D54+D55+D56+D57+D58","v":{"$error":"#DIV/0!"}},{"$f":"E53+E54+E55+E56+E57+E58","v":{"$error":"#DIV/0!"}},{"$f":"F53+F54+F55+F56+F57+F58","v":0},{"$error":"#DIV/0!"},{"$f":"H53+H54+H55+H56+H57+H58","v":{"$error":"#DIV/0!"}},{"$f":"I53+I54+I55+I56+I57+I58","v":7.6178644760073944},{"$f":"J53+J54+J55+J56+J57+J58","v":0},-7.6178644760073944,{"$f":"L53+L54+L55+L56+L57+L58","v":18.069064805266915},{"$f":"M53+M54+M55+M56+M57+M58","v":7.6178644760073944},{"$f":"N53+N54+N55+N56+N57+N58","v":7.6178456447633822},-1.8831244012140758E-5,-10.451219160503534]
["3.1.1","услуги связи и интернет","тыс. руб.",{"$f":"'Цех и Администр расх'!D27*'Цех и Администр расх'!$H$100%","v":{"$error":"#DIV/0!"}},{"$f":"'Цех и Администр расх'!E27*'Цех и Администр расх'!$I$100%","v":{"$error":"#DIV/0!"}},null,{"$error":"#DIV/0!"},{"$f":"'Цех и Администр расх'!G27*'Цех и Администр расх'!$K$100%","v":{"$error":"#DIV/0!"}},{"$f":"'Цех и Администр расх'!H27*'Цех и Администр расх'!$L$100%","v":7.6178644760073944},null,-7.6178644760073944,{"$f":"'Цех и Администр расх'!M27","v":0},{"$f":"I53","v":7.6178644760073944},{"$f":"'Цех и Администр расх'!I27*'Цех и Администр расх'!M81/100","v":7.6178456447633822},-1.8831244012140758E-5,7.6178456447633822]
["3.1.2","юридические услуги","тыс. руб.",{"$f":"'Цех и Администр расх'!D28*'Цех и Администр расх'!$H$100%","v":{"$error":"#DIV/0!"}},{"$f":"'Цех и Администр расх'!E28*'Цех и Администр расх'!$I$100%","v":{"$error":"#DIV/0!"}},null,{"$error":"#DIV/0!"},{"$f":"'Цех и Администр расх'!G28*'Цех и Администр расх'!$K$100%","v":{"$error":"#DIV/0!"}},{"$f":"'Цех и Администр расх'!H28*'Цех и Администр расх'!$L$100%","v":0},null,0,{"$f":"'Цех и Администр расх'!M28","v":0},0,{"$f":"'Цех и Администр расх'!I28*'Цех и Администр расх'!M82/100","v":0},0,0]
["3.1.3","аудиторские услуги","тыс. руб.",{"$f":"'Цех и Администр расх'!D29*'Цех и Администр расх'!$H$100%","v":{"$error":"#DIV/0!"}},{"$f":"'Цех и Администр расх'!E29*'Цех и Администр расх'!$I$100%","v":{"$error":"#DIV/0!"}},null,{"$error":"#DIV/0!"},{"$f":"'Цех и Администр расх'!G29*'Цех и Администр расх'!$K$100%","v":{"$error":"#DIV/0!"}},{"$f":"'Цех и Администр расх'!H29*'Цех и Администр расх'!$L$100%","v":0},null,0,{"$f":"'Цех и Администр расх'!M29","v":0},0,{"$f":"'Цех и Администр расх'!I29*'Цех и Администр расх'!M83/100","v":0},0,0]
["3.1.4","консультационные услуги","тыс. руб.",{"$f":"'Цех и Администр расх'!D30*'Цех и Администр расх'!$H$100%","v":{"$error":"#DIV/0!"}},{"$f":"'Цех и Администр расх'!E30*'Цех и Администр расх'!$I$100%","v":{"$error":"#DIV/0!"}},null,{"$error":"#DIV/0!"},{"$f":"'Цех и Администр расх'!G30*'Цех и Администр расх'!$K$100%","v":{"$error":"#DIV/0!"}},{"$f":"'Цех и Администр расх'!H30*'Цех и Администр расх'!$L$100%","v":0},null,0,{"$f":"'Цех и Администр расх'!M30","v":17.442075830887603},0,{"$f":"'Цех и Администр расх'!I30*'Цех и Администр расх'!M84/100","v":0},0,-17.442075830887603]
["3.1.5","услуги по вневедомственной охране объектов и территорий","тыс. руб.",{"$f":"'Цех и Администр расх'!D31*'Цех и Администр расх'!$H$100%","v":{"$error":"#DIV/0!"}},{"$f":"'Цех и Администр расх'!E31*'Цех и Администр расх'!$I$100%","v":{"$error":"#DIV/0!"}},null,{"$error":"#DIV/0!"},{"$f":"'Цех и Администр расх'!G31*'Цех и Администр расх'!$K$100%","v":{"$error":"#DIV/0!"}},{"$f":"'Цех и Администр расх'!H31*'Цех и Администр расх'!$L$100%","v":0},null,0,{"$f":"'Цех и Администр расх'!M31","v":0},0,{"$f":"'Цех и Администр расх'!I31*'Цех и Администр расх'!M85/100","v":0},0,0]
["3.1.6","информационные услуги","тыс. руб.",{"$f":"'Цех и Администр расх'!D32*'Цех и Администр расх'!$H$100%","v":{"$error":"#DIV/0!"}},{"$f":"'Цех и Администр расх'!E32*'Цех и Администр расх'!$I$100%","v":{"$error":"#DIV/0!"}},null,{"$error":"#DIV/0!"},{"$f":"'Цех и Администр расх'!G32*'Цех и Администр расх'!$K$100%","v":{"$error":"#DIV/0!"}},{"$f":"'Цех и Администр расх'!H32*'Цех и Администр расх'!$L$100%","v":0},null,0,{"$f":"'Цех и Администр расх'!M32","v":0.62698897437931311},0,{"$f":"'Цех и Администр расх'!I32*'Цех и Администр расх'!M86/100","v":0},0,-0.62698897437931311]
["3.2","Расходы на оплату труда и отчисления на социальные нужды АУП, в том числе налоги и сборы","тыс. руб.",{"$f":"D60+D61","v":{"$error":"#DIV/0!"}},{"$f":"E60+E61","v":{"$error":"#DIV/0!"}},{"$error":"#DIV/0!"},{"$error":"#DIV/0!"},{"$error":"#DIV/0!"},392.41646136238546,0,-392.41646136238546,375.31352132148811,392.41646136238546,391.96528979989728,-0.45117156248818446,16.651768478409167]
["3.2.1","расходы на оплату труда АУП","тыс. руб.",{"$f":"'Оплата труда'!D16","v":{"$error":"#DIV/0!"}},{"$f":"'Оплата труда'!E16","v":{"$error":"#DIV/0!"}},{"$f":"'Оплата труда'!F16","v":{"$error":"#DIV/0!"}},{"$error":"#DIV/0!"},{"$f":"'Оплата труда'!G16","v":{"$error":"#DIV/0!"}},{"$f":"'Оплата труда'!H16","v":301.39513161473536},null,-301.39513161473536,{"$f":"'Оплата труда'!K16","v":288.25923296581266},{"$f":"I60","v":301.39513161473536},{"$f":"'Цех и Администр расх'!I34*'Цех и Администр расх'!M81/100","v":301.3943701173676},-7.6149736776187638E-4,13.135137151554943]
["3.2.2","отчисления на социальные нужды АУП, в том числе налоги и сборы","тыс. руб.",{"$f":"'Смета расходов'!D60*'Оплата труда'!D116%","v":{"$error":"#DIV/0!"}},{"$f":"E60*'Оплата труда'!E116%","v":{"$error":"#DIV/0!"}},{"$f":"F60*'Оплата труда'!F116%","v":{"$error":"#DIV/0!"}},{"$error":"#DIV/0!"},{"$f":"H60*'Оплата труда'!G116%","v":{"$error":"#DIV/0!"}},{"$f":"I60*'Оплата труда'!H116%","v":91.021329747650071},null,-91.021329747650071,{"$f":"L60*'Оплата труда'!K116%","v":87.054288355675425},91.021329747650071,{"$f":"'Цех и Администр расх'!I35*'Цех и Администр расх'!M81/100","v":90.570919682529663},-0.45041006512040838,3.5166313268542382]
["3.2.3","численность АУП, распределяемого на регулируемый вид деятельности","чел.",{"$f":"'Цех и Администр расх'!D36*'Цех и Администр расх'!H100%","v":{"$error":"#DIV/0!"}},{"$f":"'Цех и Администр расх'!E36*'Цех и Администр расх'!I100%","v":{"$error":"#DIV/0!"}},{"$f":"'Цех и Администр расх'!F36*'Цех и Администр расх'!J100%","v":{"$error":"#DIV/0!"}},{"$error":"#DIV/0!"},{"$f":"'Цех и Администр расх'!G36*'Цех и Администр расх'!K100%","v":{"$error":"#DIV/0!"}},{"$f":"'Цех и Администр расх'!H36*'Цех и Администр расх'!L100%","v":1.233995325487159},null,-1.233995325487159,{"$f":"'Цех и Администр расх'!M36","v":1.3399961651860079},1.233995325487159,{"$f":"'Цех и Администр расх'!I36*'Цех и Администр расх'!M81/100","v":1.2339922750696624},-3.0504174965972908E-6,-0.10600389011634559]
["3.2.4","среднемесячная оплата труда АУП","руб./чел. в мес.",{"$f":"D60/D62/12*1000","v":{"$error":"#DIV/0!"}},{"$f":"E60/E62/12*1000","v":{"$error":"#DIV/0!"}},{"$error":"#DIV/0!"},{"$error":"#DIV/0!"},{"$error":"#DIV/0!"},20353.611111111113,{"$error":"#DIV/0!"},{"$error":"#DIV/0!"},{"$f":"L60/L62/12*1000","v":17926.620516721076},20353.611111111113,{"$f":"N60/N62/12*1000","v":20353.610000000004},-1.111111108912155E-3,2426.9894832789287]
["3.3","Арендная плата, лизинговые платежи, не связанные с арендой (лизингом) централизованных систем водоснабжения либо объектов, входящих в состав таких систем","тыс. руб.",{"$f":"'Цех и Администр расх'!D38*'Цех и Администр расх'!H100%","v":{"$error":"#DIV/0!"}},{"$f":"'Цех и Администр расх'!E38*'Цех и Администр расх'!I100%","v":{"$error":"#DIV/0!"}},{"$f":"'Цех и Администр расх'!F38*'Цех и Администр расх'!J100%","v":{"$error":"#DIV/0!"}},{"$error":"#DIV/0!"},{"$f":"'Цех и Администр расх'!G38*'Цех и Администр расх'!K100%","v":{"$error":"#DIV/0!"}},{"$f":"'Цех и Администр расх'!H38*'Цех и Администр расх'!L100%","v":5.9231775623383633},null,-5.9231775623383633,{"$f":"'Цех и Администр расх'!M38","v":6.0594907591020872},5.9231775623383633,5.92,-3.1775623383634155E-3,-0.1394907591020873]
["3.4","Служебные командировки","тыс. руб.",{"$f":"'Цех и Администр расх'!D39*'Цех и Администр расх'!H100%","v":{"$error":"#DIV/0!"}},{"$f":"'Цех и Администр расх'!E39*'Цех и Администр расх'!I100%","v":{"$error":"#DIV/0!"}},{"$f":"'Цех и Администр расх'!F39*'Цех и Администр расх'!J100%","v":{"$error":"#DIV/0!"}},{"$error":"#DIV/0!"},{"$f":"'Цех и Администр расх'!G39*'Цех и Администр расх'!K100%","v":{"$error":"#DIV/0!"}},{"$f":"'Цех и Администр расх'!H39*'Цех и Администр расх'!L100%","v":0},null,0,{"$f":"'Цех и Администр расх'!M39","v":0},0,null,0,0]
["3.5","Обучение персонала","тыс. руб.",{"$f":"'Цех и Администр расх'!D40*'Цех и Администр расх'!H100%","v":{"$error":"#DIV/0!"}},{"$f":"'Цех и Администр расх'!E40*'Цех и Администр расх'!I100%","v":{"$error":"#DIV/0!"}},{"$f":"'Цех и Администр расх'!F40*'Цех и Администр расх'!J100%","v":{"$error":"#DIV/0!"}},{"$error":"#DIV/0!"},{"$f":"'Цех и Администр расх'!G40*'Цех и Администр расх'!K100%","v":{"$error":"#DIV/0!"}},{"$f":"'Цех и Администр расх'!H40*'Цех и Администр расх'!L100%","v":5.7586448522734086},null,-5.7586448522734086,{"$f":"'Цех и Администр расх'!M40","v":0},5.7586448522734086,5.76,1.3551477265911771E-3,5.76]
["3.6","Страхование производственных объектов","тыс. руб.",{"$f":"'Цех и Администр расх'!D41*'Цех и Администр расх'!H100%","v":{"$error":"#DIV/0!"}},{"$f":"'Цех и Администр расх'!E41*'Цех и Администр расх'!I100%","v":{"$error":"#DIV/0!"}},{"$f":"'Цех и Администр расх'!F41*'Цех и Администр расх'!J100%","v":{"$error":"#DIV/0!"}},{"$error":"#DIV/0!"},{"$f":"'Цех и Администр расх'!G41*'Цех и Администр расх'!K100%","v":{"$error":"#DIV/0!"}},{"$f":"'Цех и Администр расх'!H41*'Цех и Администр расх'!L100%","v":3.5991530326708805},null,-3.5991530326708805,{"$f":"'Цех и Администр расх'!M41","v":1.6411120805901485},3.5991530326708805,3.6,8.4696732911959671E-4,1.9588879194098516]
["3.7","Прочие административные расходы","тыс. руб.",{"$f":"'Цех и Администр расх'!D42*'Цех и Администр расх'!H100%","v":{"$error":"#DIV/0!"}},{"$f":"'Цех и Администр расх'!E42*'Цех и Администр расх'!I100%","v":{"$error":"#DIV/0!"}},{"$f":"'Цех и Администр расх'!F42*'Цех и Администр расх'!J100%","v":{"$error":"#DIV/0!"}},{"$error":"#DIV/0!"},{"$f":"'Цех и Администр расх'!G42*'Цех и Администр расх'!K100%","v":{"$error":"#DIV/0!"}},{"$f":"'Цех и Администр расх'!H42*'Цех и Администр расх'!L100%","v":274.42822043508932},null,-274.42822043508932,{"$f":"'Цех и Администр расх'!M42","v":23.316415483461569},274.42822043508932,{"$f":"'Цех и Администр расх'!I42*'Цех и Администр расх'!M81/100","v":274.42754205274224},-6.7838234707551237E-4,251.11112656928066]
["4","Сбытовые расходы гарантирующих организаций","тыс. руб.",{"$f":"D70","v":0},{"$f":"E70","v":0},0,0,0,0,0,0,0,0,0,0,0,0,0,0,0,0,0,{"$f":"V69-T69","v":0}]
["4.1","Расходы по сомнительным долгам, в размере не более 2% НВВ","тыс. руб.",null,null,0,0,null,null,null,0,null,null,null,0,0,null,null,null,{"$f":"'Сомнительные долги'!C8","v":0},null,null,{"$f":"V70-T70","v":0}]
["5","Амортизация","тыс. руб.",{"$f":"D72","v":0},{"$f":"E72","v":0},0,0,0,0,705.04,705.04,0,0,705.04,705.04,705.04,0,0,0,0,0,0,{"$f":"V71-T71","v":0}]
["5.1","Амортизация основных средств и нематериальных активов, относимых к объектам централизованной системы водоснабжения ","тыс. руб.",null,{"$f":"'Амортизация 2'!K5-'Амортизация 2'!K15","v":0},{"$f":"'Амортизация 2'!L5-'Амортизация 2'!L15","v":0},0,null,{"$f":"'Амортизация 2'!K77-'Амортизация 2'!K87","v":0},{"$f":"'Амортизация 2'!L77-'Амортизация 2'!L87","v":705.04},{"$f":"J72-I72","v":705.04},{"$f":"'Амортизация 2'!L149-'Амортизация 2'!L160","v":0},{"$f":"I72","v":0},{"$f":"J72","v":705.04},{"$f":"N72-M72","v":705.04},{"$f":"N72-L72","v":705.04},null,null,null,null,null,null,{"$f":"V72-T72","v":0}]
["6","Расходы на арендную плату, лизинговые платежи, концессионную плату","тыс. руб.",{"$f":"D74+D75+D76+D77","v":0},{"$f":"E74+E75+E76+E77","v":0},0,0,0,0,0,0,0,0,0,0,0,0,0,0,0,0,0,0]
["6.1","Аренда имущества","тыс. руб.",{"$f":"'Аренда, лизинг, концессия'!H9","v":0},{"$f":"'Аренда, лизинг, концессия'!I9","v":0},{"$f":"'Аренда, лизинг, концессия'!J9","v":0},0,{"$f":"'Аренда, лизинг, концессия'!K9","v":0},{"$f":"'Аренда, лизинг, концессия'!L9","v":0},{"$f":"'Аренда, лизинг, концессия'!M9","v":0},0,{"$f":"'Аренда, лизинг, концессия'!O9","v":0},{"$f":"I74","v":0},0,0,0,null,null,null,null,null,null,0,{"$f":"V74/Q74*100","v":{"$error":"#DIV/0!"}}]
["6.2","Концессионная плата","тыс. руб.",{"$f":"'Аренда, лизинг, концессия'!H13","v":0},{"$f":"'Аренда, лизинг, концессия'!I13","v":0},{"$f":"'Аренда, лизинг, концессия'!J13","v":0},{"$f":"F75-E75","v":0},{"$f":"'Аренда, лизинг, концессия'!K13","v":0},{"$f":"'Аренда, лизинг, концессия'!L13","v":0},{"$f":"'Аренда, лизинг, концессия'!M13","v":0},0,{"$f":"'Аренда, лизинг, концессия'!O11","v":0},0,0,0,0,null,null,null,null,null,null,0,{"$f":"V75/Q75*100","v":{"$error":"#DIV/0!"}}]
["6.3","Лизинговые платежи","тыс. руб.",{"$f":"'Аренда, лизинг, концессия'!H17","v":0},{"$f":"'Аренда, лизинг, концессия'!I17","v":0},{"$f":"'Аренда, лизинг, концессия'!J17","v":0},0,{"$f":"'Аренда, лизинг, концессия'!K17","v":0},{"$f":"'Аренда, лизинг, концессия'!L17","v":0},{"$f":"'Аренда, лизинг, концессия'!M17","v":0},0,{"$f":"'Аренда, лизинг, концессия'!O15","v":0},0,0,0,0,null,null,null,null,null,null,0,{"$f":"V76/Q76*100","v":{"$error":"#DIV/0!"}}]
["6.4","Аренда земельных участков","тыс. руб.",{"$f":"'Аренда, лизинг, концессия'!H21","v":0},{"$f":"'Аренда, лизинг, концессия'!I21","v":0},{"$f":"'Аренда, лизинг, концессия'!J21","v":0},0,{"$f":"'Аренда, лизинг, концессия'!K21","v":0},{"$f":"'Аренда, лизинг, концессия'!L21","v":0},{"$f":"'Аренда, лизинг, концессия'!M21","v":0},0,{"$f":"'Аренда, лизинг, концессия'!O21","v":0},0,0,0,0,null,null,null,null,null,null,0,{"$f":"V77/Q77*100","v":{"$error":"#DIV/0!"}}]
["7","Расходы, связанные с уплатой налогов и сборов","тыс. руб.",{"$f":"SUM(D79:D84)","v":0},{"$f":"SUM(E79:E84)","v":0},0,0,0,32.19,16.129000000000001,-16.060999999999996,41.34,32.19,16.129000000000001,-16.060999999999996,-25.211000000000002,47.61,0,0,54.64,54.64,42.470607084554203,-12.169392915445798,{"$f":"V78/Q78*100","v":89.205223870099147}]
["7.1","Налог на имущество организаций","тыс. руб.",{"$f":"Налоги!D8","v":0},{"$f":"Налоги!E8","v":0},{"$f":"Налоги!F8","v":0},0,{"$f":"Налоги!G8","v":0},{"$f":"Налоги!H8","v":0},{"$f":"Налоги!I8","v":0},0,{"$f":"Налоги!K8","v":0},{"$f":"I79","v":0},0,0,0,null,null,null,null,null,null,0]
["7.2","Плата за негативное воздействие на окружающую среду","тыс. руб.",{"$f":"Налоги!D9","v":0},{"$f":"Налоги!E9","v":0},{"$f":"Налоги!F9","v":0},0,{"$f":"Налоги!G9","v":0},{"$f":"Налоги!H9","v":0},{"$f":"Налоги!I9","v":0},0,{"$f":"Налоги!K9","v":0},0,0,0,0,null,null,null,null,null,null,0]
["7.3","Водный налог и плата за пользование водным объектом","тыс. руб.",{"$f":"Налоги!D10","v":0},{"$f":"Налоги!E10","v":0},{"$f":"Налоги!F10","v":0},0,{"$f":"Налоги!G10","v":0},{"$f":"Налоги!H10","v":32.19},{"$f":"Налоги!I10","v":16.129000000000001},-16.060999999999996,{"$f":"Налоги!K10","v":41.34},32.19,16.129000000000001,-16.060999999999996,-25.211000000000002,47.61,null,null,54.64,54.64,{"$f":"'Расчет водного налога'!P19","v":42.470607084554203},-12.169392915445798,{"$f":"V81/Q81*100","v":89.205223870099147},"Доля"]
["7.4","Земельный налог","тыс. руб.",{"$f":"Налоги!D11","v":0},{"$f":"Налоги!E11","v":0},{"$f":"Налоги!F11","v":0},0,{"$f":"Налоги!G11","v":0},{"$f":"Налоги!H11","v":0},{"$f":"Налоги!I11","v":0},0,{"$f":"Налоги!K11","v":0},0,0,0,0,null,null,null,null,null,null,0]
["7.5","Транспортный налог","тыс. руб.",{"$f":"Налоги!D12","v":0},{"$f":"Налоги!E12","v":0},{"$f":"Налоги!F12","v":0},0,{"$f":"Налоги!G12","v":0},{"$f":"Налоги!H12","v":0},{"$f":"Налоги!I12","v":0},0,{"$f":"Налоги!K12","v":0},0,0,0,0,null,null,null,null,null,null,0]
["7.6","Прочие налоги и сборы, за исключением налогов и сборов с ФОТ, учитываемых в составе производственных, ремонтных и административных расходов","тыс. руб.",null,null,null,0,null,null,null,0,0,null,null,0,0,null,null,null,null,null,null,0]
[null,"Итого производственная себестоимость","тыс. руб.",{"$f":"D7+D41+D51+D69+D71+D73+D78","v":{"$error":"#DIV/0!"}},{"$f":"E7+E41+E51+E69+E71+E73+E78","v":{"$error":"#DIV/0!"}},{"$f":"F7+F41+F51+F69+F71+F73+F78","v":{"$error":"#DIV/0!"}},{"$error":"#DIV/0!"},{"$f":"H7+H41+H51+H69+H71+H73+H78","v":{"$error":"#DIV/0!"}},{"$f":"I7+I41+I51+I69+I71+I73+I78","v":2551.4857459207651},{"$f":"J7+J41+J51+J69+J71+J73+J78","v":1950.7361123411997},-600.7496335795654,{"$f":"L7+L41+L51+L69+L71+L73+L78","v":3039.4494044499088},{"$f":"M7+M41+M51+M69+M71+M73+M78","v":2742.2257459207653},{"$f":"N7+N41+N51+N69+N71+N73+N78","v":2840.2537898386026},98.028043917837294,-199.19561461130615]
[null,"Производственная себестоимость","руб./куб.м.",{"$f":"D85/D119","v":{"$error":"#DIV/0!"}},{"$f":"E85/E119","v":{"$error":"#DIV/0!"}},{"$f":"F85/F119","v":{"$error":"#DIV/0!"}},{"$error":"#DIV/0!"},{"$f":"H85/H119","v":{"$error":"#DIV/0!"}},{"$f":"I85/I119","v":{"$error":"#DIV/0!"}},{"$f":"J85/J119","v":{"$error":"#DIV/0!"}},{"$error":"#DIV/0!"},{"$f":"L85/L119","v":25.445385624561158},{"$f":"M85/M119","v":35.553296257860268},{"$f":"N85/N119","v":36.823344508633824},1.2700482507735558,11.377958884072665]
[null,"НВВ на реализацию","тыс. руб.",{"$f":"D86*D121","v":{"$error":"#DIV/0!"}},{"$f":"E86*E121","v":{"$error":"#DIV/0!"}},{"$f":"F86*F121","v":{"$error":"#DIV/0!"}},{"$error":"#DIV/0!"},{"$f":"H86*H121","v":{"$error":"#DIV/0!"}},{"$f":"I86*I121","v":{"$error":"#DIV/0!"}},{"$f":"J86*J121","v":{"$error":"#DIV/0!"}},{"$error":"#DIV/0!"},{"$f":"L86*L121","v":3039.4494044499088},{"$f":"M86*M121","v":2742.2257459207653},{"$f":"N86*N121","v":2840.2537898386031},98.028043917837749,-199.1956146113057]
["8","Нормативная прибыль","тыс. руб.",{"$f":"D89+D92+D93","v":0},"-","-","-",{"$f":"H89+H92+H93","v":0},"-","-",{"$error":"#VALUE!"},0,"-","-",null,null,0,0,0,0,0,0,0]
["8.1","Средства на возврат займов и кредитов и процентов по ним","тыс. руб.",{"$f":"D90+D91","v":0},"-","-","-",{"$f":"H90+H91","v":0},"-","-",{"$error":"#VALUE!"},{"$f":"L90+L91","v":0},"-","-",null,null,{"$f":"Q90+Q91","v":0},0,0,0,0,0,0]
["8.1.1","Возврат займов и кредитов","тыс. руб.",{"$f":"'Нормативная прибыль'!D7","v":0},"-",null,null,{"$f":"'Нормативная прибыль'!G7","v":0},"-","-",{"$error":"#VALUE!"},{"$f":"'Нормативная прибыль'!K7","v":0},"-","-",null,null,0,null,null,0,null,null,0]
["8.1.2","Проценты по займам и кредитам","тыс. руб.",{"$f":"'Нормативная прибыль'!D8","v":0},"-",null,null,{"$f":"'Нормативная прибыль'!G8","v":0},"-","-",{"$error":"#VALUE!"},{"$f":"'Нормативная прибыль'!K8","v":0},"-","-",null,null,0,null,null,0,null,null,0]
["8.2","Расходы на капитальные вложения","тыс. руб.",{"$f":"'Нормативная прибыль'!D9","v":0},"-","-","-",{"$f":"'Нормативная прибыль'!G9","v":0},"-","-",{"$error":"#VALUE!"},{"$f":"'Нормативная прибыль'!K9","v":0},"-","-",null,null,0,null,null,0,null,null,0]
["8.3","Расходы на социальные нужды, предусмотренные коллективными договорами, в соответствии с подпунктом 3 пункта 31 Методических указаний","тыс. руб.",{"$f":"'Нормативная прибыль'!D10","v":0},"-","-","-",{"$f":"'Нормативная прибыль'!G10","v":0},"-","-",{"$error":"#VALUE!"},{"$f":"'Нормативная прибыль'!K10","v":0},"-","-",null,null,0,null,null,0,null,null,0]
["9","Расчетная предпринимательская прибыль гарантирующей организации","тыс. руб.",{"$f":"'Нормативная прибыль'!D13","v":0},{"$f":"'Нормативная прибыль'!E13","v":0},{"$f":"'Нормативная прибыль'!F13","v":0},0,{"$f":"'Нормативная прибыль'!G13","v":0},{"$f":"'Нормативная прибыль'!H13","v":0},{"$f":"'Нормативная прибыль'!I13","v":0},0,{"$f":"'Нормативная прибыль'!K13","v":0},{"$f":"I94","v":0},{"$f":"J94","v":0},0,0,0,null,null,0,null,null,0]
["10","Фактическая прибыль/убыток","тыс. руб.","-",{"$f":"'Нормативная прибыль'!E15","v":0},{"$f":"'Нормативная прибыль'!F15","v":0},0,"-",{"$f":"'Нормативная прибыль'!H15","v":0},{"$f":"'Нормативная прибыль'!I15","v":-1055.727789838603},-1055.727789838603,"-",{"$f":"I95","v":0},{"$f":"J95","v":-1055.727789838603},-1055.727789838603,null,"-","-",null,"-","-"]
["11","Налог на прибыль","тыс. руб.",null,null,null,0,null,null,null,0,0,0,null,0,0]
["12","Налог, уплачиваемый в связи с применением упрощенной системы налогообложения","тыс. руб.",null,null,null,0,null,null,null,0,30.39,32.19,null,-32.19,-30.39]
["13","Расходы, связанные с приобретением регулируемой организацией товаров (работ, услуг), используемых при осуществлении регулируемых видов деятельности, по завышенным ценам и в завышенных объемах","тыс. руб.",null,null,null,0,null,null,null,0,-296.33999999999997,0,{"$f":"O14","v":-596.10400000000004},-596.10400000000004,-299.76400000000007]
["14","Субсидии из бюджета","тыс. руб.",null,null,null,0,null,null,null,0,0,0,null,0,0,0,null,null,0,null,null,0]
[null,"ИТОГО НВВ","тыс. руб.",{"$f":"D87+D88+D94+D96+D97+D98-D99","v":{"$error":"#DIV/0!"}},{"$f":"E87+E94+E95+E96+E97+E98-E99","v":{"$error":"#DIV/0!"}},{"$f":"F87+F94+F95+F96+F97+F98-F99","v":{"$error":"#DIV/0!"}},{"$error":"#DIV/0!"},{"$f":"H87+H88+H94+H96+H97+H98-H99","v":{"$error":"#DIV/0!"}},{"$f":"I87+I94+I95+I96+I97+I98-I99","v":{"$error":"#DIV/0!"}},{"$f":"J87+J94+J95+J96+J97+J98-J99","v":{"$error":"#DIV/0!"}},{"$error":"#DIV/0!"},{"$f":"L87+L88+L94+L96+L97+L98-L99","v":2773.4994044499085},{"$f":"M87+M95+M94+M96+M97+M98-M99","v":2774.4157459207654},{"$f":"N87+N95+N94+N96+N97+N98-N99","v":1188.422},-1585.9937459207654,-1585.0774044499085]
[null,null,null,null,null,null,null,null,null,null,null,null,null,1784.5260000000001]
[null,"Нормативная прибыль, не более 7% от НВВ"]
["Руководитель организации    ____________________________________"]
[]
["Ответственный за составление формы   ______________________________________"]
[null,"МП"]
[]
["Приложение 3"]
["Натуральные показатели по водоснабжению"]
[]
["№ п/п","Наименование","Ед. изм.",2014,null,"2014 факт РЭК","Отклонение",2015,2016,2016,"Отклонение факт РЭК от факт ОКК",2016,2016,2016,"Отклонение факт РЭК от факт ОКК","Отклонение факт РЭК от утверждено РЭК",2017,"2017 план РЭК первоначальный ","2017 план РЭК корректировка ",2018,"2018 план РЭК перв-ый","2018 план РЭК кор-ка ","Отклонение утверждено РЭК от план ОКК","Рост утверждено РЭК 2018/2017"]
[null,null,null,"план","факт",null,null,"утверждено РЭК","факт ОКК","факт РЭК",null,"утверждено РЭК","факт ОКК","факт РЭК",null,null,"утверждено РЭК",null,null,"план ОКК"]
[1,2,3,4,5,"5*","5**",6,7,"7*",8,"8*",null,null,null,"8**",9,"9*","9**",10,"10*","10**"]
[1,"Подъем воды","тыс. куб.м.",null,null,null,{"$f":"F114-E114","v":0},null,null,null,{"$f":"J114-I114","v":0},176.05,219.52,113.68,{"$f":"N114-M114","v":-105.84},{"$f":"N114-L114","v":-62.370000000000005},176.05,null,null,176.05,176.05,176.05,{"$f":"V114-T114","v":0},{"$f":"V114/Q114*100","v":100}]
[2,"Объем покупной воды","тыс. куб.м.",null,null,null,{"$f":"F115-E115","v":0},null,null,null,{"$f":"J115-I115","v":0},null,null,null,{"$f":"N115-M115","v":0},{"$f":"N115-L115","v":0},null,null,null,null,null,null,{"$f":"V115-T115","v":0}]
[3,"Подано воды в сеть","тыс. куб.м.",{"$f":"D114+D115","v":0},{"$f":"E114+E115","v":0},0,0,0,0,0,0,176.05,219.52,{"$f":"N114+N115","v":113.68},-105.84,-62.370000000000005,176.05,0,0,176.05,{"$f":"U114+U115","v":176.05},{"$f":"V114+V115","v":176.05},0,{"$f":"V116/Q116*100","v":100}]
[4,"Потери","тыс. куб.м.",{"$f":"D116*D118%","v":0},{"$f":"E116*E118%","v":0},0,0,0,0,0,0,56.600075000000004,142.38999984384,{"$f":"N116*N118%","v":36.548120000000004},-105.84187984383999,-20.051955,56.600075000000004,0,0,56.600075000000004,{"$f":"U116*U118%","v":56.600075000000004},{"$f":"V116*V118%","v":56.600075000000004},0,100]
[null,null,"%",null,null,null,0,null,null,null,0,32.15,64.864249200000003,32.15,-32.714249200000005,0,32.15,null,null,32.15,32.15,32.15,0,100]
[5,"Полезный отпуск","тыс. куб.м.",{"$f":"D116-D117","v":0},{"$f":"E116-E117","v":0},0,0,0,0,0,0,119.44992500000001,77.130000156160008,{"$f":"N116-N117","v":77.131879999999995},1.879843839986961E-3,-42.318045000000012,119.44992500000001,0,0,119.44992500000001,{"$f":"U116-U117","v":119.44992500000001},{"$f":"V116-V117","v":119.44992500000001},0,100]
[6,"Внутрихозяйственный оборот","тыс. куб.м.",null,null,null,0,null,null,null,0,null,null,null,0,0,null,null,null,null,null,null,0]
[7,"Реализация услуг, в т.ч.","тыс. куб.м.",{"$f":"D119-D120","v":0},{"$f":"E119-E120","v":0},0,0,0,0,0,0,119.44992500000001,77.130000156160008,{"$f":"N119-N120","v":77.131879999999995},1.879843839986961E-3,-42.318045000000012,119.44992500000001,0,0,119.44992500000001,{"$f":"U119-U120","v":119.44992500000001},{"$f":"V119-V120","v":119.44992500000001},0,100]
["7.1","- население","тыс. куб.м.",null,null,null,0,null,null,null,0,97.45,63.2,63.2,0,-34.25,97.45,null,null,97.45,97.45,105.52,8.0699999999999932,108.28116983068239]
["7.2","- специализированные организации (ВКХ)","тыс. куб.м.",null,null,null,0,{"$f":"H124+H125","v":0},{"$f":"I124+I125","v":0},0,0,0,0,{"$f":"N124+N125","v":0},0,0,0,0,0,0,{"$f":"U124+U125","v":0},{"$f":"V124+V125","v":0},0]
["7.2.1","в объеме, реализуемом населению","тыс. куб.м.",null,null,null,null,null,null,null,0,null,null,null,0,0,null,null,null,null,null,null,0]
["7.2.2","в объеме, реализуемом прочим и бюджетным потребителям","тыс. куб.м.",null,null,null,null,null,null,null,0,null,null,null,0,0,null,null,null,null,null,null,0]
["7.3","- бюджетные, в т.ч.","тыс. куб.м.",{"$f":"SUM(D127:D129)","v":0},{"$f":"SUM(E127:E129)","v":0},0,0,0,0,0,0,10,4.7300000000000004,{"$f":"SUM(N127:N129)","v":4.7300000000000004},0,-5.27,10,0,0,10,{"$f":"SUM(U127:U129)","v":10},{"$f":"SUM(V127:V129)","v":4.7300000000000004},-5.27,47.300000000000004]
["7.3.1","федеральный бюджет","тыс. куб.м.",null,null,null,0,null,null,null,0,null,null,null,0,0,null,null,null,null,null,null,0]
["7.3.2","краевой бюджет","тыс. куб.м.",null,null,null,0,null,null,null,0,null,null,null,0,0,null,null,null,null,null,null,0]
["7.3.3","местный бюджет","тыс. куб.м.",null,null,null,0,null,null,null,0,10,4.7300000000000004,4.7300000000000004,0,-5.27,10,null,null,10,10,4.7300000000000004,-5.27,47.300000000000004]
["7.4","- прочие потребители","тыс. куб.м.",null,null,null,0,null,null,null,0,12,9.1999999999999993,9.1999999999999993,0,-2.8000000000000007,12,null,null,12,12,9.1999999999999993,-2.8000000000000007,76.666666666666657]
["8","Распередление расходов пропорционально объемам реализации","%",{"$f":"D121/D119*100","v":{"$error":"#DIV/0!"}},{"$f":"E121/E119*100","v":{"$error":"#DIV/0!"}},{"$error":"#DIV/0!"},null,{"$error":"#DIV/0!"},{"$error":"#DIV/0!"},{"$error":"#DIV/0!"},{"$error":"#DIV/0!"},100,100,100,0,0,100,{"$error":"#DIV/0!"},{"$error":"#DIV/0!"},100,100,100,0,100]
[null,"проверка",null,{"$f":"IF(D121=SUM(D122,D123,D126,D130),\"верно\", \"не верно\")","v":"верно"},{"$f":"IF(E121=SUM(E122,E123,E126,E130),\"верно\", \"не верно\")","v":"верно"},"верно",null,"верно","верно","верно","верно","не верно"]
[]
["Руководитель организации    ____________________________________"]
[]
["Ответственный за составление формы   ______________________________________"]
[null,"МП"]

{"sheet":"Расчет водного налога","index":6,"n_rows":31,"n_cols":17,"rows_kept":31,"cut":false,"hidden":false,"merged":[[21,1,21,2],[21,3,21,4],[28,1,28,2],[28,3,28,4],[21,6,21,7],[22,6,22,7],[25,6,25,7],[28,6,28,7]]}
[null,null,null,null,null,null,null,null,null,null,"из подземных","Кубань",570]
[null,null,null,null,654,null,null,null,null,"корректировка",null,"прочие",654,null,654,null,"с округл"]
[2016,null,null,null,null,null,null,null,null,null,2016]
["Объем поднятой воды",{"$f":"'Смета расходов'!L114","v":176.05},null,null,null,null,null,null,null,null,"Объем поднятой воды",{"$f":"'Смета расходов'!L114","v":176.05}]
["население",{"$f":"'Смета расходов'!L122+'Смета расходов'!L123","v":97.45},{"$f":"B5*C7/B7","v":81.582251988279609},{"$f":"B4*C5%","v":143.62555462536625},93,{"$f":"D5*E5/1000","v":13.357176580159061},null,null,null,null,"население",{"$f":"'Смета расходов'!L122+'Смета расходов'!L124","v":97.45},{"$f":"L5*M7/L7","v":81.582251988279609},{"$f":"L4*M5%","v":143.62555462536625},93,{"$f":"N5*O5/1000","v":13.357176580159061}]
["прочие",{"$f":"'Смета расходов'!L126+'Смета расходов'!L130+'Смета расходов'!L120","v":22},{"$f":"C7-C5","v":18.417748011720391},{"$f":"B4-D5","v":32.424445374633763},{"$f":"E2*1.32","v":863.28000000000009},{"$f":"D6*E6/1000","v":27.991375203013838},1.32,null,null,null,"прочие",{"$f":"'Смета расходов'!L125+'Смета расходов'!L126+'Смета расходов'!L130+'Смета расходов'!L120","v":22},{"$f":"M7-M5","v":18.417748011720391},{"$f":"L4-N5","v":32.424445374633763},{"$f":"ROUND(O2*1.32, 0)","v":863},{"$f":"N6*O6/1000","v":27.982296358308936},1.32]
[null,{"$f":"B5+B6","v":119.45},100,{"$f":"D5+D6","v":176.05},null,{"$f":"F5+F6","v":41.348551783172901},null,null,null,null,null,{"$f":"L5+L6","v":119.45},100,{"$f":"N5+N6","v":176.05},null,{"$f":"P5+P6","v":41.339472938467999}]
[]
[2017,null,null,null,null,null,null,null,null,null,2017]
["Объем поднятой воды",{"$f":"'Смета расходов'!R114","v":0},null,null,null,null,null,null,null,null,"Объем поднятой воды",{"$f":"'Смета расходов'!Q114","v":176.05}]
["население",{"$f":"'Смета расходов'!R122+'Смета расходов'!R123","v":0},{"$f":"B11*C13/B13","v":{"$error":"#DIV/0!"}},{"$f":"B10*C11%","v":{"$error":"#DIV/0!"}},107,{"$f":"D11*E11/1000","v":{"$error":"#DIV/0!"}},null,null,null,null,"население",{"$f":"'Смета расходов'!Q122+'Смета расходов'!Q124","v":97.45},{"$f":"L11*M13/L13","v":81.582251988279609},{"$f":"L10*M11%","v":143.62555462536625},107,{"$f":"N11*O11/1000","v":15.36793434491419}]
["прочие",{"$f":"'Смета расходов'!R130+'Смета расходов'!R126+'Смета расходов'!R120","v":0},{"$f":"C13-C11","v":{"$error":"#DIV/0!"}},{"$f":"B10-D11","v":{"$error":"#DIV/0!"}},{"$f":"E2*1.52","v":994.08},{"$f":"D12*E12/1000","v":{"$error":"#DIV/0!"}},1.52,null,null,null,"прочие",{"$f":"'Смета расходов'!Q125+'Смета расходов'!Q126+'Смета расходов'!Q130+'Смета расходов'!Q120","v":22},{"$f":"M13-M11","v":18.417748011720391},{"$f":"L10-N11","v":32.424445374633763},{"$f":"ROUND(O2*1.52, 0)","v":994},{"$f":"N12*O12/1000","v":32.22989870238596},1.52]
[null,{"$f":"B11+B12","v":0},100,{"$f":"D11+D12","v":{"$error":"#DIV/0!"}},null,{"$f":"F11+F12","v":{"$error":"#DIV/0!"}},null,null,null,null,null,{"$f":"L11+L12","v":119.45},100,{"$f":"N11+N12","v":176.05},null,{"$f":"P11+P12","v":47.597833047300149}]
[]
[2018,null,null,null,null,null,null,null,null,null,2018]
["Объем поднятой воды",{"$f":"'Смета расходов'!U114","v":176.05},null,null,null,null,null,null,null,null,"Объем поднятой воды",{"$f":"'Смета расходов'!V114","v":176.05}]
["население",{"$f":"'Смета расходов'!U122+'Смета расходов'!U123","v":97.45},{"$f":"B17*C19/B19","v":81.582251988279609},{"$f":"B16*C17%","v":143.62555462536625},122,{"$f":"D17*E17/1000","v":17.522317664294683},null,null,null,null,"население",{"$f":"'Смета расходов'!V122+'Смета расходов'!V124","v":105.52},{"$f":"L17*M19/L19","v":88.338216827124327},{"$f":"L16*M17%","v":155.51943072415239},122,{"$f":"N17*O17/1000","v":18.973370548346594}]
["прочие",{"$f":"'Смета расходов'!U120+'Смета расходов'!U126+'Смета расходов'!U130","v":22},{"$f":"C19-C17","v":18.417748011720391},{"$f":"B16-D17","v":32.424445374633763},{"$f":"E2*1.75","v":1144.5},{"$f":"D18*E18/1000","v":37.109777731268338},1.75,null,null,null,"прочие",{"$f":"'Смета расходов'!V125+'Смета расходов'!V126+'Смета расходов'!V130+'Смета расходов'!V120","v":13.93},{"$f":"M19-M17","v":11.661783172875673},{"$f":"L16-N17","v":20.530569275847625},{"$f":"O2*1.75","v":1144.5},{"$f":"N18*O18/1000","v":23.497236536207609},1.75]
[null,{"$f":"B17+B18","v":119.45},100,{"$f":"D17+D18","v":176.05},null,{"$f":"F17+F18","v":54.63209539556302},null,null,null,null,null,{"$f":"L17+L18","v":119.44999999999999},100,{"$f":"N17+N18","v":176.05},null,{"$f":"P17+P18","v":42.470607084554203}]
[]
[]
["Факт 2016","Объемы",null,"Плата",null,null,"Факт д.быть"]
[null,"прочие","насел.",654,93,null,"Объемы"]
[null,2979,49290,2571,4584,null,"прочие","насел."]
[null,4444,58323,3835,5424,null,{"$f":"'Смета расходов'!N114*'Расчет водного налога'!B31/100","v":7.2135199770415488},{"$f":"'Смета расходов'!N114*'Расчет водного налога'!C31/100","v":106.46648002295846}]
[null,1100,69169,949,6433,null,"Плата"]
[null,5407,28815,6072,2680,null,654,93]
["Итого",{"$f":"SUM(B24:B27)","v":13930},{"$f":"SUM(C24:C27)","v":205597},{"$f":"SUM(D24:D27)","v":13427},{"$f":"SUM(E24:E27)","v":19121},null,{"$f":"G25*E6","v":6227.287525780429},{"$f":"H25*H27","v":9901.3826421351368}]
[null,{"$f":"B28+C28","v":219527},null,{"$f":"D28+E28","v":32548},null,null,{"$f":"(G28+H28)/1000","v":16.128670167915566}]
[]
["%",{"$f":"B28/B29%","v":6.3454609228022063},{"$f":"C28/B29%","v":93.654539077197796}]

{"sheet":"Нат. показатели по МО","index":7,"n_rows":47,"n_cols":12,"rows_kept":47,"cut":false,"hidden":false,"merged":[[0,9,0,10],[22,0,22,10],[28,0,29,0],[46,0,46,10],[42,1,42,3],[44,1,44,3],[7,0,8,0],[1,0,1,10]]}
[null,null,null,null,null,null,null,null,null,"Приложение Г"]
["Натуральные показатели ПЛАНОВЫХ объемов водоснабжения на 2018 год (в разрезе муниципальных образований)*"]
[]
["Наименование показателей","Ед. изм.","ВСЕГО по предприятию, в т.ч. по МО","_____________ городское поселение","Бейсужекское сельское поселение","______________ сельское поселение","______________ сельское поселение","______________ сельское поселение","______________ сельское поселение","______________ сельское поселение","______________ сельское поселение"]
["подъем ","тыс. куб.м.",{"$f":"SUM(D5:K5)","v":176.05},null,176.05,null,null,null,null,null,null,{"$f":"IF(C5=SUM(D5:K5),\"верно\",\"не верно\")","v":"верно"}]
["покупная вода","тыс. куб.м.",{"$f":"SUM(D6:K6)","v":0},null,null,null,null,null,null,null,null,{"$f":"IF(C6=SUM(D6:K6),\"верно\",\"не верно\")","v":"верно"}]
["Итого подъем и покупная вода","тыс. куб.м.",176.05,{"$f":"D5+D6","v":0},176.05,0,0,0,0,0,0,"верно"]
["потери","тыс. куб.м.",56.600075000000004,{"$f":"D7*D9%","v":0},56.600075000000004,0,0,0,0,0,0,"верно"]
[null,"%",32.15,null,32.15,null,null,null,null,null,null,"верно"]
["полезный отпуск","тыс. куб.м.",119.44992500000001,{"$f":"D7-D8","v":0},119.44992500000001,0,0,0,0,0,0,"верно"]
["Внутрихозяйственный оборот","тыс. куб.м.",0,null,null,null,null,null,null,null,null,"верно"]
["реализация услуг, в т.ч.","тыс. куб.м.",119.44992500000001,{"$f":"D10-D11","v":0},119.44992500000001,0,0,0,0,0,0,"верно"]
["- население","тыс. куб.м.",97.43,null,97.43,null,null,null,null,null,null,"верно"]
["- специализированные организации (ВКХ)","тыс. куб.м.",0,null,null,null,null,null,null,null,null,"верно"]
["- бюджетные, в т.ч.","тыс. куб.м.",10,{"$f":"SUM(D16:D18)","v":0},10,0,0,0,0,0,0,"верно"]
["федеральный бюджет","тыс. куб.м.",0,null,null,null,null,null,null,null,null,"верно"]
["краевой бюджет","тыс. куб.м.",0,null,null,null,null,null,null,null,null,"верно"]
["местный бюджет","тыс. куб.м.",10,null,10,null,null,null,null,null,null,"верно"]
["- прочие потребители","тыс. куб.м.",12,null,12,null,null,null,null,null,null,"верно"]
["прверка",null,0,{"$f":"IF(D12=SUM(D13,D14,D15,D19),\"верно\",\"не верно\")","v":"верно"},"не верно","верно","верно","верно","верно","верно","верно"]
[]
[]
["Натуральные показатели ФАКТИЧЕСКИХ объемов водоснабжения за 2016 год (в разрезе муниципальных образований)*"]
[]
["Наименование показателей","Ед. изм.","ВСЕГО по предприятию, в т.ч. по МО","_____________ городское поселение","Бейсужекское сельское поселение","_____________ сельское поселение","_____________ сельское поселение","_____________ сельское поселение","_____________ сельское поселение","_____________ сельское поселение","_____________ сельское поселение"]
["подъем ","тыс. куб.м.",{"$f":"SUM(D26:K26)","v":219.52},null,219.52,null,null,null,null,null,null,{"$f":"IF(C26=SUM(D26:K26),\"верно\",\"не верно\")","v":"верно"}]
["покупная вода","тыс. куб.м.",{"$f":"SUM(D27:K27)","v":0},null,null,null,null,null,null,null,null,"верно"]
["Итого подъем и покупная вода","тыс. куб.м.",219.52,{"$f":"D26+D27","v":0},219.52,0,0,0,0,0,0,"верно"]
["потери","тыс. куб.м.",142.38999984384,{"$f":"D28*D30%","v":0},142.38999984384,0,0,0,0,0,0,"верно"]
[null,"%",64.864249200000003,null,64.864249200000003,null,null,null,null,null,null,"верно"]
["полезный отпуск","тыс. куб.м.",77.130000156160008,{"$f":"D28-D29","v":0},77.130000156160008,0,0,0,0,0,0,"верно"]
["Внутрихозяйственный оборот","тыс. куб.м.",0,null,null,null,null,null,null,null,null,"верно"]
["реализация услуг, в т.ч.","тыс. куб.м.",77.130000156160008,{"$f":"D31-D32","v":0},77.130000156160008,0,0,0,0,0,0,"верно"]
["- население","тыс. куб.м.",63.2,null,63.2,null,null,null,null,null,null,"верно"]
["- специализированные организации (ВКХ)","тыс. куб.м.",0,null,null,null,null,null,null,null,null,"верно"]
["- бюджетные, в т.ч.","тыс. куб.м.",4.7300000000000004,{"$f":"SUM(D37:D39)","v":0},4.7300000000000004,0,0,0,0,0,0,"верно"]
["федеральный бюджет","тыс. куб.м.",0,null,null,null,null,null,null,null,null,"верно"]
["краевой бюджет","тыс. куб.м.",0,null,null,null,null,null,null,null,null,"верно"]
["местный бюджет","тыс. куб.м.",4.7300000000000004,null,4.7300000000000004,null,null,null,null,null,null,"верно"]
["- прочие потребители","тыс. куб.м.",9.1999999999999993,null,9.1999999999999993,null,null,null,null,null,null,"верно"]
["проверка",null,{"$f":"IF(C33=SUM(C34:C36,C40),\"верно\",\"не верно\")","v":"не верно"},{"$f":"IF(D33=SUM(D34:D36,D40),\"верно\",\"не верно\")","v":"верно"},"не верно","верно","верно","верно","верно","верно","верно"]
[]
["Руководитель организации","______________________________________"]
[]
["Ответственный за составление формы","______________________________________"]
[null,"МП"]
["* в случае утверждения дифференцированных тарифов по системам коммунальной инфраструктуры таблицу представлять по системам (станицы, хутора, улицы)"]

{"sheet":"Баланс ВС","index":8,"n_rows":88,"n_cols":13,"rows_kept":88,"cut":false,"hidden":true,"merged":[[3,7,4,7],[84,0,84,12],[86,0,86,12],[0,8,0,12],[3,10,4,10],[3,12,4,12],[3,0,4,0],[3,1,4,1],[3,2,4,2],[3,3,3,4],[3,5,3,6],[1,0,1,6],[3,8,3,9]]}
[null,null,null,null,null,null,null,null,"Приложение 1"]
["                               Баланс водоснабжения"]
[]
["№ п/п","Наименование","Ед. изм.",2013,null,2014,null,"2014 факт РЭК",2015,null,"2015 ожид РЭК",2016,"2016 план РЭК"]
[null,null,null,"план","факт","план","факт",null,"план","ожид",null,"план"]
[1,2,3,4,5,6,7,"7*",8,9,"9*",10,"10*"]
[1,"Водоподготовка"]
["1.1","Объем воды из источников водоснабжения:","тыс. куб. м",{"$f":"D9+D10+D11","v":0},{"$f":"E9+E10+E11","v":0},0,0,0,0,0,0,0,0]
["1.1.1","из поверхностных источников","тыс. куб. м"]
["1.1.2","из подземных источников","тыс. куб. м"]
["1.1.3","доочищенная сточная вода для нужд технического водоснабжения","тыс. куб. м"]
["1.2","Объем воды, прошедшей водоподготовку","тыс. куб. м"]
["1.3","Объем технической воды, поданной в сеть","тыс. куб. м"]
["1.4","Объем питьевой воды, поданной в сеть","тыс. куб. м"]
["2","Приготовление горячей воды"]
["2.1","Объем воды из собственных источников","тыс. куб. м"]
["2.2","Объем приобретенной питьевой воды","тыс. куб. м"]
["2.3","Объем горячей воды, поданной в сеть","тыс. куб. м"]
["3","Транспортировка питьевой воды"]
["3.1","Объем воды, поступившей в сеть:","тыс. куб. м",{"$f":"D21+D22+D23","v":0},{"$f":"E21+E22+E23","v":0},0,0,0,0,0,0,0,0]
["3.1.1","из собственных источников","тыс. куб. м"]
["3.1.2","от других операторов","тыс. куб. м"]
["3.1.3","получено от других территорий, дифференцированных по тарифу","тыс. куб. м"]
["3.2","Потери воды","тыс. куб. м"]
["3.3","Потребление на собственные нужды","тыс. куб. м"]
["3.4","Объем воды, отпущенной из сети","тыс. куб. м"]
["3.5","Передано на другие территории, дифференцированные по тарифу","тыс. куб. м"]
["4","Транспортировка технической воды"]
["4.1","Объем воды, поступившей в сеть","тыс. куб. м"]
["4.2","Потери воды","тыс. куб. м"]
["4.3","Потребление на собственные нужды","тыс. куб. м"]
["4.4","Объем воды, отпущенной из сети","тыс. куб. м"]
["5","Транспортировка горячей воды"]
["5.1","Объем воды, поступившей в сеть","тыс. куб. м"]
["5.2","Потери воды","тыс. куб. м"]
["5.3","Потребление на собственные нужды","тыс. куб. м"]
["5.4","Объем воды, отпущенной из сети","тыс. куб. м"]
[6,"Отпуск питьевой воды"]
["6.1","Объем воды, отпущенной абонентам:","тыс. куб. м",{"$f":"D40+D41","v":0},{"$f":"E40+E41","v":0},0,0,0,0,0,0,0,0]
["6.1.1","по приборам учета","тыс. куб. м"]
["6.1.2","по нормативам","тыс. куб. м"]
["6.2","для приготовления горячей воды","тыс. куб. м"]
["6.3","при дифференциации тарифов по объему","тыс. куб. м",{"$f":"SUM(D44:D45)","v":0},0,0,0,0,0,0,0,0,0]
["6.3.1","в пределах i-го объема","тыс. куб. м"]
[null,"Добавить "]
["6.4","По абонентам","тыс. куб. м",{"$f":"D47+D50","v":0},0,0,0,0,0,0,0,0,0]
["6.4.1","другим организациям, осуществляющим водоснабжение","тыс. куб. м",{"$f":"SUM(D48:D49)","v":0},0,0,0,0,0,0,0,0,0]
["6.4.1.1","(организация 1)","тыс. куб. м"]
[null,"Добавить "]
["6.4.2","собственным абонентам","тыс. куб. м"]
["7","Отпуск технической воды"]
["7.1","Объем воды, отпущенной абонентам","тыс. куб. м"]
["7.2","при дифференциации тарифов по объему","тыс. куб. м",{"$f":"SUM(D54:D55)","v":0},0,0,0,0,0,0,0,0,0]
["7.2.1","в пределах i-го объема","тыс. куб. м"]
[null,"Добавить "]
["7.3","По абонентам","тыс. куб. м",{"$f":"D57+D60","v":0},0,0,0,0,0,0,0,0,0]
["7.3.1","другим организациям, осуществляющим водоснабжение","тыс. куб. м",{"$f":"SUM(D58:D59)","v":0},0,0,0,0,0,0,0,0,0]
["7.3.1.1","(организация 1)","тыс. куб. м"]
[null,"Добавить "]
["7.3.2","собственным абонентам","тыс. куб. м"]
["8","Отпуск горячей воды"]
["8.1","Объем воды, отпущенной абонентам:","тыс. куб. м",{"$f":"D63+D64","v":0},{"$f":"E63+E64","v":0},0,0,0,0,0,0,0,0]
["8.1.1","по приборам учета","тыс. куб. м"]
["8.1.2","по нормативам","тыс. куб. м"]
[null,"в соответствии с санитарными нормами","тыс. куб. м"]
[null,"с нарушением санитарных норм ","тыс. куб. м"]
[null,"по температуре","тыс. куб. м"]
[null,"по качеству воды","тыс. куб. м"]
["8.2","при дифференциации тарифов по объему","тыс. куб. м",{"$f":"SUM(D70:D71)","v":0},0,0,0,0,0,0,0,0,0]
["8.2.1","в пределах i-го объема","тыс. куб. м"]
[null,"Добавить "]
["8.3","По абонентам","тыс. куб. м",{"$f":"D73+D76","v":0},0,0,0,0,0,0,0,0,0]
["8.3.1","другим организациям, осуществляющим водоснабжение","тыс. куб. м",{"$f":"SUM(D74:D75)","v":0},0,0,0,0,0,0,0,0,0]
["8.3.1.1","(организация 1)","тыс. куб. м"]
[null,"Добавить "]
["8.3.2","собственным абонентам","тыс. куб. м"]
["9","Объем воды, отпускаемой новым абонентам"]
["9.1","Увеличение отпуска питьевой воды в связи с подключением новых абонентов","тыс. куб. м"]
["9.2","Снижение отпуска питьевой воды в связи с прекращением водоснабжения","тыс. куб. м"]
["10","Изменение объема отпуска питьевой воды"]
["10.1","в связи с изменением нормативов потребления и установкой приборов учета","тыс. куб. м"]
["11","Темп изменения потребления воды","%"]
[]
[]
["Руководитель организации    ____________________________________"]
[]
["Ответственный за составление формы   ______________________________________"]
[null,"МП"]

{"sheet":"modServiceModule","index":9,"n_rows":0,"n_cols":0,"rows_kept":0,"cut":false,"hidden":true,"merged":[]}

{"sheet":"et_union","index":10,"n_rows":180,"n_cols":17,"rows_kept":180,"cut":false,"hidden":true,"merged":[[107,14,110,14],[103,5,103,6],[116,14,119,14],[131,14,134,14],[123,13,126,13],[131,13,134,13],[123,14,126,14],[159,10,159,11],[68,13,75,13],[79,13,82,13],[90,13,93,13],[162,10,162,11],[107,13,110,13],[116,13,119,13],[90,14,93,14],[21,14,65,14],[68,14,75,14],[79,14,82,14],[21,13,65,13]]}
[]
[]
[]
[]
[]
[]
[]
[]
[]
[]
[]
["add_01"]
[null,"договор №  от ",null,null,null,null,null,null,null,null,null,"О"]
[]
[]
["add_02"]
[null,null,null,null,null,null,null,null,null,null,"О"]
[]
[]
[]
["add_03"]
[{"$f":"O22","v":0},"Поставщик",null,null,null,null,null,null,null,null,null,null,null,"О"]
[{"$f":"A22&\".\"&P23","v":"0.1"},"Объем покупной энергии","млн. кВт-ч",null,null,null,null,null,null,{"$f":"H23/E23*100","v":{"$error":"#DIV/0!"}},null,null,{"$f":"K23/H23*100","v":{"$error":"#DIV/0!"}},null,null,1]
[{"$f":"A22&\".\"&P24","v":"0.1.1"},"Объем покупной энергии по одноставочному тарифу","млн. кВт-ч",null,null,null,null,null,null,{"$f":"H24/E24*100","v":{"$error":"#DIV/0!"}},null,null,{"$f":"K24/H24*100","v":{"$error":"#DIV/0!"}},null,null,"1.1"]
[{"$f":"A22&\".\"&P25","v":"0.1.1.1"},"низкое напряжение (НН)","млн. кВт-ч",null,null,null,null,null,null,{"$error":"#DIV/0!"},null,null,{"$error":"#DIV/0!"},null,null,"1.1.1"]
[{"$f":"A22&\".\"&P26","v":"0.1.1.2"},"среднее напряжение 1 (СН1)","млн. кВт-ч",null,null,null,null,null,null,{"$error":"#DIV/0!"},null,null,{"$error":"#DIV/0!"},null,null,"1.1.2"]
[{"$f":"A22&\".\"&P27","v":"0.1.1.3"},"среднее напряжение 2 (СН2)","млн. кВт-ч",null,null,null,null,null,null,{"$error":"#DIV/0!"},null,null,{"$error":"#DIV/0!"},null,null,"1.1.3"]
[{"$f":"A22&\".\"&P28","v":"0.1.1.4"},"высокое напряжение (ВН)","млн. кВт-ч",null,null,null,null,null,null,{"$error":"#DIV/0!"},null,null,{"$error":"#DIV/0!"},null,null,"1.1.4"]
[{"$f":"A22&\".\"&P29","v":"0.1.1.5"},"Без разбивки по напряжению","млн. кВт-ч",null,null,null,null,null,null,{"$error":"#DIV/0!"},null,null,{"$error":"#DIV/0!"},null,null,"1.1.5"]
[{"$f":"A22&\".\"&P30","v":"0.1.2"},"Объем покупной энергии по двухставочному тарифу","млн. кВт-ч",null,null,null,null,null,null,{"$error":"#DIV/0!"},null,null,{"$error":"#DIV/0!"},null,null,"1.2"]
[{"$f":"A22&\".\"&P31","v":"0.1.2.1"},"Мощность","МВт в мес.",null,null,null,null,null,null,{"$error":"#DIV/0!"},null,null,{"$error":"#DIV/0!"},null,null,"1.2.1"]
[{"$f":"A22&\".\"&P32","v":"0.1.2.1.1"},"низкое напряжение (НН)","МВт в мес.",null,null,null,null,null,null,{"$error":"#DIV/0!"},null,null,{"$error":"#DIV/0!"},null,null,"1.2.1.1"]
[{"$f":"A22&\".\"&P33","v":"0.1.2.1.2"},"среднее напряжение 1 (СН1)","МВт в мес.",null,null,null,null,null,null,{"$error":"#DIV/0!"},null,null,{"$error":"#DIV/0!"},null,null,"1.2.1.2"]
[{"$f":"A22&\".\"&P34","v":"0.1.2.1.3"},"среднее напряжение 2 (СН2)","МВт в мес.",null,null,null,null,null,null,{"$error":"#DIV/0!"},null,null,{"$error":"#DIV/0!"},null,null,"1.2.1.3"]
[{"$f":"A22&\".\"&P35","v":"0.1.2.1.4"},"высокое напряжение (ВН)","МВт в мес.",null,null,null,null,null,null,{"$error":"#DIV/0!"},null,null,{"$error":"#DIV/0!"},null,null,"1.2.1.4"]
[{"$f":"A22&\".\"&P36","v":"0.1.2.1.5"},"генерация напряжения","МВт в мес.",null,null,null,null,null,null,{"$error":"#DIV/0!"},null,null,{"$error":"#DIV/0!"},null,null,"1.2.1.5"]
[{"$f":"A22&\".\"&P37","v":"0.1.2.2"},"Активная электроэнергия","млн. кВт-ч",null,null,null,null,null,null,{"$error":"#DIV/0!"},null,null,{"$error":"#DIV/0!"},null,null,"1.2.2"]
[{"$f":"A22&\".\"&P38","v":"0.1.2.2.1"},"низкое напряжение (НН)","млн. кВт-ч",null,null,null,null,null,null,{"$error":"#DIV/0!"},null,null,{"$error":"#DIV/0!"},null,null,"1.2.2.1"]
[{"$f":"A22&\".\"&P39","v":"0.1.2.2.2"},"среднее напряжение 1 (СН1)","млн. кВт-ч",null,null,null,null,null,null,{"$error":"#DIV/0!"},null,null,{"$error":"#DIV/0!"},null,null,"1.2.2.2"]
[{"$f":"A22&\".\"&P40","v":"0.1.2.2.3"},"среднее напряжение 2 (СН2)","млн. кВт-ч",null,null,null,null,null,null,{"$error":"#DIV/0!"},null,null,{"$error":"#DIV/0!"},null,null,"1.2.2.3"]
[{"$f":"A22&\".\"&P41","v":"0.1.2.2.4"},"высокое напряжение (ВН)","млн. кВт-ч",null,null,null,null,null,null,{"$error":"#DIV/0!"},null,null,{"$error":"#DIV/0!"},null,null,"1.2.2.4"]
[{"$f":"A22&\".\"&P42","v":"0.1.2.2.5"},"генерация напряжения","млн. кВт-ч",null,null,null,null,null,null,{"$error":"#DIV/0!"},null,null,{"$error":"#DIV/0!"},null,null,"1.2.2.5"]
[{"$f":"A22&\".\"&P43","v":"0.2"},"Тариф на электроэнергию и мощность",null,null,null,null,null,null,null,null,null,null,null,null,null,"2"]
[{"$f":"A22&\".\"&P44","v":"0.2.1"},"по одноставочному тарифу","руб./кВт-ч",null,null,null,null,null,null,{"$error":"#DIV/0!"},null,null,{"$error":"#DIV/0!"},null,null,"2.1"]
[{"$f":"A22&\".\"&P45","v":"0.2.1.1"},"низкое напряжение (НН)","руб./кВт-ч",null,null,null,null,null,null,{"$error":"#DIV/0!"},null,null,{"$error":"#DIV/0!"},null,null,"2.1.1"]
[{"$f":"A22&\".\"&P46","v":"0.2.1.2"},"среднее напряжение 1 (СН1)","руб./кВт-ч",null,null,null,null,null,null,{"$error":"#DIV/0!"},null,null,{"$error":"#DIV/0!"},null,null,"2.1.2"]
[{"$f":"A22&\".\"&P47","v":"0.2.1.3"},"среднее напряжение 2 (СН2)","руб./кВт-ч",null,null,null,null,null,null,{"$error":"#DIV/0!"},null,null,{"$error":"#DIV/0!"},null,null,"2.1.3"]
[{"$f":"A22&\".\"&P48","v":"0.2.1.4"},"высокое напряжение (ВН)","руб./кВт-ч",null,null,null,null,null,null,{"$error":"#DIV/0!"},null,null,{"$error":"#DIV/0!"},null,null,"2.1.4"]
[{"$f":"A22&\".\"&P49","v":"0.2.1.5"},"Тариф на активную электроэнергию без разбивки по напряжению","руб./кВт-ч",null,null,null,null,null,null,{"$error":"#DIV/0!"},null,null,{"$error":"#DIV/0!"},null,null,"2.1.5"]
[{"$f":"A22&\".\"&P50","v":"0.2.1.6"},"Средний одноставочный тариф на электрическую энергию","руб./кВт-ч",null,null,null,null,null,null,{"$error":"#DIV/0!"},null,null,{"$error":"#DIV/0!"},null,null,"2.1.6"]
[{"$f":"A22&\".\"&P51","v":"0.2.2"},"по двухставочному тарифу",null,null,null,null,null,null,null,null,null,null,null,null,null,"2.2"]
[{"$f":"A22&\".\"&P52","v":"0.2.2.1"},"ставка за мощность","руб./МВт в мес.",null,null,null,null,null,null,{"$error":"#DIV/0!"},null,null,{"$error":"#DIV/0!"},null,null,"2.2.1"]
[{"$f":"A22&\".\"&P53","v":"0.2.2.1.1"},"низкое напряжение (НН)","руб./МВт в мес.",null,null,null,null,null,null,{"$error":"#DIV/0!"},null,null,{"$error":"#DIV/0!"},null,null,"2.2.1.1"]
[{"$f":"A22&\".\"&P54","v":"0.2.2.1.2"},"среднее напряжение 1 (СН1)","руб./МВт в мес.",null,null,null,null,null,null,{"$error":"#DIV/0!"},null,null,{"$error":"#DIV/0!"},null,null,"2.2.1.2"]
[{"$f":"A22&\".\"&P55","v":"0.2.2.1.3"},"среднее напряжение 2 (СН2)","руб./МВт в мес.",null,null,null,null,null,null,{"$error":"#DIV/0!"},null,null,{"$error":"#DIV/0!"},null,null,"2.2.1.3"]
[{"$f":"A22&\".\"&P56","v":"0.2.2.1.4"},"высокое напряжение (ВН)","руб./МВт в мес.",null,null,null,null,null,null,{"$error":"#DIV/0!"},null,null,{"$error":"#DIV/0!"},null,null,"2.2.1.4"]
[{"$f":"A22&\".\"&P57","v":"0.2.2.1.5"},"генерация напряжения","руб./МВт в мес.",null,null,null,null,null,null,{"$error":"#DIV/0!"},null,null,{"$error":"#DIV/0!"},null,null,"2.2.1.5"]
[{"$f":"A22&\".\"&P58","v":"0.2.2.2"},"Тариф на электроэнергию по двухставочному тарифу","руб./кВт-ч",null,null,null,null,null,null,{"$error":"#DIV/0!"},null,null,{"$error":"#DIV/0!"},null,null,"2.2.2"]
[{"$f":"A22&\".\"&P59","v":"0.2.2.2.1"},"низкое напряжение (НН)","руб./кВт-ч",null,null,null,null,null,null,{"$error":"#DIV/0!"},null,null,{"$error":"#DIV/0!"},null,null,"2.2.2.1"]
[{"$f":"A22&\".\"&P60","v":"0.2.2.2.2"},"среднее напряжение 1 (СН1)","руб./кВт-ч",null,null,null,null,null,null,{"$error":"#DIV/0!"},null,null,{"$error":"#DIV/0!"},null,null,"2.2.2.2"]
[{"$f":"A22&\".\"&P61","v":"0.2.2.2.3"},"среднее напряжение 2 (СН2)","руб./кВт-ч",null,null,null,null,null,null,{"$error":"#DIV/0!"},null,null,{"$error":"#DIV/0!"},null,null,"2.2.2.3"]
[{"$f":"A22&\".\"&P62","v":"0.2.2.2.4"},"высокое напряжение (ВН)","руб./кВт-ч",null,null,null,null,null,null,{"$error":"#DIV/0!"},null,null,{"$error":"#DIV/0!"},null,null,"2.2.2.4"]
[{"$f":"A22&\".\"&P63","v":"0.2.2.2.5"},"генерация напряжения","руб./кВт-ч",null,null,null,null,null,null,{"$error":"#DIV/0!"},null,null,{"$error":"#DIV/0!"},null,null,"2.2.2.5"]
[{"$f":"A22&\".\"&P64","v":"0.3"},"Затраты на покупку энергии","тыс. руб.",null,null,null,null,null,null,{"$error":"#DIV/0!"},null,null,{"$error":"#DIV/0!"},null,null,"3"]
[{"$f":"A22&\".\"&P65","v":"0.4"},"Затраты на покупку мощности","тыс. руб.",null,null,null,null,null,null,{"$error":"#DIV/0!"},null,null,{"$error":"#DIV/0!"},null,null,"4"]
[{"$f":"A22&\".\"&P66","v":"0.5"},"Затраты на электроэнергию всего","тыс. руб.",null,null,null,null,null,null,{"$error":"#DIV/0!"},null,null,{"$error":"#DIV/0!"},null,null,"5","Sum"]
[]
["add_04"]
[{"$f":"O69","v":0},"Поставщик",null,null,null,null,null,null,null,null,null,null,null,"О"]
[{"$f":"A69&\".\"&P70","v":"0.1"},"Объем покупной энергии","тыс. Гкал",null,null,null,null,null,null,{"$f":"H70/E70*100","v":{"$error":"#DIV/0!"}},null,null,{"$f":"K70/H70*100","v":{"$error":"#DIV/0!"}},null,null,1]
[{"$f":"A69&\".\"&P71","v":"0.2"},"Мощность","Гкал/ч",null,null,null,null,null,null,{"$f":"H71/E71*100","v":{"$error":"#DIV/0!"}},null,null,{"$f":"K71/H71*100","v":{"$error":"#DIV/0!"}},null,null,2]
[{"$f":"A69&\".\"&P72","v":"0.3"},"Ставка за энергию","руб./Гкал",null,null,null,null,null,null,{"$error":"#DIV/0!"},null,null,{"$error":"#DIV/0!"},null,null,3]
[{"$f":"A69&\".\"&P73","v":"0.4"},"Ставка за мощность","тыс. руб./ Гкал/ч",null,null,null,null,null,null,{"$error":"#DIV/0!"},null,null,{"$error":"#DIV/0!"},null,null,4]
[{"$f":"A69&\".\"&P74","v":"0.5"},"Затраты на покупку энергии","тыс. руб.",{"$f":"D70*D72","v":0},0,0,0,0,0,{"$error":"#DIV/0!"},{"$f":"K70*K72","v":0},{"$f":"L70*L72","v":0},{"$error":"#DIV/0!"},null,null,5]
[{"$f":"A69&\".\"&P75","v":"0.6"},"Затраты на покупку мощности","тыс. руб.",0,0,0,0,0,0,{"$error":"#DIV/0!"},{"$f":"K71*K73","v":0},{"$f":"L71*L73","v":0},{"$error":"#DIV/0!"},null,null,6]
[{"$f":"A69&\".\"&P76","v":"0.7"},"Затраты на теплоэнергию, всего","тыс. руб.",{"$f":"D74+D75","v":0},0,0,0,0,0,{"$error":"#DIV/0!"},{"$f":"K74+K75","v":0},{"$f":"L74+L75","v":0},{"$error":"#DIV/0!"},null,null,7,"Sum"]
[]
[]
["add_05"]
[{"$f":"O80","v":0},"Поставщик",null,null,null,null,null,null,null,null,null,null,null,"О"]
[{"$f":"A80&\".\"&P81","v":"0.1"},"Объем теплоносителя","тыс. куб. м",null,null,null,null,null,null,{"$f":"H81/E81*100","v":{"$error":"#DIV/0!"}},null,null,{"$f":"K81/H81*100","v":{"$error":"#DIV/0!"}},null,null,1]
[{"$f":"A80&\".\"&P82","v":"0.2"},"Цена теплоносителя","руб./куб. м",null,null,null,null,null,null,{"$f":"H82/E82*100","v":{"$error":"#DIV/0!"}},null,null,{"$f":"K82/H82*100","v":{"$error":"#DIV/0!"}},null,null,2]
[{"$f":"A80&\".\"&P83","v":"0.3"},"Затраты на теплоноситель","тыс. руб.",{"$f":"D81*D82","v":0},0,0,0,0,0,{"$f":"H83/E83*100","v":{"$error":"#DIV/0!"}},{"$f":"K81*K82","v":0},{"$f":"L81*L82","v":0},{"$f":"K83/H83*100","v":{"$error":"#DIV/0!"}},null,null,3]
[]
[]
["add_06"]
[null,null,null,null,null,null,null,null,null,null,null,null,"О"]
[]
[]
["add_07"]
[{"$f":"O91","v":0},"Поставщик",null,null,null,null,null,null,null,null,null,null,null,"О"]
[{"$f":"A91 & \".1\"","v":"0.1"},"Объем холодной воды","тыс. куб. м",null,null,null,null,null,null,{"$f":"H92/E92*100","v":{"$error":"#DIV/0!"}},null,null,{"$f":"K92/H92*100","v":{"$error":"#DIV/0!"}}]
[{"$f":"A91 & \".2\"","v":"0.2"},"Тариф на холодную воду","руб./куб. м",null,null,null,null,null,null,{"$f":"H93/E93*100","v":{"$error":"#DIV/0!"}},null,null,{"$f":"K93/H93*100","v":{"$error":"#DIV/0!"}}]
[{"$f":"A91 & \".3\"","v":"0.3"},"Затраты на холодную воду","тыс. руб.",{"$f":"D92*D93","v":0},{"$f":"E92*E93","v":0},0,0,0,0,{"$f":"H94/E94*100","v":{"$error":"#DIV/0!"}},0,0,{"$f":"K94/H94*100","v":{"$error":"#DIV/0!"}},null,null,null,"Sum"]
[]
["add_08"]
[null,"Регулируемый вид деятельности ","тыс. руб.",null,null,null,null,null,null,null,null,"О"]
[]
["add_09"]
[null,null,"тыс. куб. м",null,null,null,null,null,null,null,null,null,null,"О"]
[]
[]
["add_02_1"]
[null,null,null,null,null,null,null,{"$f":"F104-E104","v":0},"О"]
[]
[]
["add_02_2"]
[{"$f":"\"1.\" &O108","v":"1."},"Вид реагента ",null,null,null,null,null,null,null,null,null,null,null,"О"]
[{"$f":"A108 & \".1\"","v":"1..1"},"Расход",null,null,null,null,null,null,null,{"$f":"H109/E109*100","v":{"$error":"#DIV/0!"}},null,null,{"$f":"K109/H109*100","v":{"$error":"#DIV/0!"}}]
[{"$f":"A108 & \".2\"","v":"1..2"},"Цена за единицу ","тыс. руб.",null,null,null,null,null,null,{"$f":"H110/E110*100","v":{"$error":"#DIV/0!"}},null,null,{"$f":"K110/H110*100","v":{"$error":"#DIV/0!"}}]
[{"$f":"A108 & \".3\"","v":"1..3"},"Суммарные затраты","тыс. руб.",{"$f":"D109*D110","v":0},0,0,0,0,0,{"$f":"H111/E111*100","v":{"$error":"#DIV/0!"}},{"$f":"K109*K110","v":0},{"$f":"L109*L110","v":0},{"$f":"K111/H111*100","v":{"$error":"#DIV/0!"}},null,null,"Sum"]
[]
[]
[]
[]
["add_02_3"]
[{"$f":"\"2.\" & O117","v":"2."},"Вид ГСМ",null,null,null,null,null,null,null,null,null,null,null,"О"]
[{"$f":"A117 & \".1\"","v":"2..1"},"Расход","литр",null,null,null,null,null,null,{"$f":"H118/E118*100","v":{"$error":"#DIV/0!"}},null,null,{"$f":"K118/H118*100","v":{"$error":"#DIV/0!"}}]
[{"$f":"A117 & \".2\"","v":"2..2"},"Цена за единицу ","руб.",null,null,null,null,null,null,{"$f":"H119/E119*100","v":{"$error":"#DIV/0!"}},null,null,{"$f":"K119/H119*100","v":{"$error":"#DIV/0!"}}]
[{"$f":"A117 & \".3\"","v":"2..3"},"Суммарные затраты","тыс. руб.",{"$f":"D118*D119/1000","v":0},0,0,0,0,0,{"$f":"H120/E120*100","v":{"$error":"#DIV/0!"}},{"$f":"K118*K119/1000","v":0},{"$f":"L118*L119/1000","v":0},{"$f":"K120/H120*100","v":{"$error":"#DIV/0!"}},null,null,"Sum"]
[]
[]
["add_02_4"]
[{"$f":"\"3.\" & O124","v":"3."},"Вид ",null,null,null,null,null,null,null,null,null,null,null,"О"]
[{"$f":"A124 & \".1\"","v":"3..1"},"Расход",null,null,null,null,null,null,null,{"$f":"H125/E125*100","v":{"$error":"#DIV/0!"}},null,null,{"$f":"K125/H125*100","v":{"$error":"#DIV/0!"}}]
[{"$f":"A124 & \".2\"","v":"3..2"},"Цена за единицу ","тыс. руб.",null,null,null,null,null,null,{"$f":"H126/E126*100","v":{"$error":"#DIV/0!"}},null,null,{"$f":"K126/H126*100","v":{"$error":"#DIV/0!"}}]
[{"$f":"A124 & \".3\"","v":"3..3"},"Суммарные затраты","тыс. руб.",{"$f":"D125*D126","v":0},0,0,0,0,0,{"$f":"H127/E127*100","v":{"$error":"#DIV/0!"}},{"$f":"K125*K126","v":0},{"$f":"L125*L126","v":0},{"$f":"K127/H127*100","v":{"$error":"#DIV/0!"}},null,null,"Sum"]
[]
[]
[]
["add_06_1"]
[{"$f":"O132","v":0},null,null,null,null,null,null,null,null,null,null,null,null,"О"]
[{"$f":"A132 & \".1\"","v":"0.1"},"Кол-во (объем) топлива",null,null,null,null,null,null,null,{"$f":"H133/E133*100","v":{"$error":"#DIV/0!"}},null,null,{"$f":"K133/H133*100","v":{"$error":"#DIV/0!"}}]
[{"$f":"A132 & \".2\"","v":"0.2"},"Цена топлива","тыс. руб.",null,null,null,null,null,null,{"$f":"H134/E134*100","v":{"$error":"#DIV/0!"}},null,null,{"$f":"K134/H134*100","v":{"$error":"#DIV/0!"}}]
[{"$f":"A132 & \".3\"","v":"0.3"},"Затраты на топливо","тыс. руб.",{"$f":"D133*D134","v":0},{"$f":"E133*E134","v":0},0,0,0,0,{"$f":"H135/E135*100","v":{"$error":"#DIV/0!"}},0,0,{"$f":"K135/H135*100","v":{"$error":"#DIV/0!"}},null,null,null,"Sum"]
[]
[]
[]
[]
[]
["add_08_2"]
["5.2",null,null,null,{"$f":"D142*C142","v":0},{"$f":"D142/$F$50","v":{"$error":"#DIV/0!"}},"О"]
[]
[]
["add_08_3"]
[2,null,null,null,null,null,null,"О"]
[]
[]
[]
[]
[]
["add_20"]
["1.2.1","объект ",null,null,null,null,null,null,null,null,null,null,null,null,null,null,"О"]
[]
["add_21"]
[1,null,null,null,"тыс. руб.",null,null,null,null,null,null,null,null,"О"]
[]
[]
["add_22"]
["прочие расходы  ","тыс. руб.",null,null,null,null,null,null,null,null,{"$f":"I160*'Цех и Администр расх'!$N$100%","v":{"$error":"#DIV/0!"}},null,{"$f":"J160*'Цех и Администр расх'!$O$100%","v":0},"О"]
[]
["add_22_1_1"]
["наименование расходов","тыс. руб.",null,null,null,null,null,null,null,null,{"$f":"I163*'Цех и Администр расх'!$N$81%","v":{"$error":"#DIV/0!"}},null,{"$f":"J163*'Цех и Администр расх'!$O$81%","v":0},"О"]
[]
[]
["add_23"]
["1.1",null,null,null,null,"тыс. руб.",null,null,null,null,null,null,null,null,null,"О"]
[]
[]
[]
["add_24"]
[null,null,"тыс. руб.",null,null,null,null,null,null,null,null,"О"]
[]
["add_25"]
["прочие (расшифровать)",null,null,null,null,null,null,null,null,null,"О"]
[]
["add_26"]
[null,"наимаенование ",null,null,null,null,null,null,null,"О"]
[]
["3.1","наимаенование ",null,null,null,null,null,null,null,null,null,"О"]

{"sheet":"Объемы","index":11,"n_rows":53,"n_cols":20,"rows_kept":53,"cut":false,"hidden":false,"merged":[[0,17,0,19],[1,1,1,19],[3,2,3,4],[3,5,3,7],[3,8,3,10],[3,11,3,13],[3,14,3,16],[3,17,3,19]]}
[null,null,null,null,null,null,null,null,null,null,null,null,null,null,null,null,null,"Приложение 2.1"]
[null,"Расчет объемов холодного водоснабжения"]
[]
[null,null,"2013 год (факт)",null,null,"2014 год (факт)",null,null,"2015 год (факт)",null,null,"2016 год (факт)",null,null,"2017 год (ожид)",null,null,"2018 год (план)"]
[1,"Степень благоустройства жилищного фонда","Нормативы водопотребления на 1 чел в месяц (куб. м.)","Общее кол-во потребителей (чел.)","Годовой объем водопотребления (тыс. куб. м.)","Нормативы водопотребления на 1 чел в месяц (куб. м.)","Общее кол-во потребителей (чел.)","Годовой объем водопотребления (тыс. куб. м.)","Нормативы водопотребления на 1 чел в месяц (куб. м.)","Общее кол-во потребителей (чел.)","Годовой объем водопотребления (тыс. куб. м.)","Нормативы водопотребления на 1 чел в месяц (куб. м.)","Общее кол-во потребителей (чел.)","Годовой объем водопотребления (тыс. куб. м.)","Нормативы водопотребления на 1 чел в месяц (куб. м.)","Общее кол-во потребителей (чел.)","Годовой объем водопотребления (тыс. куб. м.)","Нормативы водопотребления на 1 чел в месяц (куб. м.)","Общее кол-во потребителей (чел.)","Годовой объем водопотребления (тыс. куб. м.)"]
["1.1.","Многоквартирные дома и жилые дома с централизованным холодным и горячим водоснабжением, канализацией"]
["1.2.","Многоквартирные дома и жилые дома с централизованным холодным водоснабжением, канализацией, без централизованного горячего водоснабжения с водонагревателями различного типа"]
["1.3.","Многоквартирные дома и жилые дома с централизованным холодным водоснабжением, канализацией, без централизованного горячего водоснабжения и водонагревателей различного типа"]
["1.4.","Многоквартирные дома и жилые дома с централизованным холодным водоснабжением, без централизованного горячего водоснабжения, канализации с водонагревателями различного типа"]
["1.5.","Многоквартирные дома и жилые дома с централизованным холодным водоснабжением, без централизованного горячего водоснабжения, канализации и водонагревателей различного типа"]
["1.6.","Многоквартирные дома и жилые дома, не оборудованные внутридомовыми системами водоснабжения, с водопользованием из водоразборных колонок"]
[null,"при наличии  технической возможности установки коллективных (общедомовых), индивидуальных или общих (квартирных) приборов учета"]
["1.7.","Многоквартирные дома и жилые дома с централизованным холодным и горячим водоснабжением, канализацией"]
["1.8.","Многоквартирные дома и жилые дома с централизованным холодным водоснабжением, канализацией, без централизованного горячего водоснабжения с водонагревателями различного типа"]
["1.9.","Многоквартирные дома и жилые дома с централизованным холодным водоснабжением, канализацией, без централизованного горячего водоснабжения и водонагревателей различного типа"]
["1.10.","Многоквартирные дома и жилые дома с централизованным холодным водоснабжением, без централизованного горячего водоснабжения, канализации с водонагревателями различного типа"]
["1.11.","Многоквартирные дома и жилые дома с централизованным холодным водоснабжением, без централизованного горячего водоснабжения, канализации и водонагревателей различного типа"]
["1.12.","Многоквартирные дома и жилые дома, не оборудованные внутридомовыми системами водоснабжения, с водопользованием из водоразборных колонок"]
[null,"итого",null,null,{"$f":"SUM(E6:E11)+SUM(E13:E18)","v":0},null,null,{"$f":"SUM(H6:H11)+SUM(H13:H18)","v":0},null,null,{"$f":"SUM(K6:K11)+SUM(K13:K18)","v":0},null,null,{"$f":"SUM(N6:N11)+SUM(N13:N18)","v":0},null,null,{"$f":"SUM(Q6:Q11)+SUM(Q13:Q18)","v":0},null,null,{"$f":"SUM(T6:T11)+SUM(T13:T18)","v":0}]
[2,"Водомерный учет",null,null,null,null,1622,52.3,null,1672,59.89,null,1690,60.53,null,1693,97.43,null,1693,97.43]
[3,"Полив приусадебных участков","норматив","общее кол-во кв.м.","Годовой объем водопотребления (тыс. куб. м.)","норматив","общее кол-во кв.м.","Годовой объем водопотребления (тыс. куб. м.)","норматив","общее кол-во кв.м.","Годовой объем водопотребления (тыс. куб. м.)","норматив","общее кол-во кв.м.","Годовой объем водопотребления (тыс. куб. м.)","норматив","общее кол-во кв.м.","Годовой объем водопотребления (тыс. куб. м.)","норматив","общее кол-во кв.м.","Годовой объем водопотребления (тыс. куб. м.)"]
["3.1.","Полив сельскохозяйственных культур, зеленых насаждений, газонов и цветников"]
["3.2.","Полив усовершенствованных покрытий и тротуаров"]
["3.3.","Полив посадок в теплицах и парниках всех типов"]
[null,"итого",null,null,{"$f":"SUM(E22:E24)","v":0},null,null,{"$f":"SUM(H22:H24)","v":0},null,null,{"$f":"SUM(K22:K24)","v":0},null,null,{"$f":"SUM(N22:N24)","v":0},null,null,{"$f":"SUM(Q22:Q24)","v":0},null,null,{"$f":"SUM(T22:T24)","v":0}]
[4,"Водоснабжение и приготовление пищи для сельскохозяйственных животных","норматив","общее кол-во голов","Годовой объем водопотребления (тыс. куб. м.)","норматив","общее кол-во голов","Годовой объем водопотребления (тыс. куб. м.)","норматив","общее кол-во голов","Годовой объем водопотребления (тыс. куб. м.)","норматив","общее кол-во голов","Годовой объем водопотребления (тыс. куб. м.)","норматив","общее кол-во голов","Годовой объем водопотребления (тыс. куб. м.)","норматив","общее кол-во голов","Годовой объем водопотребления (тыс. куб. м.)"]
["4.1.","Крупный рогатый скот"]
["4.2.","Свиньи"]
["4.3.","Овцы"]
["4.4.","Лошади"]
["4.5.","Козы"]
["4.6.","Куры"]
["4.7.","Индейки"]
["4.8.","Утки"]
["4.9.","Гуси"]
[null,"итого",null,null,{"$f":"SUM(E27:E35)","v":0},null,null,{"$f":"SUM(H27:H35)","v":0},null,null,{"$f":"SUM(K27:K35)","v":0},null,null,{"$f":"SUM(N27:N35)","v":0},null,null,{"$f":"SUM(Q27:Q35)","v":0},null,null,{"$f":"SUM(T27:T35)","v":0}]
[5,"Потребление на общедомовые нужды","норматив","общее кол-во кв.м. общего имущества","Годовой объем водопотребления (тыс. куб. м.)","норматив","общее кол-во кв.м. общего имущества","Годовой объем водопотребления (тыс. куб. м.)","норматив","общее кол-во кв.м. общего имущества","Годовой объем водопотребления (тыс. куб. м.)","норматив","общее кол-во кв.м. общего имущества","Годовой объем водопотребления (тыс. куб. м.)","норматив","общее кол-во кв.м. общего имущества","Годовой объем водопотребления (тыс. куб. м.)","норматив","общее кол-во кв.м. общего имущества","Годовой объем водопотребления (тыс. куб. м.)"]
["5.1.","Многоквартирные дома с централизованным холодным и горячим водоснабжением"]
["5.2.","Многоквартирные дома с централизованным холодным водоснабжением"]
[null,"при наличии  технической возможности установки коллективных (общедомовых) приборов учета"]
["5.3.","Многоквартирные дома с централизованным холодным и горячим водоснабжением"]
["5.4.","Многоквартирные дома с централизованным холодным водоснабжением"]
[null,"итого",null,null,{"$f":"E38+E39+E41+E42","v":0},null,null,{"$f":"H38+H39+H41+H42","v":0},null,null,{"$f":"K38+K39+K41+K42","v":0},null,null,{"$f":"N38+N39+N41+N42","v":0},null,null,{"$f":"Q38+Q39+Q41+Q42","v":0},null,null,{"$f":"T38+T39+T41+T42","v":0}]
[6,"ИТОГО по населению",null,null,{"$f":"E19+E20+E25+E36+E43","v":0},null,null,{"$f":"H19+H20+H25+H36+H43","v":52.3},null,null,{"$f":"K19+K20+K25+K36+K43","v":59.89},null,null,{"$f":"N19+N20+N25+N36+N43","v":60.53},null,null,{"$f":"Q19+Q20+Q25+Q36+Q43","v":97.43},null,null,{"$f":"T19+T20+T25+T36+T43","v":97.43}]
[7,"Промышленные предприятия",null,null,null,null,null,4.01,null,null,7.56,null,null,5.62,null,null,12,null,null,12]
[8,"Бюджетные организации",null,null,{"$f":"E47+E48+E49","v":0},null,null,{"$f":"H47+H48+H49","v":3.61},null,null,{"$f":"K47+K48+K49","v":4.12},null,null,{"$f":"N47+N48+N49","v":5.1100000000000003},null,null,{"$f":"Q47+Q48+Q49","v":10},null,null,{"$f":"T47+T48+T49","v":10}]
["8.1.","федеральный"]
["8.2.","региональный "]
["8.3.","местный ",null,null,null,null,null,3.61,null,null,4.12,null,null,5.1100000000000003,null,null,10,null,null,10]
[9,"ВСЕГО годовой объем водопотребления",null,null,{"$f":"E44+E45+E46","v":0},null,null,{"$f":"H44+H45+H46","v":59.919999999999995},null,null,{"$f":"K44+K45+K46","v":71.570000000000007},null,null,{"$f":"N44+N45+N46","v":71.260000000000005},null,null,{"$f":"Q44+Q45+Q46","v":119.43},null,null,{"$f":"T44+T45+T46","v":119.43}]
[10,"Расход на собственные нужды"]
[11,"Потери в сетях"]
[12,"Расчетный объем подъема воды",null,null,{"$f":"E50+E51+E52","v":0},null,null,{"$f":"H50+H51+H52","v":59.919999999999995},null,null,{"$f":"K50+K51+K52","v":71.570000000000007},null,null,{"$f":"N50+N51+N52","v":71.260000000000005},null,null,{"$f":"Q50+Q51+Q52","v":119.43},null,null,{"$f":"T50+T51+T52","v":119.43}]

{"sheet":"Сырье и материалы","index":12,"n_rows":85,"n_cols":22,"rows_kept":85,"cut":false,"hidden":false,"merged":[[0,7,0,12],[11,7,11,12],[83,0,83,7],[56,4,56,7],[72,5,72,6],[75,5,75,6],[52,0,52,12],[54,0,54,12],[81,0,81,7],[71,5,71,6],[79,0,79,6],[59,0,60,0],[59,2,60,2],[59,3,60,3],[14,2,15,2],[14,1,15,1],[76,5,76,6],[62,5,62,6],[14,10,15,10],[3,11,4,11],[63,5,63,6],[73,5,73,6],[69,5,69,6],[65,5,65,6],[3,10,4,10],[61,5,61,6],[66,5,66,6],[68,5,68,6],[59,1,60,1],[57,0,57,6],[14,0,15,0],[38,14,41,14],[26,14,29,14],[18,14,21,14],[30,13,33,13],[30,14,33,14],[42,13,45,13],[42,14,45,14],[14,5,15,5],[14,3,14,4],[59,4,59,7],[60,5,60,6],[1,0,1,12],[50,0,50,12],[3,0,4,0],[3,1,4,1],[3,2,4,2],[3,3,3,4],[3,9,4,9],[12,0,12,12],[3,5,4,5],[14,12,15,12],[14,8,15,8],[14,9,15,9],[14,11,15,11],[3,8,4,8],[3,12,4,12]]}
[null,null,null,null,null,null,null,"Приложение 2.1"]
["Расходы на сырье и материалы на услуги холодного водоснабжения "]
[]
["№ п/п","Наименование","ед. изм.","2014 год",null,"2014 факт РЭК",2015,2016,"2016 факт РЭК","Темп роста, текущий (7)/ истекший (5), %","2016 год","2016 утверждено РЭК","Темп роста, очередной (9)/ текущий (7), %"]
[null,null,null,"план","факт",null,"утверждено РЭК","факт ОКК"]
[1,2,3,4,5,"5*",6,7,"7*",8,9,"9*",10]
[1,"Реагенты","тыс. руб.",{"$f":"D25","v":0},0,0,0,0,0,{"$f":"H7/E7*100","v":{"$error":"#DIV/0!"}},{"$f":"K25","v":0},{"$f":"L25","v":0.32},{"$f":"K7/H7*100","v":{"$error":"#DIV/0!"}}]
[2,"Горюче-смазочные материалы","тыс. руб.",{"$f":"D37","v":0},0,0,0,46.825624200000007,46.83,{"$f":"H8/E8*100","v":{"$error":"#DIV/0!"}},{"$f":"K37","v":0},{"$f":"L37","v":65.260000000000005},{"$f":"K8/H8*100","v":0}]
[3,"Материалы и малоценные основные средства","тыс. руб.",{"$f":"D49","v":0},0,0,0,10.69,6.8070000000000004,{"$f":"H9/E9*100","v":{"$error":"#DIV/0!"}},{"$f":"K49","v":0},{"$f":"L49","v":9.99},{"$f":"K9/H9*100","v":0}]
[]
[]
[null,null,null,null,null,null,null,"Приложение 2.1.1"]
["Расходы на сырье и материалы на услуги холодного водоснабжения * (прямые производственные расходы)"]
[]
["№ п/п","Наименование","ед. изм.","2014 год",null,"2014 факт РЭК",2015,2016,"2016 факт РЭК","Темп роста, текущий (7)/ истекший (5), %","2016 год","2016 утверждено РЭК","Темп роста, очередной (9)/ текущий (7), %",null,null,null,null,null,null,null,null,"кг"]
[null,null,null,"план","факт",null,"утверждено РЭК","факт ОКК",null,null,null,null,null,null,null,null,null,null,null,null,null,"литр"]
[1,2,3,4,5,"5*",6,7,"7*",8,9,"9*",10,null,null,null,null,null,null,null,null,"тонна"]
[1,"Реагенты",null,null,null,null,null,null,null,null,null,null,null,null,null,null,null,null,null,null,null,"грамм"]
["1.1","Вид реагента ",null,null,null,null,null,null,null,null,null,null,null,null,1]
["1.1.1","Расход",null,null,null,null,null,null,null,{"$f":"H20/E20*100","v":{"$error":"#DIV/0!"}},null,null,{"$f":"K20/H20*100","v":{"$error":"#DIV/0!"}}]
["1.1.2","Цена за единицу ","тыс. руб.",null,null,null,null,null,null,{"$f":"H21/E21*100","v":{"$error":"#DIV/0!"}},null,null,{"$f":"K21/H21*100","v":{"$error":"#DIV/0!"}}]
["1.1.3","Суммарные затраты","тыс. руб.",{"$f":"D20*D21","v":0},0,0,0,0,0,{"$f":"H22/E22*100","v":{"$error":"#DIV/0!"}},{"$f":"K20*K21","v":0},{"$f":"L20*L21","v":0},{"$error":"#DIV/0!"},null,null,"Sum"]
[null,"Добавить "]
[null,"прочие, до 5%","тыс. руб.",null,null,null,null,null,null,{"$f":"H24/E24*100","v":{"$error":"#DIV/0!"}},null,0.32,{"$error":"#DIV/0!"},null,null,"Sum"]
[null,"Итого реагенты:","тыс. руб.",{"$f":"SUMIF($P18:$P24,\"sum\",D18:D24)","v":0},0,0,0,0,0,{"$error":"#DIV/0!"},0,0.32,{"$error":"#DIV/0!"}]
[2,"Горюче-смазочные материалы"]
["2.1","Дизтопливо",null,null,null,null,null,null,null,null,null,null,null,null,1]
["2.1.1","Расход","литр",null,null,null,null,964.19,null,{"$f":"H28/E28*100","v":{"$error":"#DIV/0!"}},null,null,0]
["2.1.2","Цена за единицу ","руб.",null,null,null,null,38.880000000000003,null,{"$f":"H29/E29*100","v":{"$error":"#DIV/0!"}},null,null,0]
["2.1.3","Суммарные затраты","тыс. руб.",{"$f":"D28*D29/1000","v":0},0,0,0,37.487707200000003,0,{"$f":"H30/E30*100","v":{"$error":"#DIV/0!"}},{"$f":"K28*K29/1000","v":0},{"$f":"L28*L29/1000","v":0},0,null,null,"Sum"]
[{"$f":"\"2.\" & O31","v":"2.2"},"Пропан",null,null,null,null,null,null,null,null,null,null,null,"О","2"]
[{"$f":"A31 & \".1\"","v":"2.2.1"},"Расход","литр",null,null,null,null,452.94,null,{"$f":"H32/E32*100","v":{"$error":"#DIV/0!"}},null,null,{"$f":"K32/H32*100","v":0}]
[{"$f":"A31 & \".2\"","v":"2.2.2"},"Цена за единицу ","руб.",null,null,null,null,20.55,null,{"$f":"H33/E33*100","v":{"$error":"#DIV/0!"}},null,null,{"$f":"K33/H33*100","v":0}]
[{"$f":"A31 & \".3\"","v":"2.2.3"},"Суммарные затраты","тыс. руб.",{"$f":"D32*D33/1000","v":0},0,0,0,9.3079169999999998,0,{"$f":"H34/E34*100","v":{"$error":"#DIV/0!"}},{"$f":"K32*K33/1000","v":0},{"$f":"L32*L33/1000","v":0},{"$f":"K34/H34*100","v":0},null,null,"Sum"]
[null,"Добавить "]
[null,"прочие, до 5%","тыс. руб.",null,null,null,null,0.03,{"$f":"9.307+36.099+1.424","v":46.83},{"$f":"H36/E36*100","v":{"$error":"#DIV/0!"}},null,65.260000000000005,0,null,null,"Sum"]
[null,"Итого ГСМ:","тыс. руб.",{"$f":"SUMIF($P26:$P36,\"sum\",D26:D36)","v":0},{"$f":"SUMIF($P26:$P36,\"sum\",E26:E36)","v":0},{"$f":"SUMIF($P26:$P36,\"sum\",F26:F36)","v":0},{"$f":"SUMIF($P26:$P36,\"sum\",G26:G36)","v":0},{"$f":"SUMIF($P26:$P36,\"sum\",H26:H36)","v":46.825624200000007},{"$f":"I36","v":46.83},{"$f":"H37/E37*100","v":{"$error":"#DIV/0!"}},{"$f":"SUMIF($P26:$P36,\"sum\",K26:K36)","v":0},{"$f":"SUMIF($P26:$P36,\"sum\",L26:L36)","v":65.260000000000005},0]
[3,"Материалы и малоценные основные средства"]
["3.1","МБП (см.приложнние поименно)",null,null,null,null,null,null,null,null,null,null,null,null,1]
["3.1.1","Расход",null,null,null,null,null,1,null,{"$f":"H40/E40*100","v":{"$error":"#DIV/0!"}},null,null,0]
["3.1.2","Цена за единицу ","тыс. руб.",null,null,null,null,10.69,null,{"$f":"H41/E41*100","v":{"$error":"#DIV/0!"}},null,null,0]
["3.1.3","Суммарные затраты","тыс. руб.",{"$f":"D40*D41","v":0},0,0,0,10.69,0,{"$f":"H42/E42*100","v":{"$error":"#DIV/0!"}},{"$f":"K40*K41","v":0},{"$f":"L40*L41","v":0},0,null,null,"Sum"]
[{"$f":"\"3.\" & O43","v":"3.2"},"Запчасти см. расшифровку поименно Использованы на АВР) ",null,null,null,null,null,null,null,null,null,null,null,"О","2"]
[{"$f":"A43 & \".1\"","v":"3.2.1"},"Расход",null,null,null,null,null,1,null,{"$f":"H44/E44*100","v":{"$error":"#DIV/0!"}},null,null,{"$f":"K44/H44*100","v":0}]
[{"$f":"A43 & \".2\"","v":"3.2.2"},"Цена за единицу ","тыс. руб.",null,null,null,null,null,null,{"$f":"H45/E45*100","v":{"$error":"#DIV/0!"}},null,null,{"$f":"K45/H45*100","v":{"$error":"#DIV/0!"}}]
[{"$f":"A43 & \".3\"","v":"3.2.3"},"Суммарные затраты","тыс. руб.",{"$f":"D44*D45","v":0},0,0,0,0,0,{"$f":"H46/E46*100","v":{"$error":"#DIV/0!"}},{"$f":"K44*K45","v":0},{"$f":"L44*L45","v":0},{"$f":"K46/H46*100","v":{"$error":"#DIV/0!"}},null,null,"Sum"]
[null,"Добавить "]
[null,"прочие, до 5%","тыс. руб.",null,null,null,null,null,6.8070000000000004,{"$f":"H48/E48*100","v":{"$error":"#DIV/0!"}},null,9.99,{"$error":"#DIV/0!"},null,null,"Sum"]
[null,"Итого материалы:","тыс. руб.",{"$f":"SUMIF($P38:$P48,\"sum\",D38:D48)","v":0},0,0,0,10.69,6.8070000000000004,{"$f":"H49/E49*100","v":{"$error":"#DIV/0!"}},{"$f":"SUMIF($P38:$P48,\"sum\",K38:K48)","v":0},{"$f":"SUMIF($P38:$P48,\"sum\",L38:L48)","v":9.99},0]
[]
["* Вносятся данные по прямым расходам (включенным непосредственно в себестоимость холодного водоснабжения). Заполняется отдельно по участкам, в случае утверждения различных тарифов по системам"]
[]
["Руководитель организации    ____________________________________"]
[]
["Ответственный за составление формы   ______________________________________"]
[null,"МП"]
[null,null,null,null,"Приложение Д"]
["Фактический расход ГСМ за 2016 год**"]
[]
["№ п/п","машина, гос. номер","Вид ГСМ (марка)","Фактический расход, л","Пробег, км"]
[null,null,null,null,"на начало года","на конец года",null,"за год"]
[1,"Цех водоснабжения"]
["1.1","Трактор","Дизтопливо",42,null,null,null,{"$f":"F63-E63","v":0}]
["1.2","Экскаватор","Дизтопливо",922.19,null,null,null,{"$f":"F64-E64","v":0},"О"]
[null,"Добавить "]
["2","Цех водоотведения"]
["2.1",null,null,null,null,null,null,{"$f":"F67-E67","v":0}]
[null,"Добавить "]
["3","Транспортный цех"]
["3.1",null,null,null,null,null,null,{"$f":"F70-E70","v":0}]
[null,"Добавить "]
["4","АУП"]
["4.1","Автомобиль Гос№801","Бензин",2269.9749999999999,75860,78130,null,{"$f":"F73-E73","v":2270}]
["4.2",null,"Пропан",820.66,78130,86337,null,{"$f":"F74-E74","v":8207},"О"]
[null,"Добавить "]
["5","Прочие виды деятельности"]
["5.1",null,null,null,null,null,null,{"$f":"F77-E77","v":0}]
[null,"Добавить "]
[]
["** Вносятся расходы в целом по предприятию в соответствии с данными бухгалтерского учета по всем видам деятельности"]
[]
["Руководитель организации    ____________________________________"]
[]
["Ответственный за составление формы   ______________________________________"]
[null,"МП"]

{"sheet":" ЭЭ","index":13,"n_rows":59,"n_cols":17,"rows_kept":59,"cut":false,"hidden":false,"merged":[[55,0,55,12],[57,0,57,12],[3,9,4,9],[1,0,1,11],[3,8,4,8],[3,12,4,12],[7,14,50,14],[0,6,0,12],[3,0,4,0],[3,1,4,1],[3,2,4,2],[3,3,3,4],[3,5,4,5]]}
[null,null,null,null,null,null,"Приложение 2.1.2"]
["Расходы на приобретение электрической энергии"]
[]
["№ п/п","Наименование","Ед. изм.",2014,null,"2014 факт РЭК",2015,2016,"2016 факт РЭК","Темп роста, текущий (7)/ истекший (5), %",2016,2016,"Темп роста, очередной (9)/ текущий (7), %"]
[null,null,null,"план","факт",null,"утверждено РЭК","факт ОКК",null,null,"план","утверждено РЭК"]
[1,2,3,4,5,"5*",6,7,"7*",8,9,"9*",10]
[1,"Поставщик"]
["1.1","Объем покупной энергии","млн. кВт-ч",null,null,null,null,null,null,{"$f":"H8/E8*100","v":{"$error":"#DIV/0!"}},null,null,{"$f":"K8/H8*100","v":{"$error":"#DIV/0!"}},null,1]
["1.1.1","Объем покупной энергии по одноставочному тарифу","млн. кВт-ч",null,null,null,null,null,null,{"$f":"H9/E9*100","v":{"$error":"#DIV/0!"}},null,null,{"$f":"K9/H9*100","v":{"$error":"#DIV/0!"}}]
["1.1.1.1","низкое напряжение (НН)","млн. кВт-ч",null,null,null,null,null,null,{"$error":"#DIV/0!"},null,null,{"$error":"#DIV/0!"}]
["1.1.1.2","среднее напряжение 1 (СН1)","млн. кВт-ч",null,null,null,null,null,null,{"$error":"#DIV/0!"},null,null,{"$error":"#DIV/0!"}]
["1.1.1.3","среднее напряжение 2 (СН2)","млн. кВт-ч",null,null,null,null,null,null,{"$error":"#DIV/0!"},null,null,{"$error":"#DIV/0!"}]
["1.1.1.4","высокое напряжение (ВН)","млн. кВт-ч",null,null,null,null,null,null,{"$error":"#DIV/0!"},null,null,{"$error":"#DIV/0!"}]
["1.1.1.5","Без разбивки по напряжению","млн. кВт-ч",null,null,null,null,null,null,{"$error":"#DIV/0!"},null,null,{"$error":"#DIV/0!"}]
["1.1.2","Объем покупной энергии по двухставочному тарифу","млн. кВт-ч",null,null,null,null,null,null,{"$error":"#DIV/0!"},null,null,{"$error":"#DIV/0!"}]
["1.1.2.1","Мощность","МВт в мес.",null,null,null,null,null,null,{"$error":"#DIV/0!"},null,null,{"$error":"#DIV/0!"}]
["1.1.2.1.1","низкое напряжение (НН)","МВт в мес.",null,null,null,null,null,null,{"$error":"#DIV/0!"},null,null,{"$error":"#DIV/0!"}]
["1.1.2.1.2","среднее напряжение 1 (СН1)","МВт в мес.",null,null,null,null,null,null,{"$error":"#DIV/0!"},null,null,{"$error":"#DIV/0!"}]
["1.1.2.1.3","среднее напряжение 2 (СН2)","МВт в мес.",null,null,null,null,null,null,{"$error":"#DIV/0!"},null,null,{"$error":"#DIV/0!"}]
["1.1.2.1.4","высокое напряжение (ВН)","МВт в мес.",null,null,null,null,null,null,{"$error":"#DIV/0!"},null,null,{"$error":"#DIV/0!"}]
["1.1.2.1.5","генерация напряжения","МВт в мес.",null,null,null,null,null,null,{"$error":"#DIV/0!"},null,null,{"$error":"#DIV/0!"}]
["1.1.2.2","Активная электроэнергия","млн. кВт-ч",null,null,null,null,null,null,{"$error":"#DIV/0!"},null,null,{"$error":"#DIV/0!"}]
["1.1.2.2.1","низкое напряжение (НН)","млн. кВт-ч",null,null,null,null,null,null,{"$error":"#DIV/0!"},null,null,{"$error":"#DIV/0!"}]
["1.1.2.2.2","среднее напряжение 1 (СН1)","млн. кВт-ч",null,null,null,null,null,null,{"$error":"#DIV/0!"},null,null,{"$error":"#DIV/0!"}]
["1.1.2.2.3","среднее напряжение 2 (СН2)","млн. кВт-ч",null,null,null,null,null,null,{"$error":"#DIV/0!"},null,null,{"$error":"#DIV/0!"}]
["1.1.2.2.4","высокое напряжение (ВН)","млн. кВт-ч",null,null,null,null,null,null,{"$error":"#DIV/0!"},null,null,{"$error":"#DIV/0!"}]
["1.1.2.2.5","генерация напряжения","млн. кВт-ч",null,null,null,null,null,null,{"$error":"#DIV/0!"},null,null,{"$error":"#DIV/0!"}]
["1.2","Тариф на электроэнергию и мощность"]
["1.2.1","по одноставочному тарифу","руб./кВт-ч",null,null,null,null,null,null,{"$error":"#DIV/0!"},null,null,{"$error":"#DIV/0!"}]
["1.2.1.1","низкое напряжение (НН)","руб./кВт-ч",null,null,null,null,null,null,{"$error":"#DIV/0!"},null,null,{"$error":"#DIV/0!"}]
["1.2.1.2","среднее напряжение 1 (СН1)","руб./кВт-ч",null,null,null,null,null,null,{"$error":"#DIV/0!"},null,null,{"$error":"#DIV/0!"}]
["1.2.1.3","среднее напряжение 2 (СН2)","руб./кВт-ч",null,null,null,null,null,null,{"$error":"#DIV/0!"},null,null,{"$error":"#DIV/0!"}]
["1.2.1.4","высокое напряжение (ВН)","руб./кВт-ч",null,null,null,null,null,null,{"$error":"#DIV/0!"},null,null,{"$error":"#DIV/0!"}]
["1.2.1.5","Тариф на активную электроэнергию без разбивки по напряжению","руб./кВт-ч",null,null,null,null,null,null,{"$error":"#DIV/0!"},null,null,{"$error":"#DIV/0!"}]
["1.2.1.6","Средний одноставочный тариф на электрическую энергию","руб./кВт-ч",null,null,null,null,null,null,{"$error":"#DIV/0!"},null,null,{"$error":"#DIV/0!"}]
["1.2.2","по двухставочному тарифу"]
["1.2.2.1","ставка за мощность","руб./МВт в мес.",null,null,null,null,null,null,{"$error":"#DIV/0!"},null,null,{"$error":"#DIV/0!"}]
["1.2.2.1.1","низкое напряжение (НН)","руб./МВт в мес.",null,null,null,null,null,null,{"$error":"#DIV/0!"},null,null,{"$error":"#DIV/0!"}]
["1.2.2.1.2","среднее напряжение 1 (СН1)","руб./МВт в мес.",null,null,null,null,null,null,{"$error":"#DIV/0!"},null,null,{"$error":"#DIV/0!"}]
["1.2.2.1.3","среднее напряжение 2 (СН2)","руб./МВт в мес.",null,null,null,null,null,null,{"$error":"#DIV/0!"},null,null,{"$error":"#DIV/0!"}]
["1.2.2.1.4","высокое напряжение (ВН)","руб./МВт в мес.",null,null,null,null,null,null,{"$error":"#DIV/0!"},null,null,{"$error":"#DIV/0!"}]
["1.2.2.1.5","генерация напряжения","руб./МВт в мес.",null,null,null,null,null,null,{"$error":"#DIV/0!"},null,null,{"$error":"#DIV/0!"}]
["1.2.2.2","Тариф на электроэнергию по двухставочному тарифу","руб./кВт-ч",null,null,null,null,null,null,{"$error":"#DIV/0!"},null,null,{"$error":"#DIV/0!"}]
["1.2.2.2.1","низкое напряжение (НН)","руб./кВт-ч",null,null,null,null,null,null,{"$error":"#DIV/0!"},null,null,{"$error":"#DIV/0!"}]
["1.2.2.2.2","среднее напряжение 1 (СН1)","руб./кВт-ч",null,null,null,null,null,null,{"$error":"#DIV/0!"},null,null,{"$error":"#DIV/0!"}]
["1.2.2.2.3","среднее напряжение 2 (СН2)","руб./кВт-ч",null,null,null,null,null,null,{"$error":"#DIV/0!"},null,null,{"$error":"#DIV/0!"}]
["1.2.2.2.4","высокое напряжение (ВН)","руб./кВт-ч",null,null,null,null,null,null,{"$error":"#DIV/0!"},null,null,{"$error":"#DIV/0!"}]
["1.2.2.2.5","генерация напряжения","руб./кВт-ч",null,null,null,null,null,null,{"$error":"#DIV/0!"},null,null,{"$error":"#DIV/0!"}]
["1.3","Затраты на покупку энергии","тыс. руб.",null,null,null,null,null,null,{"$error":"#DIV/0!"},null,null,{"$error":"#DIV/0!"}]
["1.4","Затраты на покупку мощности","тыс. руб.",null,null,null,null,null,null,{"$error":"#DIV/0!"},null,null,{"$error":"#DIV/0!"}]
["1.5","Затраты на электроэнергию всего","тыс. руб.",null,null,null,null,1132.095,535.99099999999999,{"$error":"#DIV/0!"},null,776.71,0,null,null,null,"Sum"]
[null,"Добавить "]
[null,"Итого","тыс. руб.",{"$f":"SUMIF($Q$7:$Q$53,\"sum\",D7:D53)","v":0},0,0,0,1132.095,535.99099999999999,{"$error":"#DIV/0!"},{"$f":"SUMIF($Q$7:$Q$53,\"sum\",K7:K53)","v":0},{"$f":"SUMIF($Q$7:$Q$53,\"sum\",L7:L53)","v":776.71},0]
[]
[]
["Руководитель организации    ____________________________________"]
[]
["Ответственный за составление формы   ______________________________________"]
[null,"МП"]

{"sheet":"ТЭ","index":14,"n_rows":22,"n_cols":17,"rows_kept":22,"cut":false,"hidden":false,"merged":[[18,0,18,12],[20,0,20,12],[3,9,4,9],[3,12,4,12],[3,8,4,8],[6,14,13,14],[0,6,0,12],[1,0,1,11],[3,0,4,0],[3,1,4,1],[3,2,4,2],[3,3,3,4],[3,5,4,5]]}
[null,2,null,null,null,null,"Приложение 2.1.3"]
["Расходы на приобретение тепловой энергии"]
[]
["№ п/п","Наименование","Ед. изм.",2014,null,"2014 факт РЭК",2015,2016,"2015 факт РЭК","Темп роста, текущий (7)/ истекший (5), %",2016,2016,"Темп роста, очередной (9)/ текущий (7), %"]
[null,null,null,"план","факт",null,"утверждено РЭК","факт ОКК",null,null,"план","утверждено РЭК"]
[1,2,3,4,5,"5*",6,7,"7*",8,9,"9*",10]
[1,"Поставщик",null,null,null,null,null,null,null,null,null,null,null,null,1]
["1.1","Объем покупной энергии","тыс. Гкал",null,null,null,null,null,null,{"$f":"H8/E8*100","v":{"$error":"#DIV/0!"}},null,null,{"$f":"K8/H8*100","v":{"$error":"#DIV/0!"}}]
["1.2","Мощность","Гкал/ч",null,null,null,null,null,null,{"$f":"H9/E9*100","v":{"$error":"#DIV/0!"}},null,null,{"$f":"K9/H9*100","v":{"$error":"#DIV/0!"}}]
["1.3","Ставка за энергию","руб./Гкал",null,null,null,null,null,null,{"$error":"#DIV/0!"},null,null,{"$error":"#DIV/0!"}]
["1.4","Ставка за мощность","тыс. руб./ Гкал/ч",null,null,null,null,null,null,{"$error":"#DIV/0!"},null,null,{"$error":"#DIV/0!"}]
["1.5","Затраты на покупку энергии","тыс. руб.",{"$f":"D8*D10","v":0},0,0,0,0,0,{"$error":"#DIV/0!"},{"$f":"K8*K10","v":0},{"$f":"L8*L10","v":0},{"$error":"#DIV/0!"}]
["1.6","Затраты на покупку мощности","тыс. руб.",0,0,0,0,0,0,{"$error":"#DIV/0!"},{"$f":"K9*K11","v":0},{"$f":"L9*L11","v":0},{"$error":"#DIV/0!"}]
["1.7","Затраты на теплоэнергию, всего","тыс. руб.",{"$f":"D12+D13","v":0},0,0,0,0,0,{"$error":"#DIV/0!"},{"$f":"K12+K13","v":0},{"$f":"L12+L13","v":0},{"$error":"#DIV/0!"},null,null,null,"Sum"]
[null,"Добавить "]
[null,"Итого","тыс. руб.",{"$f":"SUMIF($Q$7:$Q$16,\"sum\",D7:D16)","v":0},0,0,0,0,0,{"$error":"#DIV/0!"},{"$f":"SUMIF($Q$7:$Q$16,\"sum\",K7:K16)","v":0},{"$f":"SUMIF($Q$7:$Q$16,\"sum\",L7:L16)","v":0},{"$error":"#DIV/0!"}]
[]
[]
["Руководитель организации    ____________________________________"]
[]
["Ответственный за составление формы   ______________________________________"]
[null,null,"МП"]

{"sheet":"ТН","index":15,"n_rows":18,"n_cols":17,"rows_kept":18,"cut":false,"hidden":false,"merged":[[14,0,14,12],[16,0,16,12],[3,9,4,9],[3,12,4,12],[3,8,4,8],[6,14,9,14],[0,6,0,12],[1,0,1,11],[3,0,4,0],[3,1,4,1],[3,2,4,2],[3,3,3,4],[3,5,4,5]]}
[null,null,null,null,null,null,"Приложение 2.1.4"]
["Расходы на приобретение теплоносителя"]
[]
["№ п/п","Наименование","Ед. изм.",2014,null,"2014 факт РЭК",2015,2016,"2015 факт РЭК","Темп роста, текущий (7)/ истекший (5), %",2016,2016,"Темп роста, очередной (9)/ текущий (7), %"]
[null,null,null,"план","факт",null,"утверждено РЭК","факт ОКК",null,null,"план","утверждено РЭК"]
[1,2,3,4,5,"5*",6,7,"7*",8,9,"9*",10]
[1,"Поставщик",null,null,null,null,null,null,null,null,null,null,null,null,1]
["1.1","Объем теплоносителя","тыс. куб. м",null,null,null,null,null,null,{"$f":"H8/E8*100","v":{"$error":"#DIV/0!"}},null,null,{"$f":"K8/H8*100","v":{"$error":"#DIV/0!"}}]
["1.2","Цена теплоносителя","руб./куб. м",null,null,null,null,null,null,{"$f":"H9/E9*100","v":{"$error":"#DIV/0!"}},null,null,{"$f":"K9/H9*100","v":{"$error":"#DIV/0!"}}]
["1.3","Затраты на теплоноситель","тыс. руб.",{"$f":"D8*D9","v":0},0,0,0,0,0,{"$f":"H10/E10*100","v":{"$error":"#DIV/0!"}},{"$f":"K8*K9","v":0},{"$f":"L8*L9","v":0},{"$f":"K10/H10*100","v":{"$error":"#DIV/0!"}},null,null,null,"Sum"]
[null,"Добавить "]
[null,"Итого","тыс. руб.",{"$f":"SUMIF($Q$7:$Q$11,\"sum\",D7:D11)","v":0},0,0,0,0,0,{"$f":"H12/E12*100","v":{"$error":"#DIV/0!"}},{"$f":"SUMIF($Q$7:$Q$11,\"sum\",K7:K11)","v":0},{"$f":"SUMIF($Q$7:$Q$11,\"sum\",L7:L11)","v":0},{"$f":"K12/H12*100","v":{"$error":"#DIV/0!"}}]
[]
[]
["Руководитель организации    ____________________________________"]
[]
["Ответственный за составление формы   ______________________________________"]
[null,null,"МП"]

{"sheet":"Топливо","index":16,"n_rows":26,"n_cols":17,"rows_kept":26,"cut":false,"hidden":false,"merged":[[0,6,0,12],[3,12,4,12],[3,8,4,8],[1,0,1,11],[3,0,4,0],[3,1,4,1],[3,2,4,2],[3,3,3,4],[14,14,17,14],[22,0,22,12],[24,0,24,12],[3,5,4,5],[3,9,4,9]]}
[null,null,null,null,null,null,"Приложение 2.1.5"]
["Расходы на приобретение топлива"]
[]
["№ п/п","Наименование","Ед. изм.",2014,null,"2014 факт РЭК",2015,2016,"2015 факт РЭК","Темп роста, текущий (7)/ истекший (5), %",2016,2016,"Темп роста, очередной (9)/ текущий (7), %"]
[null,null,null,"план","факт",null,"утверждено РЭК","факт ОКК",null,null,"план","утверждено РЭК"]
[1,2,3,4,5,"5*",6,7,"7*",8,9,"9*",10]
[1,"Уголь"]
["1.1","Кол-во (объем) топлива",null,null,null,null,null,null,null,{"$f":"H8/E8*100","v":{"$error":"#DIV/0!"}},null,null,{"$f":"K8/H8*100","v":{"$error":"#DIV/0!"}}]
["1.2","Цена топлива","тыс. руб.",null,null,null,null,null,null,{"$f":"H9/E9*100","v":{"$error":"#DIV/0!"}},null,null,{"$f":"K9/H9*100","v":{"$error":"#DIV/0!"}}]
["1.3","Затраты на топливо","тыс. руб.",{"$f":"D8*D9","v":0},0,0,0,0,0,{"$error":"#DIV/0!"},{"$f":"K8*K9","v":0},{"$f":"L8*L9","v":0},{"$error":"#DIV/0!"},null,null,null,"Sum"]
[2,"Газ"]
["2.1","Кол-во (объем) топлива",null,null,null,null,null,null,null,{"$error":"#DIV/0!"},null,null,{"$error":"#DIV/0!"}]
["2.2","Цена топлива","тыс. руб.",null,null,null,null,null,null,{"$error":"#DIV/0!"},null,null,{"$error":"#DIV/0!"}]
["2.3","Затраты на топливо","тыс. руб.",{"$f":"D12*D13","v":0},{"$f":"E12*E13","v":0},0,0,0,0,{"$error":"#DIV/0!"},0,0,{"$error":"#DIV/0!"},null,null,null,"Sum"]
[3,"Мазут",null,null,null,null,null,null,null,null,null,null,null,null,3]
["3.1","Кол-во (объем) топлива",null,null,null,null,null,null,null,{"$error":"#DIV/0!"},null,null,{"$error":"#DIV/0!"}]
["3.2","Цена топлива","тыс. руб.",null,null,null,null,null,null,{"$error":"#DIV/0!"},null,null,{"$error":"#DIV/0!"}]
["3.3","Затраты на топливо","тыс. руб.",{"$f":"D16*D17","v":0},{"$f":"E16*E17","v":0},0,0,0,0,{"$error":"#DIV/0!"},0,0,{"$error":"#DIV/0!"},null,null,null,"Sum"]
[null,"Добавить "]
[null,"Итого","тыс. руб.",{"$f":"SUMIF($Q$7:$Q$19,\"sum\",D7:D19)","v":0},0,0,0,0,0,{"$error":"#DIV/0!"},{"$f":"SUMIF($Q$7:$Q$19,\"sum\",K7:K19)","v":0},{"$f":"SUMIF($Q$7:$Q$19,\"sum\",L7:L19)","v":0},{"$error":"#DIV/0!"}]
[]
[]
["Руководитель организации    ____________________________________"]
[]
["Ответственный за составление формы   ______________________________________"]
[null,null,null,"МП"]

{"sheet":"Покупная вода","index":17,"n_rows":18,"n_cols":17,"rows_kept":18,"cut":false,"hidden":false,"merged":[[6,14,9,14],[14,0,14,12],[16,0,16,12],[0,6,0,12],[1,0,1,12],[3,0,4,0],[3,1,4,1],[3,2,4,2],[3,3,3,4],[3,5,4,5],[3,8,4,8],[3,9,4,9],[3,12,4,12]]}
[null,null,null,null,null,null,"Приложение 2.1.6"]
["Расходы на приобретение холодной воды"]
[]
["№ п/п","Наименование","Ед. изм.",2014,null,"2014 факт РЭК",2015,2016,"2015 факт РЭК","Темп роста, текущий (7)/ истекший (5), %",2016,2016,"Темп роста, очередной (9)/ текущий (7), %"]
[null,null,null,"план","факт",null,"утверждено РЭК","факт ОКК",null,null,"план","утверждено РЭК"]
[1,2,3,4,5,"5*",6,7,"7*",8,9,"9*",10]
[1,"Поставщик",null,null,null,null,null,null,null,null,null,null,null,null,1]
["1.1","Объем холодной воды","тыс. куб. м",null,null,null,null,null,null,{"$f":"H8/E8*100","v":{"$error":"#DIV/0!"}},null,null,{"$f":"K8/H8*100","v":{"$error":"#DIV/0!"}}]
["1.2","Тариф на холодную воду","руб./куб. м",null,null,null,null,null,null,{"$f":"H9/E9*100","v":{"$error":"#DIV/0!"}},null,null,{"$f":"K9/H9*100","v":{"$error":"#DIV/0!"}}]
["1.3","Затраты на холодную воду","тыс. руб.",{"$f":"D8*D9","v":0},{"$f":"E8*E9","v":0},0,0,0,0,{"$f":"H10/E10*100","v":{"$error":"#DIV/0!"}},0,0,{"$f":"K10/H10*100","v":{"$error":"#DIV/0!"}},null,null,null,"Sum"]
[null,"Добавить "]
[null,"Итого","тыс. руб.",{"$f":"SUMIF($Q$7:$Q$11,\"sum\",D7:D11)","v":0},0,0,0,0,0,{"$f":"H12/E12*100","v":{"$error":"#DIV/0!"}},{"$f":"SUMIF($Q$7:$Q$11,\"sum\",K7:K11)","v":0},{"$f":"SUMIF($Q$7:$Q$11,\"sum\",L7:L11)","v":0},{"$f":"K12/H12*100","v":{"$error":"#DIV/0!"}}]
[]
[]
["Руководитель организации    ____________________________________"]
[]
["Ответственный за составление формы   ______________________________________"]
[null,null,"МП"]

{"sheet":"Оплата труда","index":18,"n_rows":154,"n_cols":11,"rows_kept":154,"cut":false,"hidden":false,"merged":[[24,6,24,10],[25,0,25,10],[3,3,3,4],[0,6,0,10],[1,0,1,10],[3,0,4,0],[3,1,4,1],[3,2,4,2],[3,8,4,8],[3,5,4,5],[27,5,28,5],[152,0,152,12],[27,8,28,8],[27,0,28,0],[27,1,28,1],[27,2,28,2],[27,3,27,4],[147,0,148,10],[150,0,150,12]]}
[null,null,null,null,null,null,"Приложение 2.2.1"]
["Расходы на оплату труда в разрезе регулируемых видов деятельности"]
[]
["№ п/п","Наименование","Ед. изм.",2014,null,"2014 факт РЭК",2015,2016,"2016 факт РЭК",2016,2016]
[null,null,null,"план","факт",null,"утверждено РЭК","факт ОКК",null,"план","утверждено РЭК"]
[1,2,3,4,5,"5*",6,7,"7*",8,"8*"]
[1,"Производственный персонал"]
["1.1","Холодное водоснабжение","тыс. руб.",{"$f":"D57","v":0},{"$f":"E57","v":0},0,0,455.8,455.80011234120002,0,604.9]
["1.2","Регулируемый вид деятельности ","тыс. руб.",null,null,null,null,null,null,null,604.9]
[null,"Добавить "]
[2,"Ремонтный персонал"]
["2.1","Холодное водоснабжение","тыс. руб.",{"$f":"D86","v":0},{"$f":"E86","v":0},0,0,0,0,0,0]
["2.2","Регулируемый вид деятельности ","тыс. руб."]
[null,"Добавить "]
[3,"Административный персонал"]
["3.1","Холодное водоснабжение","тыс. руб.",{"$f":"'Цех и Администр расх'!D34*'Цех и Администр расх'!H100%","v":{"$error":"#DIV/0!"}},{"$f":"'Цех и Администр расх'!E34*'Цех и Администр расх'!I100%","v":{"$error":"#DIV/0!"}},{"$f":"'Цех и Администр расх'!F34*'Цех и Администр расх'!J100%","v":{"$error":"#DIV/0!"}},{"$f":"'Цех и Администр расх'!G34*'Цех и Администр расх'!K100%","v":{"$error":"#DIV/0!"}},{"$f":"'Цех и Администр расх'!H34*'Цех и Администр расх'!L100%","v":301.39513161473536},null,{"$f":"'Цех и Администр расх'!I34*'Цех и Администр расх'!N100%","v":{"$error":"#DIV/0!"}},{"$f":"'Цех и Администр расх'!M34","v":288.25923296581266}]
["3.2","Регулируемый вид деятельности ","тыс. руб."]
[null,"Добавить "]
[4,"Общецеховый персонал"]
["4.1","Холодное водоснабжение","тыс. руб.",{"$f":"'Цех и Администр расх'!D7*'Цех и Администр расх'!H81%","v":{"$error":"#DIV/0!"}},{"$f":"'Цех и Администр расх'!E7*'Цех и Администр расх'!I81%","v":{"$error":"#DIV/0!"}},{"$f":"'Цех и Администр расх'!F7*'Цех и Администр расх'!J81%","v":{"$error":"#DIV/0!"}},{"$f":"'Цех и Администр расх'!G7*'Цех и Администр расх'!K81%","v":{"$error":"#DIV/0!"}},{"$f":"'Цех и Администр расх'!H7*'Цех и Администр расх'!L81%","v":0},null,{"$f":"'Цех и Администр расх'!I7*'Цех и Администр расх'!N81%","v":{"$error":"#DIV/0!"}},{"$f":"'Цех и Администр расх'!M7","v":0}]
["4.2","Регулируемый вид деятельности ","тыс. руб."]
[null,"Добавить "]
[]
[]
[null,null,null,null,null,null,"Приложение 2.2"]
["Расходы на оплату труда по регулируемым видам деятельности и в целом по предприятию"]
[]
["№ п/п","Наименование","Ед. изм.",2014,null,"2014 факт РЭК",2015,2016,"2016 факт РЭК",2016,2016]
[null,null,null,"план","факт",null,"утверждено РЭК","факт ОКК",null,"план","утверждено РЭК"]
[1,2,3,4,5,"5*",6,7,"7*",8,"8*"]
[null,"Производственный персонал (водоснабжение)"]
[1,"Численность (среднесписочная), принятая для расчета","чел.",null,null,null,null,3,3,null,4]
[2,"Средняя оплата труда"]
["2.1","Тарифная ставка рабочего 1 разряда","руб.",null,null,null,null,5040,8056.58]
["2.2","Индекс роста номинальной заработной платы"]
["2.3","Тарифная ставка рабочего 1 разряда с учетом дефлятора","руб.",null,null,null,null,8467,{"$f":"I34","v":8056.58}]
["2.4","Средний тарифный коэффициент ",null,null,null,null,null,3387,1.471365]
["2.5","Среднемесячная тарифная ставка","руб.",null,null,null,null,11854.17,{"$f":"I36*I37","v":11854.169831700001}]
["2.6","Минимальный размер оплаты труда по отраслевому тарифному соглашению","руб.",7056.84,7056.84,7056.84,7501.42,8056.58,8056.58,null,8056.58]
["2.7","Выплаты, связанные с режимом работы и условиями труда на 1 работника в месяц"]
["2.7.1","процент","%",null,null,null,null,null,{"$f":"I42*100/I38","v":6.8072620137607434}]
["2.7.2","сумма выплат","руб.",null,null,null,null,null,806.94439999999997]
["2.8","Текущее премирование"]
["2.8.1","процент","%"]
["2.8.2","сумма выплат","руб."]
["2.9","Доп. премирование, включая вознаграждение за выслугу лет"]
["2.9.1","процент","%"]
["2.9.2","сумма выплат","руб."]
["2.9.3","прочее","руб."]
["2.9.4","северные надбавки","руб."]
["2.10","ИТОГО среднемесячная оплата труда на 1 работника ","руб.",null,null,null,null,11854.17,{"$f":"I38+I42","v":12661.114231700001}]
["2.11","Фонд оплаты труда","тыс. руб.",null,null,null,null,455.8,{"$f":"I51*I32*12/1000","v":455.80011234120002}]
[3,"Расчет средств на оплату труда (прибыль)","тыс. руб."]
["3.1","Льготный проезд к месту отдыха","тыс. руб."]
["3.2","По постановлению Правительства РФ от 03.11.1994 № 1206*","тыс. руб."]
["3.3","Компенсационные и социальные выплаты","тыс. руб."]
["4","ИТОГО средств на оплату труда производственного персонала","тыс. руб.",null,null,null,null,455.8,{"$f":"I52","v":455.80011234120002},null,604.9]
["5","Страховые взносы, процент","%",null,null,null,null,30.2,{"$f":"I59*100/I57","v":30.200080314363177},null,30.2]
["5.1","Страховые взносы","тыс. руб.",{"$f":"D57*D58%","v":0},null,null,{"$f":"G57*G58%","v":0},137.65,137.65199999999999,{"$f":"J57*J58%","v":0},{"$f":"K57*K58%","v":182.6798}]
[null,"Ремонтный персонал (водоснабжение)"]
[1,"Численность (среднесписочная), принятая для расчета","чел."]
[2,"Средняя оплата труда"]
["2.1","Тарифная ставка рабочего 1 разряда","руб."]
["2.2","Индекс роста номинальной заработной платы"]
["2.3","Тарифная ставка рабочего 1 разряда с учетом дефлятора","руб."]
["2.4","Средний тарифный коэффициент"]
["2.5","Среднемесячная тарифная ставка","руб."]
["2.6","Минимальный размер оплаты труда по отраслевому тарифному соглашению","руб.",7056.84,7056.84,7056.84,7501.42,8056.58,7501.42,null,8056.58]
["2.7","Выплаты, связанные с режимом работы и условиями труда на 1 работника в месяц"]
["2.7.1","процент","%"]
["2.7.2","сумма выплат","руб."]
["2.8","Текущее премирование"]
["2.8.1","процент","%"]
["2.8.2","сумма выплат","руб."]
["2.9","Доп. премирование, включая вознаграждение за выслугу лет"]
["2.9.1","процент","%"]
["2.9.2","сумма выплат","руб."]
["2.9.3","прочее","руб."]
["2.9.4","северные надбавки","руб."]
["2.10","ИТОГО среднемесячная оплата труда на 1 работника ","руб."]
["2.11","Фонд оплаты труда","тыс. руб."]
[3,"Расчет средств на оплату труда (прибыль)","тыс. руб."]
["3.1","Льготный проезд к месту отдыха","тыс. руб."]
["3.2","По постановлению Правительства РФ от 03.11.1994 № 1206*","тыс. руб."]
["3.3","Компенсационные и социальные выплаты","тыс. руб."]
["4","ИТОГО средств на оплату труда ремонтного персонала","тыс. руб."]
["5","Страховые взносы, процент","%"]
["5.1","Страховые взносы","тыс. руб.",{"$f":"D86*D87%","v":0},null,null,{"$f":"G86*G87%","v":0},null,null,{"$f":"J86*J87%","v":0},{"$f":"K86*K87%","v":0}]
[null,"Административный персонал"]
[1,"Численность (среднесписочная), принятая для расчета","чел.",null,null,null,null,3,3,null,3.1844169]
[2,"Средняя оплата труда"]
["2.1","Тарифная ставка рабочего 1 разряда","руб.",null,null,null,null,5040,8056.58]
["2.2","Индекс роста номинальной заработной платы",null,null,null,null,null,2.5459999999999998,2.2216209999999998]
["2.3","Тарифная ставка рабочего 1 разряда с учетом дефлятора","руб.",null,null,null,null,12832.38]
["2.4","Средний тарифный коэффициент"]
["2.5","Среднемесячная тарифная ставка","руб.",null,null,null,null,17898.669999999998,{"$f":"I92*I93","v":17898.667316179999}]
["2.6","Минимальный размер оплаты труда по отраслевому тарифному соглашению","руб.",7056.84,7056.84,7056.84,7501.42,8056.58,8056.58,null,8056.58]
["2.7","Выплаты, связанные с режимом работы и условиями труда на 1 работника в месяц"]
["2.7.1","процент","%"]
["2.7.2","сумма выплат","руб."]
["2.8","Текущее премирование"]
["2.8.1","процент","%",null,null,null,null,null,{"$f":"I103*100/I96","v":13.715784759018275}]
["2.8.2","сумма выплат","руб.",null,null,null,null,null,{"$f":"I109-I96","v":2454.9426838200015}]
["2.9","Доп. премирование, включая вознаграждение за выслугу лет"]
["2.9.1","процент","%"]
["2.9.2","сумма выплат","руб."]
["2.9.3","прочее","руб."]
["2.9.4","северные надбавки","руб."]
["2.10","ИТОГО среднемесячная оплата труда на 1 работника ","руб.",null,null,null,null,null,20353.61]
["2.11","Фонд оплаты труда","тыс. руб."]
[3,"Расчет средств на оплату труда (прибыль)","тыс. руб."]
["3.1","Льготный проезд к месту отдыха","тыс. руб."]
["3.2","По постановлению Правительства РФ от 03.11.1994 № 1206*","тыс. руб."]
["3.3","Компенсационные и социальные выплаты","тыс. руб."]
["4","ИТОГО средств на оплату труда административного персонала","тыс. руб.",null,null,null,null,732.73,{"$f":"I109*I90*12/1000","v":732.72996000000001},null,685.03]
["5","Страховые взносы, процент","%",null,null,null,null,30.2,{"$f":"I117*100/I115","v":30.050634206358914},null,30.2]
["5.1","Страховые взносы","тыс. руб.",{"$f":"D115*D116%","v":0},null,null,{"$f":"G115*G116%","v":0},220.19,220.19,{"$f":"J115*J116%","v":0},{"$f":"K115*K116%","v":206.87905999999998}]
[null,"Общецеховый персонал"]
[1,"Численность (среднесписочная), принятая для расчета","чел."]
[2,"Средняя оплата труда"]
["2.1","Тарифная ставка рабочего 1 разряда","руб."]
["2.2","Индекс роста номинальной заработной платы"]
["2.3","Тарифная ставка рабочего 1 разряда с учетом дефлятора","руб."]
["2.4","Средний тарифный коэффициент"]
["2.5","Среднемесячная тарифная ставка","руб."]
["2.6","Минимальный размер оплаты труда по отраслевому тарифному соглашению","руб.",7056.84,7056.84,7056.84,7501.42,8056.58,7501.42,null,8056.58]
["2.7","Выплаты, связанные с режимом работы и условиями труда на 1 работника в месяц","руб."]
["2.7.1","процент","%"]
["2.7.2","сумма выплат","руб."]
["2.8","Текущее премирование"]
["2.8.1","процент","%"]
["2.8.2","сумма выплат","руб."]
["2.9","Доп. премирование, включая вознаграждение за выслугу лет"]
["2.9.1","процент","%"]
["2.9.2","сумма выплат","руб."]
["2.9.3","прочее","руб."]
["2.9.4","северные надбавки","руб."]
["2.10","ИТОГО среднемесячная оплата труда на 1 работника ","руб."]
["2.11","Фонд оплаты труда","тыс. руб."]
[3,"Расчет средств на оплату труда (прибыль)","тыс. руб."]
["3.1","Льготный проезд к месту отдыха","тыс. руб."]
["3.2","По постановлению Правительства РФ от 03.11.1994 № 1206*","тыс. руб."]
["3.3","Компенсационные и социальные выплаты","тыс. руб."]
["4","ИТОГО средств на оплату труда общецехового персонала","тыс. руб."]
["5","Страховые взносы, процент","%"]
["5.1","Страховые взносы","тыс. руб.",{"$f":"D144*D145%","v":0},null,null,{"$f":"G144*G145%","v":0},null,null,{"$f":"J144*J145%","v":0},{"$f":"K144*K145%","v":0}]
[]
["* Постановление Правительства Российской Федерации от 3 ноября 1994 г. № 1206 (Собрание законодательства Российской Федерации, 1994, № 29, ст. 3035; 2003, № 33, ст. 3269; 2006, № 33, ст. 3633; 2012, № 22, ст. 2867; 2013, № 13, ст. 1559; 2013, № 22, ст. 2809)"]
[]
[]
["Руководитель организации    ____________________________________"]
[]
["Ответственный за составление формы   ______________________________________"]
[null,null,"МП"]

{"sheet":"Оплата труда 2","index":19,"n_rows":133,"n_cols":8,"rows_kept":133,"cut":false,"hidden":false,"merged":[[2,0,2,5],[86,0,86,5],[0,3,0,5],[15,0,15,5],[48,2,49,4],[45,4,45,5],[28,0,28,5],[51,0,52,0],[51,1,52,1],[46,0,46,6],[51,2,52,2],[51,3,52,3],[129,0,129,6],[51,5,52,5],[131,0,131,6],[41,0,41,5],[43,0,43,5],[90,0,90,6],[84,0,84,5],[127,0,127,6],[51,4,52,4],[89,4,89,6]]}
[null,null,null,"Приложение Е"]
[]
["Расчет выплат, связанных с режимом работы и условиями труда                                                                                 основного производственного персонала"]
[]
["№ п/п","Наименование","ед. изм. "," факт 2016","ожид 2017","план 2018"]
["1","Выплаты, связанные с режимом работы всего, в том числе:","руб.",{"$f":"SUM(D7:D12)","v":0},{"$f":"SUM(E7:E12)","v":0},{"$f":"SUM(F7:F12)","v":128.33000000000001}]
["1.1","Ночные","руб.",0,0,49.1]
["1.2","Праздничные","руб.",0,0,49.1]
["1.3","Доплата за классность","руб.",0,0]
["1.4","Выслуга лет","руб.",0,0]
["1.5","Почетное звание","руб.",0,0]
["1.6","Замещение в отпуск работников 785,52тыс руб/365*28*50% от оклада работников","руб.",0,0,30.13]
["2","ФОТ","руб.",0,0,785.52]
["2.1","процент от ФОТ","%",0,0,16.34]
[]
["Расчет выплат, связанных с режимом работы и условиями труда                                                                      ремонтного персонала"]
[]
["№ п/п","Наименование","ед. изм. "," факт 2016","ожид 2017","план 2018"]
["1","Выплаты, связанные с режимом работы всего, в том числе:","руб.",{"$f":"SUM(D20:D25)","v":0},{"$f":"SUM(E20:E25)","v":0},{"$f":"SUM(F20:F25)","v":0}]
["1.1","Ночные","руб."]
["1.2","Праздничные","руб."]
["1.3","Доплата за классность","руб."]
["1.4","Выслуга лет","руб."]
["1.5","Почетное звание","руб."]
["1.6","Прочие выплаты (расшифровать)","руб."]
["2","ФОТ","руб."]
["2.1","процент от ФОТ","%"]
[]
["Расчет выплат, связанных с режимом работы и условиями труда                                                                общецехового персонала"]
[]
["№ п/п","Наименование","ед. изм. "," факт 2016","ожид 2017","план 2018"]
["1","Выплаты, связанные с режимом работы всего, в том числе:","руб.",{"$f":"SUM(D33:D38)","v":0},{"$f":"SUM(E33:E38)","v":0},{"$f":"SUM(F33:F38)","v":37.35}]
["1.1","Ночные","руб."]
["1.2","Праздничные","руб."]
["1.3","Доплата за классность","руб."]
["1.4","Выслуга лет","руб."]
["1.5","Почетное звание","руб."]
["1.6","Замещение в отпуск работников (973,76тыс руб/365*28*50% от оклада работников)","руб.",null,null,37.35]
["2","ФОТ","руб.",null,null,973.76]
["2.1","процент от ФОТ","%",null,null,3.69]
[]
["Руководитель организации    ____________________________________"]
[]
["Ответственный за составление формы   ______________________________________"]
[null,null,"МП"]
[null,null,null,null,"Приложение Ж"]
["Расчет среднего тарифного коэффициента"]
[]
[null,null,"месячная тарифная ставка рабочего 1 разряда, руб. ",null,null,"на 2018"]
[null,null,null,null,null,8435.2999999999993]
[]
["№ п/п","Должность (специальность, профессия), разряд, класс (категория) квалификация","кол-во штатных единиц","оклад, руб.","ФОТ в месяц","коэффициент, применяемый к базовой месячной тарифной ставке рабочего первого разряда"]
[]
[1,"АУП"]
["1.1","Директор",1,38802,{"$f":"D55*C55","v":38802},{"$f":"D55/$F$50","v":4.59995495121691}]
["1.2","Главный бухгалтер",1,29524,{"$f":"D56*C56","v":29524},{"$f":"D56/$F$50","v":3.5000533472431332}]
["1.3","Кассир",0.5,11640,{"$f":"D57*C57","v":5820},{"$f":"D57/$F$50","v":1.3799153557075623},"О"]
["1.4","Специалист по кадрам",0.25,18556,{"$f":"D58*C58","v":4639},{"$f":"D58/$F$50","v":2.199803207947554},"О"]
["1.5","Делопроизводитель",0.25,9448,{"$f":"D59*C59","v":2362},{"$f":"D59/$F$50","v":1.1200550069351416},"О"]
[null,"Добавить "]
[null,"Итого",{"$f":"SUM(C54:C60)","v":3},{"$f":"SUM(D54:D60)","v":107970},{"$f":"SUM(E54:E60)","v":81147},{"$f":"E61/$F$50/C61","v":3.2066435100114994}]
["2","Общецеховый персонал"]
["2.1",null,null,null,{"$f":"D63*C63","v":0},{"$f":"D63/$F$50","v":0}]
["2.2",null,null,null,{"$f":"D64*C64","v":0},{"$f":"D64/$F$50","v":0}]
[null,"Добавить "]
[null,"Итого",{"$f":"SUM(C62:C65)","v":0},{"$f":"SUM(D62:D65)","v":0},{"$f":"SUM(E62:E65)","v":0},{"$f":"E66/$F$50/C66","v":{"$error":"#DIV/0!"}}]
["3","Ремонтный цех"]
["3.1",null,null,null,{"$f":"D68*C68","v":0},{"$f":"D68/$F$50","v":0}]
["3.2",null,null,null,{"$f":"D69*C69","v":0},{"$f":"D69/$F$50","v":0}]
[null,"Добавить "]
[null,"Итого",{"$f":"SUM(C67:C70)","v":0},{"$f":"SUM(D67:D70)","v":0},{"$f":"SUM(E67:E70)","v":0},{"$f":"E71/$F$50/C71","v":{"$error":"#DIV/0!"}}]
["4","Цех водоснабжения"]
["4.1","Тракторист",1,15184,{"$f":"D73*C73","v":15184},{"$f":"D73/$F$50","v":1.8000545327374251}]
["4.2","Экскаваторщик",1,15184,{"$f":"D74*C74","v":15184},{"$f":"D74/$F$50","v":1.8000545327374251}]
["4.3","Слесарь",2,15184,{"$f":"D75*C75","v":30368},{"$f":"D75/$F$50","v":1.8000545327374251},"О"]
["4.4","Контролер",0.5,9448,{"$f":"D76*C76","v":4724},{"$f":"D76/$F$50","v":1.1200550069351416},"О"]
[null,"Добавить "]
[null,"Итого",{"$f":"SUM(C72:C77)","v":4.5},{"$f":"SUM(D72:D77)","v":55000},{"$f":"SUM(E72:E77)","v":65460},{"$f":"E78/$F$50/C78","v":1.7244990298705047}]
["5","Цех водоотведения"]
["5.1",null,null,null,{"$f":"D80*C80","v":0},{"$f":"D80/$F$50","v":0}]
["5.2",null,null,null,{"$f":"D81*C81","v":0},{"$f":"D81/$F$50","v":0}]
[null,"Добавить "]
[null,"Итого",{"$f":"SUM(C79:C82)","v":0},{"$f":"SUM(D79:D82)","v":0},{"$f":"SUM(E79:E82)","v":0},{"$f":"E83/$F$50/C83","v":{"$error":"#DIV/0!"}}]
[]
["Руководитель организации    ____________________________________"]
[]
["Ответственный за составление формы   ______________________________________"]
[null,null,"МП"]
[]
[null,null,null,null,"Приложение И"]
["Расчет нормативной численности *"]
[]
["№ п/п","наименование функций (отделы, участки)","на предпри-ятии","перечень должностей, професиий","норматив, диапазон","нормативная численность","фактическая численность"]
[1,"Водопровод 32,15км",null,null,0.2,"32,15*0,2=     6,43"]
[2,null,null,"Слесарь АВР",null,2,2]
["3",null,null,"Экскаваторщик",null,2,1,"О"]
["4",null,null,"Тракторист",null,2,1,"О"]
["5",null,null,"эл газ сварщик",null,0.43,0,"О"]
["6","Приборы учета воды частного сектора",null,null,"1чел/400аб","639аб/400=      1,598",null,"О"]
["7","Приборы учета предприятий, организаций",null,null,"1чел/300аб","10/300=        0,033",null,"О"]
["8","При отсутствии приборов учета воды:",null,null,null,null,null,"О"]
["9","жилые дома частного сектора",null,null,"1чел/600аб","0/600=0",null,"О"]
["10","предприятия, организации",null,null,"1чел/500аб","0/500=0",null,"О"]
["11",null,null,"Контролер",null,1.631,0.5,"О"]
["12","Абон отдел  732абонента",null,"техник абон отдела","3чел/1000аб",2,0,"О"]
["13","Артскважины работающие 3шт",null,"электромонтёр ","1чел/1артск",3,0,"О"]
["14","Склад цеховой",null,"Кладовщик ",1,1,0,"О"]
["15","Итого нормативная численность",null,null,null,14.061,null,"О"]
["16","Коэффициент системы водопровода",null,null,null,0.55000000000000004,null,"О"]
["17","Итого нормативная численность",null,null,null,7.74,4.5,"О"]
["18","Руководители:",null,null,null,null,null,"О"]
["19","Общее руководство",null,"Директор","2/100*6",0.12,1,"О"]
["20","Бухучет и финансы",null,"гл. бухгалтер","5/100*6",0.3,1,"О"]
["21","Комплектование и учет кадров",null,"инспектор по кадрам","1/100*6",0.06,0.25,"О"]
["22","Материально техническое снабжение",null,"экспедитор","1/100*6",0.06,null,"О"]
["23","Надзор и контроль за кап ремонтом",null,"гл инженер","1/100*6",0.06,null,"О"]
["24","Общее делопроизводство и хоз обслужив",null,"делопроизводитель","1/100*6",0.06,0.25,"О"]
["25","Оргтехэксплутация систем водоснабжения",null,"гл инженер","4/100*6",0.24,null,"О"]
["26","Охрана окружающей  среды",null,"эколог","1/100*6",0.06,null,"О"]
["27","Правовое обслуживание",null,"юрист","1/100*6",0.06,null,"О"]
["28","Тех обслуживание и внедре средсв  автом-и",null,"гл энергетик","4/100*6",0.24,null,"О"]
["29","Техникоэконом. Планирование",null,"экономист","2/100*6",0.12,null,"О"]
["30","Обслуживание программ и компьютер техн",null,"инженер- програм","1/8*1",0.125,null,"О"]
["31",null,null,"кассир",null,null,0.5,"О"]
["32","Нормативная численность руководителей",null,null,null,1.5049999999999999,2,"О"]
["33","Всего нормативная численность  персонала",null,null,null,9.2449999999999992,7,"О"]
[null,"Добавить "]
["*заполняется в соответствии с Приказом Гос. Комитета РФ по строительной, архитектурной и жилищной политике от 23.03.1999 № 66"]
[]
["Руководитель организации    ____________________________________"]
[]
["Ответственный за составление формы   ______________________________________"]
[null,null,"МП"]

{"sheet":"Амортизация","index":20,"n_rows":59,"n_cols":11,"rows_kept":59,"cut":false,"hidden":false,"merged":[[3,8,4,8],[55,0,55,10],[57,0,57,10],[0,6,0,10],[1,0,1,10],[3,0,4,0],[3,1,4,1],[3,2,4,2],[3,3,3,4],[3,5,4,5]]}
[null,null,null,null,null,null,"Приложение 2.3"]
["Амортизация (водоснабжение)"]
[]
["№ п/п","Наименование","Ед. изм.",2014,null,"2014 факт РЭК",2015,2016,"2015 факт РЭК",2016,2016]
[null,null,null,"план","факт",null,"утверждено РЭК","факт ОКК",null,"план","утверждено РЭК"]
[1,2,3,4,5,"5*",6,7,"7*",8,"8*"]
[1,"Первоначальная (восстановительная) стоимость на начало периода"]
["1.1","Здания","тыс. руб.",null,null,null,null,593.59,null,null,144.86000000000001]
["1.2","Сооружения и передаточные устройства","тыс. руб.",null,null,null,null,3545.52]
["1.3","Машины и оборудование","тыс. руб.",null,null,null,null,2144.2199999999998]
["1.4","Транспорт","тыс. руб."]
["1.5","Прочее","тыс. руб.",null,null,null,null,16.899999999999999]
["2","Ввод основных фондов"]
["2.1","Здания","тыс. руб."]
["2.2","Сооружения и передаточные устройства","тыс. руб.",null,null,null,null,20166.740000000002]
["2.3","Машины и оборудование","тыс. руб."]
["2.4","Транспорт","тыс. руб."]
["2.5","Прочее","тыс. руб.",null,null,null,null,19]
["3","Выбытие основных фондов"]
["3.1","Здания","тыс. руб."]
["3.2","Сооружения и передаточные устройства","тыс. руб."]
["3.3","Машины и оборудование","тыс. руб."]
["3.4","Транспорт","тыс. руб."]
["3.5","Прочее","тыс. руб.",null,null,null,null,16.899999999999999]
["4","Первоначальная (восстановительная) стоимость на конец периода"]
["4.1","Здания","тыс. руб.",null,null,null,null,593.59]
["4.2","Сооружения и передаточные устройства","тыс. руб.",null,null,null,null,23712.26]
["4.3","Машины и оборудование","тыс. руб.",null,null,null,null,2144.2199999999998]
["4.4","Транспорт","тыс. руб."]
["4.5","Прочее","тыс. руб.",null,null,null,null,16.899999999999999]
["5","Среднегодовая стоимость"]
["5.1","Здания","тыс. руб.",null,null,null,null,593.59]
["5.2","Сооружения и передаточные устройства","тыс. руб.",null,null,null,null,3545.52]
["5.3","Машины и оборудование","тыс. руб.",null,null,null,null,2144.2199999999998]
["5.4","Транспорт","тыс. руб."]
["5.5","Прочее","тыс. руб.",null,null,null,null,8]
["6","Средняя норма амортизационных отчислений"]
["6.1","Здания","тыс. руб."]
["6.2","Сооружения и передаточные устройства","тыс. руб.",null,null,null,null,46.66]
["6.3","Машины и оборудование","тыс. руб.",null,null,null,null,12.69]
["6.4","Транспорт","тыс. руб."]
["6.5","Прочее","тыс. руб.",null,null,null,null,0.92]
["7","Сумма амортизационных отчислений","тыс. руб."]
["7.1","Здания","тыс. руб."]
["7.2","Сооружения и передаточные устройства","тыс. руб.",null,null,null,null,560.19000000000005]
["7.3","Машины и оборудование","тыс. руб.",null,null,null,null,152.32]
["7.4","Транспорт","тыс. руб."]
["7.5","Прочее","тыс. руб.",null,null,null,null,11]
["8","Переоценка на 31.12.ХХ"]
["8.1","Здания","тыс. руб."]
["8.2","Сооружения и передаточные устройства","тыс. руб."]
["8.3","Машины и оборудование","тыс. руб."]
["8.4","Транспорт","тыс. руб."]
["8.5","Прочее","тыс. руб."]
[]
["Руководитель организации    ____________________________________"]
[]
["Ответственный за составление формы   ______________________________________"]
[null,null,"МП"]

{"sheet":"Амортизация 2","index":21,"n_rows":221,"n_cols":17,"rows_kept":221,"cut":false,"hidden":false,"merged":[[217,0,217,15],[219,0,219,15],[220,11,220,15],[141,0,141,15],[143,0,143,15],[145,0,145,14],[72,11,72,15],[0,10,0,15],[144,11,144,15],[1,0,1,14],[73,0,73,14],[69,0,69,15],[71,0,71,15]]}
[null,null,null,null,null,null,null,null,null,null,"Приложение К "]
["Амортизация за 2014 год, тыс. руб."]
[]
["№ п/п","Группа основных средств","Cтоимость на начало периода на 01.01.2014 года","по данным РЭК","Ввод основных средств в 2014 году","по данным РЭК","Выбытие основных средств в 2014 году","по данным РЭК","Годовая норма амортизационных отчислений","по данным РЭК","Сумма начисленной амортизации за 2014 год","по данным РЭК","Стоимость на конец периода на 31.12.2014 года","по данным РЭК","Переоценка на период (указать год переоценки)","по данным РЭК"]
[1,"Холодное водоснабжение",null,null,null,null,null,null,null,null,{"$f":"SUM(K6,K9,K12,K15,K18)","v":0},{"$f":"SUM(L6,L9,L12,L15,L18)","v":0}]
["1.1","Здания",null,null,null,null,null,null,null,null,{"$f":"SUM(K7:K8)","v":0},{"$f":"SUM(L7:L8)","v":0}]
["1.1.1","объект "]
[null,"Добавить "]
["1.2","Сооружения и передаточные устройства",null,null,null,null,null,null,null,null,{"$f":"SUM(K10:K11)","v":0},{"$f":"SUM(L10:L11)","v":0}]
["1.2.1","объект "]
[null,"Добавить "]
["1.3","Машины и оборудование",null,null,null,null,null,null,null,null,{"$f":"SUM(K13:K14)","v":0},{"$f":"SUM(L13:L14)","v":0}]
["1.3.1","объект "]
[null,"Добавить "]
["1.4","Транспорт",null,null,null,null,null,null,null,null,{"$f":"SUM(K16:K17)","v":0},{"$f":"SUM(L16:L17)","v":0}]
["1.4.1","объект "]
[null,"Добавить "]
["1.5","Прочее",null,null,null,null,null,null,null,null,{"$f":"SUM(K19:K20)","v":0},{"$f":"SUM(L19:L20)","v":0}]
["1.5.1","объект "]
[null,"Добавить "]
[2,"Водоотведение",null,null,null,null,null,null,null,null,{"$f":"SUM(K22,K25,K28,K31,K34)","v":0},{"$f":"SUM(L22,L25,L28,L31,L34)","v":0}]
["2.1","Здания",null,null,null,null,null,null,null,null,{"$f":"SUM(K23:K24)","v":0},{"$f":"SUM(L23:L24)","v":0}]
["2.1.1","объект "]
[null,"Добавить "]
["2.2","Сооружения и передаточные устройства",null,null,null,null,null,null,null,null,{"$f":"SUM(K26:K27)","v":0},{"$f":"SUM(L26:L27)","v":0}]
["2.2.1","объект "]
[null,"Добавить "]
["2.3","Машины и оборудование",null,null,null,null,null,null,null,null,{"$f":"SUM(K29:K30)","v":0},{"$f":"SUM(L29:L30)","v":0}]
["2.3.1","объект "]
[null,"Добавить "]
["2.4","Транспорт",null,null,null,null,null,null,null,null,{"$f":"SUM(K32:K33)","v":0},{"$f":"SUM(L32:L33)","v":0}]
["2.4.1","объект "]
[null,"Добавить "]
["2.5","Прочее",null,null,null,null,null,null,null,null,{"$f":"SUM(K35:K36)","v":0},{"$f":"SUM(L35:L36)","v":0}]
["2.5.1","объект "]
[null,"Добавить "]
[3,"Общецеховые основные средства",null,null,null,null,null,null,null,null,{"$f":"SUM(K38,K41,K44,K47,K50)","v":0},{"$f":"SUM(L38,L41,L44,L47,L50)","v":0}]
["3.1","Здания",null,null,null,null,null,null,null,null,{"$f":"SUM(K39:K40)","v":0},{"$f":"SUM(L39:L40)","v":0}]
["3.1.1","объект "]
[null,"Добавить "]
["3.2","Сооружения и передаточные устройства",null,null,null,null,null,null,null,null,{"$f":"SUM(K42:K43)","v":0},{"$f":"SUM(L42:L43)","v":0}]
["3.2.1","объект "]
[null,"Добавить "]
["3.3","Машины и оборудование",null,null,null,null,null,null,null,null,{"$f":"SUM(K45:K46)","v":0},{"$f":"SUM(L45:L46)","v":0}]
["3.3.1","объект "]
[null,"Добавить "]
["3.4","Транспорт",null,null,null,null,null,null,null,null,{"$f":"SUM(K48:K49)","v":0},{"$f":"SUM(L48:L49)","v":0}]
["3.4.1","объект "]
[null,"Добавить "]
["3.5","Прочее",null,null,null,null,null,null,null,null,{"$f":"SUM(K51:K52)","v":0},{"$f":"SUM(L51:L52)","v":0}]
["3.5.1","объект "]
[null,"Добавить "]
[4,"Административные основные средства",null,null,null,null,null,null,null,null,{"$f":"SUM(K54,K57,K60,K63,K66)","v":0},{"$f":"SUM(L54,L57,L60,L63,L66)","v":0}]
["4.1","Здания",null,null,null,null,null,null,null,null,{"$f":"SUM(K55:K56)","v":0},{"$f":"SUM(L55:L56)","v":0}]
["4.1.1","объект "]
[null,"Добавить "]
["4.2","Сооружения и передаточные устройства",null,null,null,null,null,null,null,null,{"$f":"SUM(K58:K59)","v":0},{"$f":"SUM(L58:L59)","v":0}]
["4.2.1","объект "]
[null,"Добавить "]
["4.3","Машины и оборудование",null,null,null,null,null,null,null,null,{"$f":"SUM(K61:K62)","v":0},{"$f":"SUM(L61:L62)","v":0}]
["4.3.1","объект "]
[null,"Добавить "]
["4.4","Транспорт",null,null,null,null,null,null,null,null,{"$f":"SUM(K64:K65)","v":0},{"$f":"SUM(L64:L65)","v":0}]
["4.4.1","объект "]
[null,"Добавить "]
["4.5","Прочее",null,null,null,null,null,null,null,null,{"$f":"SUM(K67:K68)","v":0},{"$f":"SUM(L67:L68)","v":0}]
["4.5.1","объект "]
[null,"Добавить "]
[]
["Руководитель организации    ____________________________________"]
[]
["Ответственный за составление формы   ______________________________________"]
[null,null,null,null,null,null,null,null,null,null,null,"Приложение Л"]
["Амортизация, факт за 2016 год, тыс. руб."]
[]
["№ п/п","Группа основных средств","Cтоимость на начало периода на 01.01.2016 года","по данным РЭК","Ввод основных средств в 2016 году","по данным РЭК","Выбытие основных средств в 2016 году","по данным РЭК","Годовая норма амортизационных отчислений","по данным РЭК","Сумма начисленной амортизации за 2016 год","по данным РЭК","Стоимость на конец периода на 31.12.2016 года","по данным РЭК","Переоценка на период (указать год переоценки)","по данным РЭК"]
[1,"Холодное водоснабжение",null,null,null,null,null,null,null,null,{"$f":"SUM(K78,K81,K84,K87,K90)","v":0},{"$f":"SUM(L78,L81,L84,L87,L90)","v":705.04}]
["1.1","Здания",null,null,null,null,null,null,null,null,{"$f":"SUM(K79:K80)","v":0},{"$f":"SUM(L79:L80)","v":705.04}]
["1.1.1","объект ",null,null,null,null,null,null,null,null,null,705.04]
[null,"Добавить "]
["1.2","Сооружения и передаточные устройства",null,null,null,null,null,null,null,null,{"$f":"SUM(K82:K83)","v":0},{"$f":"SUM(L82:L83)","v":0}]
["1.2.1","объект "]
[null,"Добавить "]
["1.3","Машины и оборудование",null,null,null,null,null,null,null,null,{"$f":"SUM(K85:K86)","v":0},{"$f":"SUM(L85:L86)","v":0}]
["1.3.1","объект "]
[null,"Добавить "]
["1.4","Транспорт",null,null,null,null,null,null,null,null,{"$f":"SUM(K88:K89)","v":0},{"$f":"SUM(L88:L89)","v":0}]
["1.4.1","объект "]
[null,"Добавить "]
["1.5","Прочее",null,null,null,null,null,null,null,null,{"$f":"SUM(K91:K92)","v":0},{"$f":"SUM(L91:L92)","v":0}]
["1.5.1","объект "]
[null,"Добавить "]
[2,"Водоотведение",null,null,null,null,null,null,null,null,{"$f":"SUM(K94,K97,K100,K103,K106)","v":0},{"$f":"SUM(L94,L97,L100,L103,L106)","v":0}]
["2.1","Здания",null,null,null,null,null,null,null,null,{"$f":"SUM(K95:K96)","v":0},{"$f":"SUM(L95:L96)","v":0}]
["2.1.1","объект "]
[null,"Добавить "]
["2.2","Сооружения и передаточные устройства",null,null,null,null,null,null,null,null,{"$f":"SUM(K98:K99)","v":0},{"$f":"SUM(L98:L99)","v":0}]
["2.2.1","объект "]
[null,"Добавить "]
["2.3","Машины и оборудование",null,null,null,null,null,null,null,null,{"$f":"SUM(K101:K102)","v":0},{"$f":"SUM(L101:L102)","v":0}]
["2.3.1","объект "]
[null,"Добавить "]
["2.4","Транспорт",null,null,null,null,null,null,null,null,{"$f":"SUM(K104:K105)","v":0},{"$f":"SUM(L104:L105)","v":0}]
["2.4.1","объект "]
[null,"Добавить "]
["2.5","Прочее",null,null,null,null,null,null,null,null,{"$f":"SUM(K107:K108)","v":0},{"$f":"SUM(L107:L108)","v":0}]
["2.5.1","объект "]
[null,"Добавить "]
[3,"Общецеховые основные средства",null,null,null,null,null,null,null,null,{"$f":"SUM(K110,K113,K116,K119,K122)","v":0},{"$f":"SUM(L110,L113,L116,L119,L122)","v":0}]
["3.1","Здания",null,null,null,null,null,null,null,null,{"$f":"SUM(K111:K112)","v":0},{"$f":"SUM(L111:L112)","v":0}]
["3.1.1","объект "]
[null,"Добавить "]
["3.2","Сооружения и передаточные устройства",null,null,null,null,null,null,null,null,{"$f":"SUM(K114:K115)","v":0},{"$f":"SUM(L114:L115)","v":0}]
["3.2.1","объект "]
[null,"Добавить "]
["3.3","Машины и оборудование",null,null,null,null,null,null,null,null,{"$f":"SUM(K117:K118)","v":0},{"$f":"SUM(L117:L118)","v":0}]
["3.3.1","объект "]
[null,"Добавить "]
["3.4","Транспорт",null,null,null,null,null,null,null,null,{"$f":"SUM(K120:K121)","v":0},{"$f":"SUM(L120:L121)","v":0}]
["3.4.1","объект "]
[null,"Добавить "]
["3.5","Прочее",null,null,null,null,null,null,null,null,{"$f":"SUM(K123:K124)","v":0},{"$f":"SUM(L123:L124)","v":0}]
["3.5.1","объект "]
[null,"Добавить "]
[4,"Административные основные средства",null,null,null,null,null,null,null,null,{"$f":"SUM(K126,K129,K132,K135,K138)","v":0},{"$f":"SUM(L126,L129,L132,L135,L138)","v":0}]
["4.1","Здания",null,null,null,null,null,null,null,null,{"$f":"SUM(K127:K128)","v":0},{"$f":"SUM(L127:L128)","v":0}]
["4.1.1","объект "]
[null,"Добавить "]
["4.2","Сооружения и передаточные устройства",null,null,null,null,null,null,null,null,{"$f":"SUM(K130:K131)","v":0},{"$f":"SUM(L130:L131)","v":0}]
["4.2.1","объект "]
[null,"Добавить "]
["4.3","Машины и оборудование",null,null,null,null,null,null,null,null,{"$f":"SUM(K133:K134)","v":0},{"$f":"SUM(L133:L134)","v":0}]
["4.3.1","объект "]
[null,"Добавить "]
["4.4","Транспорт",null,null,null,null,null,null,null,null,{"$f":"SUM(K136:K137)","v":0},{"$f":"SUM(L136:L137)","v":0}]
["4.4.1","объект "]
[null,"Добавить "]
["4.5","Прочее",null,null,null,null,null,null,null,null,{"$f":"SUM(K139:K140)","v":0},{"$f":"SUM(L139:L140)","v":0}]
["4.5.1","объект "]
[null,"Добавить "]
[]
["Руководитель организации    ____________________________________"]
[]
["Ответственный за составление формы   ______________________________________"]
[null,null,"МП",null,null,null,null,null,null,null,null,"Приложение М"]
["Амортизация, утвержденная за 2016 год, тыс. руб."]
[]
["№ п/п","Группа основных средств","Cтоимость на начало периода на 01.01.2016 года","по данным РЭК","Ввод основных средств в 2016 году","по данным РЭК","Выбытие основных средств в 2016 году","по данным РЭК","Годовая норма амортизационных отчислений","по данным РЭК","Сумма начисленной амортизации за 2016 год","утверждено за 2016","Стоимость на конец периода на 31.12.2016 года","по данным РЭК","Переоценка на период (указать год переоценки)","по данным РЭК"]
[1,"Холодное водоснабжение",null,null,null,null,null,null,null,null,{"$f":"SUM(K150,K153,K157,K160,K163)","v":0},{"$f":"SUM(L150,L153,L157,L160,L163)","v":0}]
["1.1","Здания",null,null,null,null,null,null,null,null,{"$f":"SUM(K151:K152)","v":0},{"$f":"SUM(L151:L152)","v":0}]
["1.1.1","объект "]
[null,"Добавить "]
["1.2","Сооружения и передаточные устройства",null,null,null,null,null,null,null,null,{"$f":"SUM(K154:K156)","v":0},{"$f":"SUM(L154:L156)","v":0}]
["1.2.1","Водопровод подводящий  от артскважины№7261  4,68км",0,null,8004.85,null,null,null,222.36,null,null,null,8004.85]
["1.2.2","Водопровод подводящий от артскважины№7288 2374,44 мобъект ",0,null,12161.89,null,null,null,337.83,null,null,null,12161.89,null,null,null,"О"]
[null,"Добавить "]
["1.3","Машины и оборудование",null,null,null,null,null,null,null,null,{"$f":"SUM(K158:K159)","v":0},{"$f":"SUM(L158:L159)","v":0}]
["1.3.1","Экскаватор-погрузчик",1050.2,null,null,null,null,null,144.85]
[null,"Добавить "]
["1.4","Транспорт",null,null,null,null,null,null,null,null,{"$f":"SUM(K161:K162)","v":0},{"$f":"SUM(L161:L162)","v":0}]
["1.4.1","объект "]
[null,"Добавить "]
["1.5","Прочее",null,null,null,null,null,null,null,null,{"$f":"SUM(K164:K165)","v":0},{"$f":"SUM(L164:L165)","v":0}]
["1.5.1","объект ",16.899999999999999,null,19,null,null,null,null,null,null,null,19]
[null,"Добавить "]
[2,"Водоотведение",null,null,null,null,null,null,null,null,{"$f":"SUM(K167,K170,K173,K176,K179)","v":0},{"$f":"SUM(L167,L170,L173,L176,L179)","v":0}]
["2.1","Здания",null,null,null,null,null,null,null,null,{"$f":"SUM(K168:K169)","v":0},{"$f":"SUM(L168:L169)","v":0}]
["2.1.1","объект "]
[null,"Добавить "]
["2.2","Сооружения и передаточные устройства",null,null,null,null,null,null,null,null,{"$f":"SUM(K171:K172)","v":0},{"$f":"SUM(L171:L172)","v":0}]
["2.2.1","объект "]
[null,"Добавить "]
["2.3","Машины и оборудование",null,null,null,null,null,null,null,null,{"$f":"SUM(K174:K175)","v":0},{"$f":"SUM(L174:L175)","v":0}]
["2.3.1","объект "]
[null,"Добавить "]
["2.4","Транспорт",null,null,null,null,null,null,null,null,{"$f":"SUM(K177:K178)","v":0},{"$f":"SUM(L177:L178)","v":0}]
["2.4.1","объект "]
[null,"Добавить "]
["2.5","Прочее",null,null,null,null,null,null,null,null,{"$f":"SUM(K180:K181)","v":0},{"$f":"SUM(L180:L181)","v":0}]
["2.5.1","объект "]
[null,"Добавить "]
[3,"Общецеховые основные средства",null,null,null,null,null,null,null,null,{"$f":"SUM(K183,K186,K189,K193,K196)","v":0},{"$f":"SUM(L183,L186,L189,L193,L196)","v":0}]
["3.1","Здания",null,null,null,null,null,null,null,null,{"$f":"SUM(K184:K185)","v":0},{"$f":"SUM(L184:L185)","v":0}]
["3.1.1","объект "]
[null,"Добавить "]
["3.2","Сооружения и передаточные устройства",null,null,null,null,null,null,null,null,{"$f":"SUM(K187:K188)","v":0},{"$f":"SUM(L187:L188)","v":0}]
["3.2.1","объект "]
[null,"Добавить "]
["3.3","Машины и оборудование",null,null,null,null,null,null,null,null,{"$f":"SUM(K190:K192)","v":0},{"$f":"SUM(L190:L192)","v":0}]
["3.3.1","компрессор Magnus ",0,null,9.57,null,null,null,3.99,null,null,null,9.57]
["3.3.2","бензопила",0,null,9.42,null,null,null,3.93,null,null,null,9.42,null,null,null,"О"]
[null,"Добавить "]
["3.4","Транспорт",null,null,null,null,null,null,null,null,{"$f":"SUM(K194:K195)","v":0},{"$f":"SUM(L194:L195)","v":0}]
["3.4.1","объект "]
[null,"Добавить "]
["3.5","Прочее",null,null,null,null,null,null,null,null,{"$f":"SUM(K197:K198)","v":0},{"$f":"SUM(L197:L198)","v":0}]
["3.5.1","объект "]
[null,"Добавить "]
[4,"Административные основные средства",null,null,null,null,null,null,null,null,{"$f":"SUM(K200,K204,K207,K211,K214)","v":0},{"$f":"SUM(L200,L204,L207,L211,L214)","v":0}]
["4.1","Здания",null,null,null,null,null,null,null,null,{"$f":"SUM(K201:K203)","v":0},{"$f":"SUM(L201:L203)","v":0}]
["4.1.1"]
["4.1.2",null,null,null,null,null,null,null,null,null,null,null,null,null,null,null,"О"]
[null,"Добавить "]
["4.2","Сооружения и передаточные устройства",null,null,null,null,null,null,null,null,{"$f":"SUM(K205:K206)","v":0},{"$f":"SUM(L205:L206)","v":0}]
["4.2.1","объект "]
[null,"Добавить "]
["4.3","Машины и оборудование",null,null,null,null,null,null,null,null,{"$f":"SUM(K208:K210)","v":0},{"$f":"SUM(L208:L210)","v":0}]
["4.3.1","компьютер",24.84,null,null,null,null,null,5.69,null,null,null,24.84]
["4.3.2","принтер",0,null,8,null,null,null,1.77,null,null,null,8,null,null,null,"О"]
[null,"Добавить "]
["4.4","Транспорт",null,null,null,null,null,null,null,null,{"$f":"SUM(K212:K213)","v":0},{"$f":"SUM(L212:L213)","v":0}]
["4.4.1","объект "]
[null,"Добавить "]
["4.5","Прочее",null,null,null,null,null,null,null,null,{"$f":"SUM(K215:K216)","v":0},{"$f":"SUM(L215:L216)","v":0}]
["4.5.1","объект "]
[null,"Добавить "]
[]
["Руководитель организации    ____________________________________"]
[]
["Ответственный за составление формы   ______________________________________"]
[null,null,"МП"]

{"sheet":"Услуги сторонних организаций","index":22,"n_rows":16,"n_cols":14,"rows_kept":16,"cut":false,"hidden":false,"merged":[[0,8,0,12],[1,0,1,12],[3,0,4,0],[3,1,4,1],[3,4,4,4],[3,5,3,6],[3,7,4,7],[9,1,9,3],[12,0,12,12],[14,0,14,12],[3,10,4,10],[3,2,4,2],[3,3,4,3]]}
[null,null,null,null,null,null,null,null,"Приложение Н "]
["Расходы на оплату работ и услуг, выполняемых сторонними организациями и индивидуальными предпринимателями, связанные с эксплуатацией централизованных систем водоснабжения, либо объектов в составе таких систем"]
[]
["№ п/п","Наименование поставщика","Номер и дата договора","вид услуги","Ед. изм.",2014,null,"2014 факт РЭК",2015,2016,"2016 факт РЭК",2016,2016]
[null,null,null,null,null,"план","факт",null,"утверждено РЭК","факт ОКК",null,"план","утверждено РЭК"]
[1,2,3,4,4,6,7,"7*",8,9,"9*",10,"10*"]
[1,"ООО \"ГИГИЕНА\"","Договор б/н от 12.01.2015","Дератизация","тыс. руб.",null,null,null,null,36.18,36.18,null,22.09]
["2","ООО\"Кубаньводкомплекс\"","Договор б/н от 15.01.2016","Расчет потерь воды","тыс. руб.",null,null,null,null,7.96,7.9569999999999999,null,null,"О"]
[null,"Добавить "]
[null,"Итого",null,null,"тыс. руб.",{"$f":"SUM(F7:F9)","v":0},0,0,0,44.14,44.137,0,22.09]
[]
[]
["Руководитель организации    ____________________________________"]
[]
["Ответственный за составление формы   ______________________________________"]
[null,null,"МП"]

{"sheet":"Цех и Администр расх","index":23,"n_rows":115,"n_cols":21,"rows_kept":115,"cut":false,"hidden":false,"merged":[[55,10,55,11],[102,0,103,3],[104,0,105,3],[106,0,107,3],[106,4,106,6],[107,4,107,6],[94,0,95,3],[62,10,62,11],[63,10,63,11],[64,10,64,11],[56,10,56,11],[57,10,57,11],[58,10,58,11],[59,10,59,11],[60,10,60,11],[61,10,61,11],[66,10,66,11],[9,10,9,11],[102,4,102,6],[103,4,103,6],[104,4,104,6],[105,4,105,6],[88,4,88,6],[94,4,95,6],[96,0,96,6],[97,0,97,3],[97,4,97,6],[98,4,98,6],[99,4,99,6],[81,4,81,6],[82,4,82,6],[83,4,83,6],[87,4,87,6],[85,4,85,6],[86,4,86,6],[100,0,101,3],[38,10,38,11],[50,10,50,11],[51,10,51,11],[52,10,52,11],[53,10,53,11],[46,10,46,11],[47,10,47,11],[48,10,48,11],[49,10,49,11],[94,12,95,12],[109,0,109,14],[75,0,76,3],[75,4,76,6],[77,0,77,6],[78,0,78,3],[79,0,80,3],[81,0,82,3],[78,4,78,6],[100,4,100,6],[87,0,88,3],[90,0,90,14],[79,4,79,6],[80,4,80,6],[101,4,101,6],[92,0,92,14],[94,7,94,8],[94,9,95,9],[98,0,99,3],[54,10,54,11],[0,8,0,12],[25,10,25,11],[26,10,26,11],[27,10,27,11],[32,10,32,11],[22,0,22,14],[3,10,3,11],[4,10,4,11],[10,10,10,11],[11,10,11,11],[20,9,20,12],[31,10,31,11],[24,10,24,11],[1,0,1,14],[13,10,13,11],[16,0,16,12],[18,0,18,12],[28,10,28,11],[30,10,30,11],[29,10,29,11],[5,10,5,11],[6,10,6,11],[7,10,7,11],[8,10,8,11],[113,0,113,14],[111,0,111,14],[72,10,72,14],[75,7,75,8],[33,10,33,11],[73,0,73,14],[35,10,35,11],[36,10,36,11],[75,12,76,12],[45,10,45,11],[85,0,86,3],[84,4,84,6],[44,10,44,11],[39,10,39,11],[41,10,41,11],[42,10,42,11],[43,10,43,11],[75,9,76,9],[40,10,40,11],[68,0,68,12],[70,0,70,12],[37,10,37,11],[34,10,34,11],[83,0,84,3]]}
[null,null,null,null,null,null,null,null,"Приложение О "]
["Расчет цеховых расходов (сч. 25), учтенных при расчете тарифа на холодную воду на 2016 год*"]
[]
["Виды расходов","ед. изм.","факт 2013 года","план 2014 года","факт 2014 года","факт 2014 РЭК","утверждено на 2015 по данным РЭК"," факт 2016 года","План на 2016 год, всего","Утверждено на 2016 (всего) по данным РЭК","в том числе на услуги водоснабжения",null,"водоснабжение по данным РЭК"]
["Распределяемые цеховые расходы"]
["Расходы на оплату труда и отчисления на социальные нужды Общецехового персонала, в том числе налоги и сборы","тыс. руб.",{"$f":"C7+C8","v":0},{"$f":"D7+D8","v":0},0,0,0,0,0,0,{"$f":"SUM(K7:L8)","v":{"$error":"#DIV/0!"}},null,{"$f":"SUM(M7:M8)","v":0}]
["расходы на оплату труда общецехового персонала","тыс. руб.",null,{"$f":"'Оплата труда'!D144","v":0},{"$f":"'Оплата труда'!E144","v":0},{"$f":"'Оплата труда'!F144","v":0},{"$f":"'Оплата труда'!G144","v":0},{"$f":"'Оплата труда'!H144","v":0},{"$f":"'Оплата труда'!J144","v":0},{"$f":"'Оплата труда'!K144","v":0},{"$f":"I7*$N$81%","v":{"$error":"#DIV/0!"}},null,{"$f":"J7*$O$81%","v":0}]
["отчисления на социальные нужды общецехового персонала, в том числе налоги и сборы","тыс. руб.",null,{"$f":"D7*'Оплата труда'!D145%","v":0},{"$f":"E7*'Оплата труда'!E145%","v":0},{"$f":"F7*'Оплата труда'!F145%","v":0},{"$f":"G7*'Оплата труда'!G145%","v":0},{"$f":"H7*'Оплата труда'!H145%","v":0},{"$f":"I7*'Оплата труда'!J145%","v":0},{"$f":"J7*'Оплата труда'!K145%","v":0},{"$f":"I8*$N$81%","v":{"$error":"#DIV/0!"}},null,{"$f":"J8*$O$81%","v":0}]
["численность общецехового персонала","чел.",null,{"$f":"'Оплата труда'!D119","v":0},{"$f":"'Оплата труда'!E119","v":0},{"$f":"'Оплата труда'!F119","v":0},{"$f":"'Оплата труда'!G119","v":0},{"$f":"'Оплата труда'!H119","v":0},{"$f":"'Оплата труда'!J119","v":0},{"$f":"'Оплата труда'!K119","v":0},{"$f":"I9*$N$81%","v":{"$error":"#DIV/0!"}},null,{"$f":"J9*$O$81%","v":0}]
["среднемесячная оплата труда общецехового персонала","руб./чел. в мес.",{"$f":"C7/C9/12*1000","v":{"$error":"#DIV/0!"}},{"$f":"D7/D9/12*1000","v":{"$error":"#DIV/0!"}},{"$error":"#DIV/0!"},{"$error":"#DIV/0!"},{"$error":"#DIV/0!"},{"$error":"#DIV/0!"},{"$error":"#DIV/0!"},{"$error":"#DIV/0!"},{"$f":"K7/K9/12*1000","v":{"$error":"#DIV/0!"}},null,{"$f":"M7/M9/12*1000","v":{"$error":"#DIV/0!"}}]
["Амортизация","тыс. руб.",null,null,null,null,null,null,{"$f":"'Амортизация 2'!K182","v":0},{"$f":"'Амортизация 2'!L182","v":0},{"$f":"I11*$N$81%","v":{"$error":"#DIV/0!"}},null,{"$f":"J11*$O$81%","v":0}]
["наименование расходов","тыс. руб.",null,null,null,null,null,null,null,null,{"$f":"I12*$N$81%","v":{"$error":"#DIV/0!"}},null,{"$f":"J12*$O$81%","v":0}]
["Добавить "]
["ИТОГО расходов","тыс. руб.",{"$f":"C6+C11+SUM(C12:C13)","v":0},0,0,0,0,0,0,0,{"$f":"K6+SUM(K11:L13)","v":{"$error":"#DIV/0!"}},null,{"$f":"M6+M11+SUM(M12:M13)","v":0}]
[]
[]
["Руководитель организации    ____________________________________"]
[]
["Ответственный за составление формы   ______________________________________"]
[null,null,"МП"]
[null,null,null,null,null,null,null,null,null,"Приложение П"]
[]
["Расчет административных расходов (сч. 26), учтенных при расчете тарифа на холодную воду на 2016 год**"]
[]
["Виды расходов","ед. изм.","факт 2013 года","план 2014 года","факт 2014 года","факт 2014 РЭК","утверждено на 2015 по данным РЭК"," факт 2016 года","План на 2016 год, всего","Утверждено на 2016 (всего) по данным РЭК","в том числе на услуги водоснабжения",null,"водоснабжение по данным РЭК"]
["Расходы на оплату работ и услуг, выполняемых сторонними организациями","тыс. руб.",{"$f":"SUM(C27:C32)","v":0},0,0,0,0,18.52,18.52,42.940000000000005,{"$f":"SUM(K27:L32)","v":{"$error":"#DIV/0!"}},null,{"$f":"SUM(M27:M32)","v":18.069064805266915}]
["услуги связи и интернет","тыс. руб.",null,null,null,null,null,18.52,18.52,null,{"$f":"I27*$N$100%","v":{"$error":"#DIV/0!"}},null,{"$f":"J27*$O$100%","v":0}]
["юридические услуги","тыс. руб.",null,null,null,null,null,null,null,null,{"$error":"#DIV/0!"},null,0]
["аудиторские услуги","тыс. руб.",null,null,null,null,null,null,null,null,{"$error":"#DIV/0!"},null,0]
["консультационные услуги","тыс. руб.",null,null,null,null,null,null,null,41.45,{"$error":"#DIV/0!"},null,17.442075830887603]
["услуги по вневедомственной охране объектов и территорий","тыс. руб.",null,null,null,null,null,null,null,null,{"$error":"#DIV/0!"},null,0]
["информационные услуги","тыс. руб.",null,null,null,null,null,null,null,1.49,{"$error":"#DIV/0!"},null,0.62698897437931311]
["Расходы на оплату труда и отчисления на социальные нужды АУП, в том числе налоги и сборы","тыс. руб.",{"$f":"C34+C35","v":0},0,0,0,0,952.92000000000007,952.91995999999995,891.90905999999995,{"$error":"#DIV/0!"},null,{"$f":"M34+M35","v":375.31352132148811}]
["расходы на оплату труда АУП","тыс. руб.",null,{"$f":"'Оплата труда'!D115","v":0},{"$f":"'Оплата труда'!E115","v":0},{"$f":"'Оплата труда'!F115","v":0},{"$f":"'Оплата труда'!G115","v":0},{"$f":"'Оплата труда'!H115","v":732.73},{"$f":"'Оплата труда'!I115","v":732.72996000000001},{"$f":"'Оплата труда'!K115","v":685.03},{"$f":"I34*$N$100%","v":{"$error":"#DIV/0!"}},null,{"$f":"J34*$O$100%","v":288.25923296581266}]
["отчисления на социальные нужды АУП, в том числе налоги и сборы","тыс. руб.",null,{"$f":"D34*'Оплата труда'!D116%","v":0},{"$f":"E34*'Оплата труда'!E116%","v":0},{"$f":"F34*'Оплата труда'!F116%","v":0},{"$f":"G34*'Оплата труда'!G116%","v":0},220.19,220.19,{"$f":"J34*'Оплата труда'!K116%","v":206.87905999999998},{"$f":"I35*$N$100%","v":{"$error":"#DIV/0!"}},null,{"$f":"J35*$O$100%","v":87.054288355675425}]
["численность АУП ","чел.",null,{"$f":"'Оплата труда'!D90","v":0},{"$f":"'Оплата труда'!E90","v":0},{"$f":"'Оплата труда'!F90","v":0},{"$f":"'Оплата труда'!G90","v":0},{"$f":"'Оплата труда'!H90","v":3},{"$f":"'Оплата труда'!I90","v":3},{"$f":"'Оплата труда'!K90","v":3.1844169},{"$f":"I36*$N$100%","v":{"$error":"#DIV/0!"}},null,{"$f":"J36*$O$100%","v":1.3399961651860079}]
["среднемесячная оплата труда АУП","руб./чел. в мес.",{"$f":"C34/C36/12*1000","v":{"$error":"#DIV/0!"}},{"$error":"#DIV/0!"},{"$error":"#DIV/0!"},{"$error":"#DIV/0!"},{"$error":"#DIV/0!"},20353.611111111109,20353.61,17926.620516721076,{"$f":"K34/K36/12*1000","v":{"$error":"#DIV/0!"}},null,{"$f":"M34/M36/12*1000","v":17926.620516721076}]
["Арендная плата, лизинговые платежи, не связанные с арендой (лизингом) централизованных систем водоснабжения либо объектов, входящих в состав таких систем","тыс. руб.",null,null,null,null,null,14.4,14.4,14.4,{"$f":"I38*N100%","v":{"$error":"#DIV/0!"}},null,{"$f":"J38*O100%","v":6.0594907591020872}]
["Служебные командировки","тыс. руб.",null,null,null,null,null,0,0,null,{"$f":"I39*N100%","v":{"$error":"#DIV/0!"}},null,{"$f":"J39*O100%","v":0}]
["Обучение персонала","тыс. руб.",null,null,null,null,null,14,14,null,{"$f":"I40*N100%","v":{"$error":"#DIV/0!"}},null,{"$f":"J40*O100%","v":0}]
["Страхование производственных объектов","тыс. руб.",null,null,null,null,null,8.75,8.75,3.9,{"$f":"I41*N100%","v":{"$error":"#DIV/0!"}},null,{"$f":"J41*O100%","v":1.6411120805901485}]
["Прочие административные расходы","тыс. руб.",{"$f":"SUM(C43:C66)","v":0},0,0,0,0,667.17000000000007,667.17000000000007,55.41,{"$f":"SUM(K43:L66)","v":{"$error":"#DIV/0!"}},null,{"$f":"SUM(M43:M66)","v":23.316415483461569}]
["расходы на амортизацию непроизводственных активов","тыс. руб.",null,null,null,null,null,11.6,11.6,null,{"$f":"I43*$N$100%","v":{"$error":"#DIV/0!"}},null,{"$f":"J43*$O$100%","v":0}]
["расходы по охране объектов и территорий","тыс. руб.",null,null,null,null,null,0,0,null,{"$f":"I44*$N$100%","v":{"$error":"#DIV/0!"}},null,{"$f":"J44*$O$100%","v":0}]
["амортизация","тыс. руб.",null,null,null,null,null,15.38,15.38,{"$f":"'Амортизация 2'!L199","v":0},{"$f":"I45*$N$100%","v":{"$error":"#DIV/0!"}},null,{"$f":"J45*$O$100%","v":0}]
["ГСМ автомобиль","тыс. руб.",null,null,null,null,null,95.57,95.57,55.41,{"$f":"I46*$N$100%","v":{"$error":"#DIV/0!"}},null,{"$f":"J46*$O$100%","v":23.316415483461569}]
["Запчасти автомобиль","тыс. руб.",null,null,null,null,null,35.86,35.86,null,{"$f":"I47*'Цех и Администр расх'!$N$100%","v":{"$error":"#DIV/0!"}},null,{"$f":"J47*'Цех и Администр расх'!$O$100%","v":0},"О",null,null,null,null,null,null,"1"]
["Запчасти коса КРН","тыс. руб.",null,null,null,null,null,93.27,93.27,null,{"$f":"I48*'Цех и Администр расх'!$N$100%","v":{"$error":"#DIV/0!"}},null,{"$f":"J48*'Цех и Администр расх'!$O$100%","v":0},"О",null,null,null,null,null,null,"2"]
["Запчасти мотокоса ","тыс. руб.",null,null,null,null,null,30.54,30.54,null,{"$f":"I49*'Цех и Администр расх'!$N$100%","v":{"$error":"#DIV/0!"}},null,{"$f":"J49*'Цех и Администр расх'!$O$100%","v":0},"О",null,null,null,null,null,null,"3"]
["Запчасти трактор","тыс. руб.",null,null,null,null,null,156.22,156.22,null,{"$f":"I50*'Цех и Администр расх'!$N$100%","v":{"$error":"#DIV/0!"}},null,{"$f":"J50*'Цех и Администр расх'!$O$100%","v":0},"О",null,null,null,null,null,null,"4"]
["Запчасти экскаватор","тыс. руб.",null,null,null,null,null,134.12,134.12,null,{"$f":"I51*'Цех и Администр расх'!$N$100%","v":{"$error":"#DIV/0!"}},null,{"$f":"J51*'Цех и Администр расх'!$O$100%","v":0},"О",null,null,null,null,null,null,"5"]
["Инвентарь и материалы","тыс. руб.",null,null,null,null,null,0.7,0.7,null,{"$f":"I52*'Цех и Администр расх'!$N$100%","v":{"$error":"#DIV/0!"}},null,{"$f":"J52*'Цех и Администр расх'!$O$100%","v":0},"О",null,null,null,null,null,null,"6"]
["Канцтовары","тыс. руб.",null,null,null,null,null,21.26,21.26,null,{"$f":"I53*'Цех и Администр расх'!$N$100%","v":{"$error":"#DIV/0!"}},null,{"$f":"J53*'Цех и Администр расх'!$O$100%","v":0},"О",null,null,null,null,null,null,"7"]
["Кассовое обслуживание банка","тыс. руб.",null,null,null,null,null,11.03,11.03,null,{"$f":"I54*'Цех и Администр расх'!$N$100%","v":{"$error":"#DIV/0!"}},null,{"$f":"J54*'Цех и Администр расх'!$O$100%","v":0},"О",null,null,null,null,null,null,"8"]
["Лицезия КриптоПро","тыс. руб.",null,null,null,null,null,2.16,2.16,null,{"$f":"I55*'Цех и Администр расх'!$N$100%","v":{"$error":"#DIV/0!"}},null,{"$f":"J55*'Цех и Администр расх'!$O$100%","v":0},"О",null,null,null,null,null,null,"9"]
["Платежи по охране окруж среды ","тыс. руб.",null,null,null,null,null,1.18,1.18,null,{"$f":"I56*'Цех и Администр расх'!$N$100%","v":{"$error":"#DIV/0!"}},null,{"$f":"J56*'Цех и Администр расх'!$O$100%","v":0},"О",null,null,null,null,null,null,"10"]
["Обслуживание ККМ","тыс. руб.",null,null,null,null,null,18.25,18.25,null,{"$f":"I57*'Цех и Администр расх'!$N$100%","v":{"$error":"#DIV/0!"}},null,{"$f":"J57*'Цех и Администр расх'!$O$100%","v":0},"О",null,null,null,null,null,null,"11"]
["Обслуживание Программы Контур-Экстерн","тыс. руб.",null,null,null,null,null,6.5,6.5,null,{"$f":"I58*'Цех и Администр расх'!$N$100%","v":{"$error":"#DIV/0!"}},null,{"$f":"J58*'Цех и Администр расх'!$O$100%","v":0},"О",null,null,null,null,null,null,"12"]
["Ремонт компьютера и заправка канриджа","тыс. руб.",null,null,null,null,null,3.95,3.95,null,{"$f":"I59*'Цех и Администр расх'!$N$100%","v":{"$error":"#DIV/0!"}},null,{"$f":"J59*'Цех и Администр расх'!$O$100%","v":0},"О",null,null,null,null,null,null,"13"]
["Запчасти плуг","тыс. руб.",null,null,null,null,null,7.5,7.5,null,{"$f":"I60*'Цех и Администр расх'!$N$100%","v":{"$error":"#DIV/0!"}},null,{"$f":"J60*'Цех и Администр расх'!$O$100%","v":0},"О",null,null,null,null,null,null,"14"]
["Подключение к ЕИАС ","тыс. руб.",null,null,null,null,null,3.5,3.5,null,{"$f":"I61*'Цех и Администр расх'!$N$100%","v":{"$error":"#DIV/0!"}},null,{"$f":"J61*'Цех и Администр расх'!$O$100%","v":0},"О",null,null,null,null,null,null,"15"]
["Печатные издания","тыс. руб.",null,null,null,null,null,2.2200000000000002,2.2200000000000002,null,{"$f":"I62*'Цех и Администр расх'!$N$100%","v":{"$error":"#DIV/0!"}},null,{"$f":"J62*'Цех и Администр расх'!$O$100%","v":0},"О",null,null,null,null,null,null,"16"]
["Ремонт ОС шиномонтаж","тыс. руб.",null,null,null,null,null,1,1,null,{"$f":"I63*'Цех и Администр расх'!$N$100%","v":{"$error":"#DIV/0!"}},null,{"$f":"J63*'Цех и Администр расх'!$O$100%","v":0},"О",null,null,null,null,null,null,"17"]
["Строительные материалы","тыс. руб.",null,null,null,null,null,15.36,15.36,null,{"$f":"I64*'Цех и Администр расх'!$N$100%","v":{"$error":"#DIV/0!"}},null,{"$f":"J64*'Цех и Администр расх'!$O$100%","v":0},"О",null,null,null,null,null,null,"18"]
["Амортизация нематериальных активов","тыс. руб.",null,null,null,null,null,null,null,null,{"$f":"I65*'Цех и Администр расх'!$N$100%","v":{"$error":"#DIV/0!"}},null,{"$f":"J65*'Цех и Администр расх'!$O$100%","v":0},"О",null,null,null,null,null,null,"19"]
["Добавить "]
["ИТОГО расходов","тыс. руб.",{"$f":"C26+C33+C38+C39+C40+C41+C42","v":0},0,0,0,0,1675.7600000000002,1675.7599599999999,1008.5590599999999,{"$error":"#DIV/0!"},null,{"$f":"M26+M33+M38+M39+M40+M41+M42","v":424.39960444990885}]
[]
["Руководитель организации    ____________________________________"]
[]
["Ответственный за составление формы   ______________________________________"]
[null,null,"МП"]
[null,null,null,null,null,null,null,null,null,null,"Приложение Р"]
["База распределения цеховых расходов (сч. 25)"]
[null,null,null,null,null,null,null,null,null,null,null,null,null,null,null,null,null,null,"прямые расходы"]
["Наименование",null,null,null,"Ед. изм.",null,null,2014,null,"2014 факт РЭК",2015,2016,"2015 факт РЭК",2016,2016,null,null,null,"выручка"]
[null,null,null,null,null,null,null,"план ","факт",null,"утверждено РЭК","факт ОКК",null,"план","утверждено РЭК",null,null,null,"оплата труда "]
["База распределения цеховых расходов***",null,null,null,null,null,null,null,null,null,null,"выручка",null,null,"выручка",null,null,null,"иное"]
["База распределения,  всего",null,null,null,"тыс. руб. ",null,null,null,null,null,null,4338.42,4338.4210000000003,null,1008.55]
["Питьевая вода",null,null,null,"тыс. руб. ",null,null,null,null,null,null,1784.53,1784.5260000000001,null,424.4]
[null,null,null,null,"%",null,null,{"$f":"H80*100/H79","v":{"$error":"#DIV/0!"}},{"$f":"I80*100/I79","v":{"$error":"#DIV/0!"}},{"$error":"#DIV/0!"},{"$error":"#DIV/0!"},41.133177516238632,41.133075835655411,{"$error":"#DIV/0!"},42.08021416885628]
["Водоотведение",null,null,null,"тыс. руб. "]
[null,null,null,null,"%",null,null,{"$f":"H82*100/H79","v":{"$error":"#DIV/0!"}},{"$f":"I82*100/I79","v":{"$error":"#DIV/0!"}},{"$error":"#DIV/0!"},{"$error":"#DIV/0!"},0,0,{"$error":"#DIV/0!"},0]
["Теплоснабжение",null,null,null,"тыс. руб. "]
[null,null,null,null,"%",null,null,{"$f":"H84*100/H79","v":{"$error":"#DIV/0!"}},{"$f":"I84*100/I79","v":{"$error":"#DIV/0!"}},{"$error":"#DIV/0!"},{"$error":"#DIV/0!"},0,0,{"$error":"#DIV/0!"},0]
["Утилизация",null,null,null,"тыс. руб. "]
[null,null,null,null,"%",null,null,{"$f":"H86*100/H79","v":{"$error":"#DIV/0!"}},{"$f":"I86*100/I79","v":{"$error":"#DIV/0!"}},{"$error":"#DIV/0!"},{"$error":"#DIV/0!"},0,0,{"$error":"#DIV/0!"},0]
["Прочие виды деятельности",null,null,null,"тыс. руб. "]
[null,null,null,null,"%",null,null,{"$f":"H88*100/H79","v":{"$error":"#DIV/0!"}},{"$f":"I88*100/I79","v":{"$error":"#DIV/0!"}},{"$error":"#DIV/0!"},{"$error":"#DIV/0!"},0,0,{"$error":"#DIV/0!"},0]
[]
["*** в соответствии с учетной политикой"]
[]
["База распределения административных расходов (сч. 26)"]
[]
["Наименование",null,null,null,"Ед. изм.",null,null,2014,null,"2014 факт РЭК",2015,2016,"2016 факт РЭК",2016,2016]
[null,null,null,null,null,null,null,"план ","факт",null,"утверждено РЭК","факт ОКК",null,"план","утверждено РЭК"]
["База распределения административных расходов***",null,null,null,null,null,null,null,null,null,null,"выручка",null,null,"выручка"]
["База распределения,  всего",null,null,null,"тыс. руб. ",null,null,null,null,null,null,4338.42,4338.4210000000003,null,1008.56]
["Питьевая вода",null,null,null,"тыс. руб. ",null,null,null,null,null,null,1784.53,1784.5260000000001,null,424.4]
[null,null,null,null,"%",null,null,{"$f":"H99*100/H98","v":{"$error":"#DIV/0!"}},{"$f":"I99*100/I98","v":{"$error":"#DIV/0!"}},{"$error":"#DIV/0!"},{"$error":"#DIV/0!"},41.133177516238632,41.133075835655411,{"$error":"#DIV/0!"},42.079796938208936]
["Водоотведение",null,null,null,"тыс. руб. "]
[null,null,null,null,"%",null,null,{"$f":"H101*100/H98","v":{"$error":"#DIV/0!"}},{"$f":"I101*100/I98","v":{"$error":"#DIV/0!"}},{"$error":"#DIV/0!"},{"$error":"#DIV/0!"},0,0,{"$error":"#DIV/0!"},0]
["Теплоснабжение",null,null,null,"тыс. руб. "]
[null,null,null,null,"%",null,null,{"$f":"H103*100/H98","v":{"$error":"#DIV/0!"}},{"$f":"I103*100/I98","v":{"$error":"#DIV/0!"}},{"$error":"#DIV/0!"},{"$error":"#DIV/0!"},0,0,{"$error":"#DIV/0!"},0]
["Утилизация",null,null,null,"тыс. руб. "]
[null,null,null,null,"%",null,null,{"$f":"H105*100/H98","v":{"$error":"#DIV/0!"}},{"$f":"I105*100/I98","v":{"$error":"#DIV/0!"}},{"$error":"#DIV/0!"},{"$error":"#DIV/0!"},0,0,{"$error":"#DIV/0!"},0]
["Прочие виды деятельности",null,null,null,"тыс. руб. ",null,null,null,null,null,null,null,null,null,584.16]
[null,null,null,null,"%",null,null,{"$f":"H107*100/H98","v":{"$error":"#DIV/0!"}},{"$f":"I107*100/I98","v":{"$error":"#DIV/0!"}},{"$error":"#DIV/0!"},{"$error":"#DIV/0!"},0,0,{"$error":"#DIV/0!"},57.920203061791071]
[]
["*** в соответствии с учетной политикой"]
[]
["Руководитель организации    ____________________________________"]
[]
["Ответственный за составление формы   ______________________________________"]
[null,null,"МП"]

{"sheet":"Аренда, лизинг, концессия","index":24,"n_rows":27,"n_cols":15,"rows_kept":27,"cut":false,"hidden":false,"merged":[[21,0,21,6],[3,5,4,5],[3,7,3,8],[3,0,4,0],[5,1,5,14],[12,1,12,6],[20,1,20,6],[8,1,8,6],[17,1,17,14],[13,1,13,14],[9,1,9,14],[16,1,16,6],[0,10,0,14],[3,6,4,6],[3,4,4,4],[3,3,4,3],[3,2,4,2],[1,0,1,14],[3,9,4,9],[3,12,4,12],[3,1,4,1]]}
[null,null,null,null,null,null,null,null,null,null,"Приложение С"]
["Расходы по аренде, лизингу и концессионной плате на объекты водопроводно-канализационного хозяйства"]
[]
["№ п/п","Наименование","Арендодатель","№ и дата договора","Срок действия договора","ед. изм. ","Сумма договора в год (или на период действия договора)",2014,null,"2014 факт РЭК",2015,2016,"2015 факт РЭК",2016,2016]
[null,null,null,null,null,null,null,"план","факт",null,"утверждено РЭК","факт ОКК",null,"план","утверждено РЭК"]
[1,"Аренда имущества"]
["1.1",null,null,null,null,"тыс. руб."]
[null,"Добавить "]
[null,"Итого",null,null,null,null,null,{"$f":"SUM(H7:H8)","v":0},0,0,0,0,0,0,0]
[2,"Концессионная плата"]
["2.1",null,null,null,null,"тыс. руб."]
[null,"Добавить "]
[null,"Итого",null,null,null,null,null,{"$f":"SUM(H11:H12)","v":0},0,0,0,0,0,0,0]
[3,"Лизинговые платежи"]
["3.1",null,null,null,null,"тыс. руб."]
[null,"Добавить "]
[null,"Итого",null,null,null,null,null,{"$f":"SUM(H15:H16)","v":0},0,0,0,0,0,0,0]
["4","Аренда земельных участков"]
["4.1",null,null,null,null,"тыс. руб."]
[null,"Добавить "]
["5","Итого",null,null,null,null,null,{"$f":"SUM(H19:H20)","v":0},0,0,0,0,0,0,0]
["ВСЕГО",null,null,null,null,null,null,{"$f":"H9+H13+H17+H21","v":0},0,0,0,0,0,0,0]
[]
["Руководитель организации    ____________________________________"]
[]
["Ответственный за составление формы   ______________________________________"]
[null,null,"МП"]

{"sheet":"Нормативная прибыль","index":25,"n_rows":21,"n_cols":13,"rows_kept":21,"cut":false,"hidden":false,"merged":[[19,0,19,10],[10,1,11,1],[0,6,0,10],[1,0,1,10],[3,0,4,0],[3,1,4,1],[3,2,4,2],[3,3,3,4],[3,8,4,8],[10,0,11,0],[12,0,13,0],[12,1,13,1],[3,5,4,5],[17,0,17,10]]}
[null,null,null,null,null,null,"Приложение Т"]
["Расчет нормативной прибыли"]
[]
["№ п/п","Наименование","Ед. изм.",2014,null,"2014 факт РЭК",2015,2016,"2016 факт РЭК",2016,2016]
[null,null,null,"план","факт",null,"утверждено РЭК","факт ОКК",null,"план","утверждено РЭК"]
[1,2,3,4,5,"5*",6,7,"7*",8,"8*"]
[1,"Средства на возврат займов и кредитов ","тыс. руб.",null,null,null,null,null,null,null,null,null,"для реализации инвестиционной программы и пополнения оборотных средств"]
[2,"Средства на уплату процентов","тыс. руб."]
[3,"Расходы на капитальные вложения","тыс. руб.",null,null,null,null,null,null,null,null,null,"на основании инвестиционных программ"]
[4,"Расходы на социальные нужды, предусмотренные коллективными договорами, в соответствии с подпунктом 3 пункта 31 Методических указаний","тыс. руб.",null,null,null,null,null,null,null,null,null,"по кол. Договору"]
[5,"Величина нормативной прибыли, определенная в соответствии с пунктом 31 настоящих Методических указаний","тыс. руб.",{"$f":"SUM(D7:D10)","v":0},0,0,0,0,0,0,0]
[null,null,"%",{"$f":"D11*100/'Смета расходов'!D87","v":{"$error":"#DIV/0!"}},{"$f":"E11*100/'Смета расходов'!E87","v":{"$error":"#DIV/0!"}},{"$f":"F11*100/'Смета расходов'!F87","v":{"$error":"#DIV/0!"}},{"$f":"G11*100/'Смета расходов'!H87","v":{"$error":"#DIV/0!"}},{"$f":"H11*100/'Смета расходов'!I87","v":{"$error":"#DIV/0!"}},{"$f":"I11*100/'Смета расходов'!J87","v":{"$error":"#DIV/0!"}},{"$f":"J11*100/'Смета расходов'!K87","v":{"$error":"#DIV/0!"}},{"$f":"K11*100/'Смета расходов'!L87","v":0},null,"не более 7% от НВВ"]
[6,"Расчетная предпринимательская прибыль гарантирующей организации","тыс. руб."]
[null,null,"%",{"$f":"D13*100/'Смета расходов'!D87","v":{"$error":"#DIV/0!"}},{"$f":"E13*100/'Смета расходов'!E87","v":{"$error":"#DIV/0!"}},{"$f":"F13*100/'Смета расходов'!F87","v":{"$error":"#DIV/0!"}},{"$f":"G13*100/'Смета расходов'!H87","v":{"$error":"#DIV/0!"}},{"$f":"H13*100/'Смета расходов'!I87","v":{"$error":"#DIV/0!"}},{"$f":"I13*100/'Смета расходов'!J87","v":{"$error":"#DIV/0!"}},{"$f":"J13*100/'Смета расходов'!K87","v":{"$error":"#DIV/0!"}},{"$f":"K13*100/'Смета расходов'!L87","v":0},null,0.05]
[7,"Фактическая прибыль / убыток","тыс. руб.",null,null,null,null,0,{"$f":"'Смета расходов'!N101-'Смета расходов'!N87","v":-1055.727789838603}]
[null,"ИТОГО","тыс. руб.",{"$f":"D11+D13+D15","v":0},{"$f":"E11+E13+E15","v":0},0,0,0,-1055.727789838603,0,0]
[]
["Руководитель организации    ____________________________________"]
[]
["Ответственный за составление формы   ______________________________________"]
[null,null,"МП"]

{"sheet":"Охр.труда и Авто","index":26,"n_rows":35,"n_cols":11,"rows_kept":35,"cut":false,"hidden":false,"merged":[[0,6,0,10],[1,0,1,10],[3,0,4,0],[3,1,4,1],[3,2,4,2],[3,3,3,4],[3,8,4,8],[3,5,4,5],[33,0,33,10],[17,0,17,10],[19,0,20,0],[19,1,20,1],[19,2,20,2],[19,8,20,8],[31,0,31,10],[19,3,19,4],[19,5,20,5]]}
[null,null,null,null,null,null,"Приложение Ф "]
["Охрана труда основного производственного персонала"]
[]
["№ п/п","Наименование","Ед. изм.",2014,null,"2014 факт РЭК",2015,2016,"2016 факт РЭК",2016,2016]
[null,null,null,"план","факт",null,"утверждено РЭК","факт ОКК",null,"план","утверждено РЭК"]
[1,2,3,4,5,"5*",6,7,"7*",8,"8*"]
[1,"спец. одежда ","тыс. руб.",null,null,null,null,2.21,2.21,null,21.55]
[2,"молоко","тыс. руб."]
[3,"средства гигиены","тыс. руб.",null,null,null,null,0.14000000000000001,0.14000000000000001]
[4,"аттестация рабочих мест","тыс. руб."]
[5,"иное","тыс. руб."]
[null,"Добавить "]
[null,"ИТОГО","тыс. руб.",{"$f":"SUM(D7:D12)","v":0},0,0,0,2.35,2.35,0,21.55]
[null,null,null," "]
[]
["приложить расчет по каждому наименованию расходов, копии договоров и обоснование плановых цен"]
[]
["Расходы на эксплуатацию, техническое обслуживание и ремонт автотранспорта"]
[]
["№ п/п","Наименование","Ед. изм.",2014,null,"2014 факт РЭК",2015,2016,"2016 факт РЭК",2016,2016]
[null,null,null,"план","факт",null,"утверждено РЭК","факт ОКК",null,"план","утверждено РЭК"]
[1,2,3,4,5,"5*",6,7,"7*",8,"8*"]
[1,"ОСАГО","тыс. руб."]
[2,"ремонт и ТО","тыс. руб."]
[3,"мойка","тыс. руб."]
[4,"аптечка","тыс. руб."]
[5,"огнетушитель","тыс. руб."]
[6,"иное","тыс. руб."]
[null,"Добавить "]
[null,"ИТОГО","тыс. руб.",{"$f":"SUM(D23:D29)","v":0},0,0,0,0,0,0,0]
[]
["Руководитель организации    ____________________________________"]
[]
["Ответственный за составление формы   ______________________________________"]
[null,null,"МП"]

{"sheet":"Налоги","index":27,"n_rows":19,"n_cols":12,"rows_kept":19,"cut":false,"hidden":false,"merged":[[3,8,4,8],[15,0,15,10],[17,0,17,10],[0,6,0,10],[1,0,1,10],[3,0,4,0],[3,1,4,1],[3,2,4,2],[3,3,3,4],[3,5,4,5]]}
[null,null,null,null,null,null,"Приложение Х"]
["Расходы, связанные с уплатой налогов и сборов"]
[]
["№ п/п","Наименование","Ед. изм.",2014,null,"2014 факт РЭК",2015,2016,"2016 факт РЭК",2016,2016]
[null,null,null,"план","факт",null,"утверждено РЭК","факт ОКК",null,"план","утверждено РЭК"]
[1,2,3,4,5,"5*",6,7,"7*",8,"8*"]
[1,"Налог на прибыль","тыс. руб."]
[2,"Налог на имущество организаций","тыс. руб."]
[3,"Плата за негативное воздействие на окружающую среду","тыс. руб."]
[4,"Водный налог и плата за пользование водным объектом","тыс. руб.",null,null,null,null,32.19,16.129000000000001,null,41.34,"д.б."]
[5,"Земельный налог","тыс. руб."]
[6,"Транспортный налог","тыс. руб."]
[7,"Прочие налоги и сборы, за исключением налогов и сборов с ФОТ, учитываемых в составе производственных, ремонтных и административных расходов","тыс. руб."]
[null,"ИТОГО","тыс. руб.",{"$f":"SUM(D7:D13)","v":0},{"$f":"SUM(E7:E13)","v":0},0,0,32.19,16.129000000000001,0,41.34]
[]
["Руководитель организации    ____________________________________"]
[]
["Ответственный за составление формы   ______________________________________"]
[null,null,"МП"]

{"sheet":"Динамика","index":28,"n_rows":39,"n_cols":21,"rows_kept":39,"cut":false,"hidden":false,"merged":[[13,11,13,12],[13,13,14,13],[13,15,14,15],[16,0,16,2],[11,0,11,16],[13,3,14,3],[13,4,13,5],[13,6,13,7],[13,8,13,9],[15,0,15,2],[13,0,14,2],[17,0,17,2],[18,0,18,2],[22,1,22,3],[22,4,22,6],[13,10,14,10],[22,7,22,9],[33,0,33,15],[35,0,35,15],[31,0,31,9],[38,0,38,9],[20,0,20,9],[0,11,0,15],[5,0,5,2],[6,0,6,2],[7,0,7,2],[8,0,8,2],[3,15,4,15],[1,0,1,16],[3,6,3,7],[3,4,3,5],[3,0,4,2],[3,3,4,3],[3,8,3,9],[3,10,4,10],[3,11,3,12],[3,13,4,13]]}
[null,null,null,null,null,null,null,null,null,null,null,"Приложение Ц"]
["Динамика финансовых потребностей и фактических расходов по услугам холодного водоснабжения"]
[]
["Показатели",null,null,"Ед. изм.",2013,null,2014,null,2015,null,"2014 факт РЭК",2016,null,"2016 факт РЭК",2016,"2017 план РЭК"]
[null,null,null,null,"план РЭК","факт ОКК","план РЭК","факт ОКК","план РЭК","факт ОКК",null,"план РЭК","факт ОКК",null,"план ОКК"]
["Финансовые потребности (НВВ)",null,null,"тыс. руб.",1767.33,2591.6799999999998,2241.09,2144.89,2376.4,2807.35,null,2773.51,3467.97,null,null,2773.51]
["Реализация (по отгрузке)",null,null,"тыс. куб. м.",91.69,59.89,108.87,71.569999999999993,108.46,71.260000000000005,null,119.45,77.13,null,null,119.45]
["Тариф без НДС (среднегодовой)",null,null,"руб./куб.м.",{"$f":"E6/E7","v":19.275057258152469},{"$f":"E8","v":19.275057258152469},{"$f":"G6/G7","v":20.585009644530174},{"$f":"G8","v":20.585009644530174},21.910381707541951,{"$f":"I8","v":21.910381707541951},{"$error":"#DIV/0!"},23.219003767266639,{"$f":"L8","v":23.219003767266639},{"$error":"#DIV/0!"},{"$error":"#DIV/0!"},23.219003767266639]
["Фактическая себестоимость",null,null,"руб./куб.м.",null,{"$f":"F6/F7","v":43.274002337618967},null,{"$f":"H6/H7","v":29.969121140142519},null,{"$f":"J6/J7","v":39.395874263261291},null,null,{"$f":"M6/M7","v":44.962660443407238}]
[]
[]
["Динамика финансовых потребностей и фактических расходов по услугам водоотведения"]
[]
["Показатели",null,null,"Ед. изм.",2013,null,2014,null,2015,null,"2014 факт РЭК",2016,null,"2015 факт РЭК",2016,"2017 план РЭК"]
[null,null,null,null,"план РЭК","факт ОКК","план РЭК","факт ОКК","план РЭК","факт ОКК",null,"план РЭК","факт ОКК",null,"план"]
["Финансовые потребности (НВВ)",null,null,"тыс. руб."]
["Реализация (по отгрузке)",null,null,"тыс. куб. м."]
["Тариф без НДС (среднегодовой)",null,null,"руб./куб.м.",{"$f":"E16/E17","v":{"$error":"#DIV/0!"}},{"$f":"E18","v":{"$error":"#DIV/0!"}},{"$f":"G16/G17","v":{"$error":"#DIV/0!"}},{"$f":"G18","v":{"$error":"#DIV/0!"}},{"$error":"#DIV/0!"},{"$f":"I18","v":{"$error":"#DIV/0!"}},{"$error":"#DIV/0!"},{"$error":"#DIV/0!"},{"$f":"L18","v":{"$error":"#DIV/0!"}},{"$error":"#DIV/0!"},{"$error":"#DIV/0!"},{"$error":"#DIV/0!"}]
["Фактическая себестоимость",null,null,"руб./куб.м.",null,{"$f":"F16/F17","v":{"$error":"#DIV/0!"}},null,{"$f":"H16/H17","v":{"$error":"#DIV/0!"}},null,{"$f":"J16/J17","v":{"$error":"#DIV/0!"}},null,null,{"$f":"M16/M17","v":{"$error":"#DIV/0!"}}]
[]
["Динамика полученной выручки и расходов "]
[]
[null,2014,null,null,2015,null,null,2016]
[null,"Выручка","Расходы","Фин. результат","Выручка","Расходы","Фин. результат","Выручка","Расходы","Фин. результат"]
["Всего по предприятию*, в том числе:",{"$f":"SUM(B26:B30)","v":3650.86},3585.6099999999997,65.259999999999991,4047.4700000000003,4024.9599999999996,22.509999999999962,4962.42,4956.7,5.7200000000000273]
["холодное водоснабжение",1477.47,2144.89,-667.42,1563.92,2807.35,-1243.43,1784.53,3467.97,-1683.44]
["Услуги",2033.39,1364.72,668.68,2107.5500000000002,1148.05,959.5,2553.89,1314.73,1239.1600000000001]
["Доходы и расходы",140,76,64,376,32.9,343.1,624,131,493,"О",null,null,null,null,null,null,null,null,null,"1"]
["прочие (расшифровать)",null,null,null,null,36.659999999999997,-36.659999999999997,null,43,-43,"О",null,null,null,null,null,null,null,null,null,"2"]
["Добавить "]
[]
["* показатели должны быть равны данным из приложения к балансу форма 2 с учетом прочих доходов"]
[]
["Руководитель организации    ____________________________________"]
[]
["Ответственный за составление формы   ______________________________________"]
[null,null,"МП"]
[]
["Необходимо представить все подтверждающие бухгалтерские регистры по счетам 20, 23, 25, 26, 29, 62, 90, 91"]

{"sheet":"Отчет по исп ПП","index":29,"n_rows":123,"n_cols":10,"rows_kept":123,"cut":false,"hidden":false,"merged":[[121,0,121,8],[61,0,61,8],[63,0,63,8],[0,6,0,8],[66,0,66,8],[68,0,69,0],[68,1,69,1],[68,2,69,2],[3,7,3,8],[3,5,3,6],[1,0,1,8],[68,3,68,4],[68,7,68,8],[3,0,4,0],[3,2,4,2],[65,6,65,8],[3,1,4,1],[3,3,3,4],[68,5,68,6],[119,0,119,8]]}
[null,null,null,null,null,null,"Приложение Ч"]
["Отчет по исполнению производственной программы"]
[]
["№ п/п","Наименование расходов с указанием адреса проведенных мероприятий, объема работ","ед. изм.",2013,null,2014,null,2015]
[null,null,null,"план","факт","план","факт","план","факт"]
[1,2,3,4,5,6,7,8,9]
["А","За счет ремонтного фонда"]
[1,"Перечень плановых мероприятий по ремонту объектов централизованной системы водоснабжения, мероприятий, направленных на улучшение качества питьевой воды"]
["1.1","Замена трубопровода по ул. Южной хут. Бейсужек Второй 3100м ДУ100мм","тыс. руб.",null,null,null,null,652,0]
["1.2","Ремонт водопроводной сети по ул. Октябрьской  хут. Бейсужек Второй1380м ДУ100мм",null,null,null,null,null,null,null,"О"]
["1.3","Замена2 насосов ЭЦВ 6-16-140",null,null,null,null,null,null,null,"О"]
["1.4","Установка станции управления глубинными насосами ШУН 075-15",null,null,null,null,null,null,null,"О"]
["1.5","Ремонт водопроводной сети  протяженностью1030м ДУ 100мм по ул. Южной  от 110 до 156 дома хут Бейсужек Второй",null,null,null,null,null,null,null,"О"]
["1.6","Мероприятия по ликвидации аварий и иных технологических повреждений объектов централизованной системы водоснабжения",null,null,null,null,null,0,223.34,"О"]
["1.7","Реконструкция сетей водоснабжения (монтаж колодца по ул. Степной",null,null,null,null,null,0,44.2,"О"]
["1.8","Замена водопровода по ул. Степной3200м",null,184.37,176.02,null,null,null,null,"О"]
["1.9","Мероприятия по ликвидации аварий и иных технологических повреждений объектов централизованной системы водоснабжения",null,null,null,28.21,107.99,null,null,"О"]
["1.10","Замена водопровода по ул. Восточной1400м",null,null,null,null,273.82,null,null,"О"]
["1.11","Замена водопровода по ул. Октябрьской 1104мм",null,null,null,null,85.9,null,null,"О"]
["1.12","Покупка насосоного оборудования",null,null,null,105.6,0,{"$f":"SUM(H9:H19)","v":652},{"$f":"SUM(I9:I19)","v":267.54000000000002},"О"]
["1.13","Преобразователь частоты",null,null,null,214.88,0,null,null,"О"]
["1.14","Итого",null,null,null,{"$f":"SUM(F9:F21)","v":348.69},{"$f":"SUM(G9:G21)","v":467.71000000000004},null,null,"О"]
[null,"Добавить "]
[2,"Перечень плановых мероприятий по энергосбережению и повышению энергетической эффективности, в том числе снижению потерь воды при транспортировке"]
["2.1","наимаенование ","тыс. руб."]
[null,"Добавить "]
[3,"Мероприятия, направленные на повышение качества обслуживания абонентов"]
["3.1","наимаенование ","тыс. руб."]
[null,"Добавить "]
["Б","За счет амортизации"]
[1,"Перечень плановых мероприятий по ремонту объектов централизованной системы водоснабжения, мероприятий, направленных на улучшение качества питьевой воды"]
["1.1","наимаенование ","тыс. руб."]
[null,"Добавить "]
[2,"Перечень плановых мероприятий по энергосбережению и повышению энергетической эффективности, в том числе снижению потерь воды при транспортировке"]
["2.1","наимаенование ","тыс. руб."]
[null,"Добавить "]
[3,"Мероприятия, направленные на повышение качества обслуживания абонентов"]
["3.1","наимаенование ","тыс. руб."]
[null,"Добавить "]
["В","За счет прибыли"]
[1,"Перечень плановых мероприятий по ремонту объектов централизованной системы водоснабжения, мероприятий, направленных на улучшение качества питьевой воды"]
["1.1","наимаенование ","тыс. руб."]
["1.2","наимаенование ",null,null,null,null,null,null,null,"О"]
[null,"Добавить "]
[2,"Перечень плановых мероприятий по энергосбережению и повышению энергетической эффективности, в том числе снижению потерь воды при транспортировке"]
["2.1","наимаенование ","тыс. руб."]
[]
[3,"Мероприятия, направленные на повышение качества обслуживания абонентов"]
["3.1","наимаенование ","тыс. руб."]
[null,"Добавить "]
["Г","За счет иных источников финансирования (бюджет и др.)"]
[1,"Перечень плановых мероприятий по ремонту объектов централизованной системы водоснабжения, мероприятий, направленных на улучшение качества питьевой воды"]
["1.1","наимаенование ","тыс. руб."]
[null,"Добавить "]
[2,"Перечень плановых мероприятий по энергосбережению и повышению энергетической эффективности, в том числе снижению потерь воды при транспортировке"]
["2.1","наимаенование ","тыс. руб."]
[null,"Добавить "]
[3,"Мероприятия, направленные на повышение качества обслуживания абонентов"]
["3.1","наимаенование ","тыс. руб."]
[null,"Добавить "]
[]
["Руководитель организации    ____________________________________"]
[]
["Ответственный за составление формы   ______________________________________"]
[null,null,"МП"]
[null,null,null,null,null,null,"Приложение Ш"]
["План мероприятий, включаемый в производственную программу на 2016-2018"]
[]
["№ п/п","Наименование расходов с указанием адреса проведенных мероприятий, объема работ","утверждено на 2015 год, тыс. руб.",2016,null,2017,null,2018]
[null,null,null,"финансовые потребности (тыс. руб.)","График реализации мероприятий (период)","финансовые потребности (тыс. руб.)","График реализации мероприятий (период)","финансовые потребности (тыс. руб.)","График реализации мероприятий (период)"]
[1,2,3,4,5,6,7,8,9]
["А","За счет ремонтного фонда"]
[1,"Перечень плановых мероприятий по ремонту объектов централизованной системы водоснабжения, мероприятий, направленных на улучшение качества питьевой воды"]
["1.1","Ремонт водопроводной сети протяженностью  1030м, ДУ100мм по ул. Южная от 23до 45 и от91 до 117 домовхут. Бейсужек Второй",null,null,null,469.42,"2017г"]
["1.2","Ремонт водопроводной сети протяженностью  1180м, ДУ100мм по ул. Южная от 110 до 156 дома хут. Бейсужек Второй",null,null,null,null,null,533.63,"2018г","О"]
["1.3","Мероприятия по ликвидации аварий и иных технологических повреждений объектов централизованной системы водоснабжения",null,null,null,393.56,"2017г",370.28,"2018г","О"]
["1.4","Замена трубопровода по ул. Южной хут. Бейсужек Второй 3100м ДУ100мм",652,null,null,null,null,null,null,"О"]
["1.5","Ремонт водопроводной сети по ул. Октябрьской  хут. Бейсужек Второй1360м ДУ100мм",null,581.85,2016,null,null,null,null,"О"]
["1.6","Замена двух насосов ЭЦВ 6-16--140",null,87.31,2016,null,null,null,null,"О"]
["1.7","Установления станции управления глубинным насосом ШУН 075-15",null,142.47999999999999,2016,null,null,null,null,"О"]
["1.8","ИТОГО",null,{"$f":"SUM(D78:D80)","v":811.6400000000001},null,{"$f":"SUM(F74:F80)","v":862.98},null,{"$f":"SUM(H74:H80)","v":903.91},null,"О"]
[null,"Добавить "]
[2,"Перечень плановых мероприятий по энергосбережению и повышению энергетической эффективности, в том числе снижению потерь воды при транспортировке"]
["2.1"]
[null,"Добавить "]
[3,"Мероприятия, направленные на повышение качества обслуживания абонентов"]
["3.1","наимаенование ",null,null,0]
[null,"Добавить "]
["Б","За счет амортизации"]
[1,"Перечень плановых мероприятий по ремонту объектов централизованной системы водоснабжения, мероприятий, направленных на улучшение качества питьевой воды"]
["1.1","наимаенование "]
[null,"Добавить "]
[2,"Перечень плановых мероприятий по энергосбережению и повышению энергетической эффективности, в том числе снижению потерь воды при транспортировке"]
["2.1","наимаенование "]
[null,"Добавить "]
[3,"Мероприятия, направленные на повышение качества обслуживания абонентов"]
["3.1","наимаенование "]
[null,"Добавить "]
["В","За счет прибыли"]
[1,"Перечень плановых мероприятий по ремонту объектов централизованной системы водоснабжения, мероприятий, направленных на улучшение качества питьевой воды"]
["1.1","наимаенование "]
[null,"Добавить "]
[2,"Перечень плановых мероприятий по энергосбережению и повышению энергетической эффективности, в том числе снижению потерь воды при транспортировке"]
["2.1","наимаенование "]
[null,"Добавить "]
[3,"Мероприятия, направленные на повышение качества обслуживания абонентов"]
["3.1","наимаенование "]
[null,"Добавить "]
["Г","За счет иных источников финансирования (бюджет и др.)"]
[1,"Перечень плановых мероприятий по ремонту объектов централизованной системы водоснабжения, мероприятий, направленных на улучшение качества питьевой воды"]
["1.1","наимаенование "]
[null,"Добавить "]
[2,"Перечень плановых мероприятий по энергосбережению и повышению энергетической эффективности, в том числе снижению потерь воды при транспортировке"]
["2.1","наимаенование "]
[null,"Добавить "]
[3,"Мероприятия, направленные на повышение качества обслуживания абонентов"]
["3.1","наимаенование "]
[null,"Добавить "]
[]
["Руководитель организации    ____________________________________"]
[]
["Ответственный за составление формы   ______________________________________"]
[null,null,"МП"]

{"sheet":"Расходы на ремонт и ТО","index":30,"n_rows":75,"n_cols":12,"rows_kept":75,"cut":false,"hidden":false,"merged":[[3,8,4,8],[71,0,71,10],[73,0,73,10],[0,6,0,10],[1,0,1,10],[3,0,4,0],[3,1,4,1],[3,2,4,2],[3,3,3,4],[3,5,4,5]]}
[null,null,null,null,null,null,"Приложение Щ"]
["Расчет расходов по ремонту и техническому обслуживанию, учтенных при расчете тарифа на холодную воду на 2016 год"]
[]
["№ п/п","Наименование расходов с указанием адреса проведенных мероприятий, объема работ","подрядчик/хозспособ",2014,null,"2014 факт РЭК",2015,2016,"2016 факт РЭК",2016,2016]
[null,null,null,"план","факт",null,"утверждено РЭК","факт ОКК",null,"план","утверждено РЭК"]
[1,2,3,4,5,"5*",6,7,"7*",8,"8*"]
[null,"АВР","хозспособ",null,null,null,163.18,82.74,null,null,393.56]
[null,"Текущий ремонт, в том числе"]
[1,"Перечень плановых мероприятий по ремонту объектов централизованной системы водоснабжения, мероприятий, направленных на улучшение качества питьевой воды"]
["1.1","Ремонт водопроводной сети по ул. Октябрьской  хут. Бейсужек Второй1360м ДУ100мм","хозспособ",null,null,null,652,0,null,null,581.85]
["1.2","Замена2 насосов ЭЦВ 6-16-140","хозспособ",null,null,null,null,51.75,null,null,87.31,"О"]
["1.3","Установка станции управления глубинными насосами ШУН 075-15","хозспособ",null,null,null,null,0,null,null,142.47999999999999,"О"]
["1.4","ИТОГОпо текущему ремонту","хозспособ",null,null,null,null,{"$f":"SUM(H10:H12)","v":51.75},null,null,{"$f":"SUM(K10:K12)","v":811.6400000000001},"О"]
[null,"Добавить "]
[2,"Перечень плановых мероприятий по энергосбережению и повышению энергетической эффективности, в том числе снижению потерь воды при транспортировке"]
["2.1"]
[null,"Добавить "]
[3,"Мероприятия, направленные на повышение качества обслуживания абонентов"]
["3.1","наимаенование "]
[null,"Добавить "]
[null,"Капитальный ремонт, в том числе"]
[1,"Перечень плановых мероприятий по ремонту объектов централизованной системы водоснабжения, мероприятий, направленных на улучшение качества питьевой воды"]
["1.1","наимаенование "]
[null,"Добавить "]
[2,"Перечень плановых мероприятий по энергосбережению и повышению энергетической эффективности, в том числе снижению потерь воды при транспортировке"]
["2.1","наимаенование "]
[null,"Добавить "]
[3,"Мероприятия, направленные на повышение качества обслуживания абонентов"]
["3.1","наимаенование "]
[null,"Добавить "]
[null,"Мероприятия по программе энергосбережения, в том числе"]
[1,"Перечень плановых мероприятий по ремонту объектов централизованной системы водоснабжения, мероприятий, направленных на улучшение качества питьевой воды"]
["1.1","наимаенование "]
[null,"Добавить "]
[2,"Перечень плановых мероприятий по энергосбережению и повышению энергетической эффективности, в том числе снижению потерь воды при транспортировке"]
["2.1","наимаенование "]
[null,"Добавить "]
[3,"Мероприятия, направленные на повышение качества обслуживания абонентов"]
["3.1","наимаенование "]
[null,"Добавить "]
[null,"Мероприятия за счет бюджетных средств, в том числе"]
[1,"Перечень плановых мероприятий по ремонту объектов централизованной системы водоснабжения, мероприятий, направленных на улучшение качества питьевой воды"]
["1.1","наимаенование "]
[null,"Добавить "]
[2,"Перечень плановых мероприятий по энергосбережению и повышению энергетической эффективности, в том числе снижению потерь воды при транспортировке"]
["2.1","наимаенование "]
[null,"Добавить "]
[3,"Мероприятия, направленные на повышение качества обслуживания абонентов"]
["3.1","наимаенование "]
[null,"Добавить "]
[null,"Мероприятия за счет амортизации, в том числе"]
[1,"Перечень плановых мероприятий по ремонту объектов централизованной системы водоснабжения, мероприятий, направленных на улучшение качества питьевой воды"]
["1.1","наимаенование "]
[null,"Добавить "]
[2,"Перечень плановых мероприятий по энергосбережению и повышению энергетической эффективности, в том числе снижению потерь воды при транспортировке"]
["2.1","наимаенование "]
[null,"Добавить "]
[3,"Мероприятия, направленные на повышение качества обслуживания абонентов"]
["3.1","наимаенование "]
[null,"Добавить "]
[null,"Мероприятия за счет прибыли, в том числе"]
[1,"Перечень плановых мероприятий по ремонту объектов централизованной системы водоснабжения, мероприятий, направленных на улучшение качества питьевой воды"]
["1.1","наимаенование "]
[null,"Добавить "]
[2,"Перечень плановых мероприятий по энергосбережению и повышению энергетической эффективности, в том числе снижению потерь воды при транспортировке"]
["2.1","наимаенование "]
[null,"Добавить "]
[3,"Мероприятия, направленные на повышение качества обслуживания абонентов"]
["3.1","наимаенование "]
[null,"Добавить "]
[]
["Руководитель организации    ____________________________________"]
[]
["Ответственный за составление формы   ______________________________________"]
[null,null,"МП"]

{"sheet":"Сомнительные долги","index":31,"n_rows":13,"n_cols":4,"rows_kept":13,"cut":false,"hidden":false,"merged":[[6,0,7,0],[9,0,9,3],[11,0,11,3],[0,1,0,3],[2,0,2,3],[3,0,4,0],[3,1,4,1],[3,2,4,2],[3,3,4,3]]}
[null,"Приложение Э "]
[]
["Сбытовые расходы гарантирующих организаций (расходы по сомнительным долгам)"]
[null,"ед.изм.","По данным ОКК","По данным РЭК"]
[]
["Объем валовой выручки от реализации населению по регулиремому виду деятельности  по факту 2016 года","тыс.руб.",1461.48]
["Резерв по сомнительным долгам  на 2018 год (не более 2%)","%"]
[null,"тыс.руб.",{"$f":"C6*C7%","v":0},{"$f":"D6*D7%","v":0}]
[]
["Руководитель организации    ____________________________________"]
[]
["Ответственный за составление формы   ______________________________________"]
[null,"МП"]

{"sheet":"Штатка","index":32,"n_rows":41,"n_cols":11,"rows_kept":41,"cut":false,"hidden":true,"merged":[]}
["на 2016",null,null,null,7501.42,null,null,0.4]
[null,"числ","числ","коэф","оклад",null,"надбавки","премия ","в мес/чел","итого в мес","итого в год"]
["ОПП ВС"]
[]
[]
[]
[]
[]
[]
[]
["итого",{"$f":"SUM(B4:B10)","v":0},{"$f":"SUM(C4:C10)","v":0},null,null,null,null,null,null,{"$f":"SUM(J4:J10)","v":0},{"$f":"SUM(K4:K10)","v":0}]
["ОПП ВО"]
[]
[]
[]
[]
[]
[]
[]
["итого",{"$f":"SUM(B13:B19)","v":0},{"$f":"SUM(C13:C19)","v":0},null,null,null,null,null,null,{"$f":"SUM(J13:J19)","v":0},{"$f":"SUM(K13:K19)","v":0}]
["АУП"]
[]
[]
[]
[]
[]
[]
["итого",{"$f":"SUM(B22:B27)","v":0},{"$f":"SUM(C22:C27)","v":0},null,null,null,null,null,null,{"$f":"SUM(J22:J27)","v":0},{"$f":"SUM(K22:K27)","v":0}]
[]
["Цех"]
[]
[]
[]
[]
[]
[]
["итого",{"$f":"SUM(B31:B36)","v":0},{"$f":"SUM(C31:C36)","v":0},null,null,null,null,null,null,{"$f":"SUM(J31:J36)","v":0},{"$f":"SUM(K31:K36)","v":0}]
[]
[]
["на 2015"]
[null,null,"кол-во","коэф","ставка","ночные","премия","премия","итого в месяц","итого в год"]

{"sheet":"Объекты","index":33,"n_rows":10,"n_cols":14,"rows_kept":10,"cut":false,"hidden":true,"merged":[]}
[null,"объекты ВКХ","право использования","реквизиты","собственник имущества","период","арендная плата в год, тыс. руб.","в год с учетом НДС",null,"примечания"]
[]
[]
[]
[]
[null,"объекты"]
[]
[]
[]
[null,"автомобили ","гос. номер","право использования","год изготовления ТС","цвет","мощность двигателя, л.с.","объем двигателя, куб. см","вид топлива","собственник","ПТС/ПСМ","св-во о рег ТС","Участок закрепления","Примечание"]

{"sheet":"Лист1","index":34,"n_rows":0,"n_cols":0,"rows_kept":0,"cut":false,"hidden":false,"merged":[]}